From mboxrd@z Thu Jan 1 00:00:00 1970 Return-Path: Received: from mails.dpdk.org (mails.dpdk.org [217.70.189.124]) by inbox.dpdk.org (Postfix) with ESMTP id 8AA8246180 for ; Mon, 3 Feb 2025 10:05:56 +0100 (CET) Received: from mails.dpdk.org (localhost [127.0.0.1]) by mails.dpdk.org (Postfix) with ESMTP id 84EC7402E1; Mon, 3 Feb 2025 10:05:56 +0100 (CET) Received: from mail-qk1-f225.google.com (mail-qk1-f225.google.com [209.85.222.225]) by mails.dpdk.org (Postfix) with ESMTP id E003E40264 for ; Mon, 3 Feb 2025 10:05:55 +0100 (CET) Received: by mail-qk1-f225.google.com with SMTP id af79cd13be357-7be44a90468so503515285a.3 for ; Mon, 03 Feb 2025 01:05:55 -0800 (PST) DKIM-Signature: v=1; a=rsa-sha256; c=relaxed/relaxed; d=iol.unh.edu; s=unh-iol; t=1738573555; x=1739178355; darn=dpdk.org; h=cc:to:from:subject:message-id:date:from:to:cc:subject:date :message-id:reply-to; bh=DeP3hiCEfGe2EHGzaUwIlHyWiwAQyXk7W43X8wT/DGQ=; b=WZ6F07gThcDL4CibpeKH/JZ/ybM/byZCDd79hQvBd+Q15KM42sVELWMlXzGIaN/Sgu 3/0bEaOh0ifmJVxLq6M2jwVDGrPqweXuyJ+G/08S30WCiZyeSFzgxYltTcLVP07+NzGb AB7c7GlOIlTPGAeo1qg07EyIYvOaBLndXywj4= X-Google-DKIM-Signature: v=1; a=rsa-sha256; c=relaxed/relaxed; d=1e100.net; s=20230601; t=1738573555; x=1739178355; h=cc:to:from:subject:message-id:date:x-gm-message-state:from:to:cc :subject:date:message-id:reply-to; bh=DeP3hiCEfGe2EHGzaUwIlHyWiwAQyXk7W43X8wT/DGQ=; b=k8IkkzWV4xZJ/l03dEHdyzCJgzRkQxYbu3ziSRjjcxbcDtokm066sjfhEnELnOnJWL iWyTTvLeg2/VxmOEaGJyjJs2socto4V/zFy3g9TIKsO0dxxdDWwajTh/zBluci3+2rVf 0R/fbxrwGIDE3JeNqi22NJcVr+3VaGVPvuVnuNUirwGXDlzumvOiE9jqJjhHQpF5GXhp 31Cc2vSVRtU+y9C6j1gPOjatBpKMtVQxyYhR1B6jox9yVsZ7bhvQoKTSWqBgEyysdNV8 iY83jglVpHVzOqHcy7NqoqiFkDfLEiy8Ac9Z52A+K3UK//aRnX7Fk9AOws8VU4dTdur5 tQGg== X-Gm-Message-State: AOJu0YxwERE4y4HWQDCR7cWB3eNuD+IQhNOwbZ30h0ep8dsNAuMNpOV2 IOLkbW/8afar2D9gXCtLZ9k2ASOm11ibaz8pRNBkw8QrW/Zty/8QFjRuS6hkoAeJvcHL+hxmv/G yJ2hXD/yb2W0OYEb+S8fwSYneTckkYbkX X-Gm-Gg: ASbGnct5cOd6521RisUWs2i92ySb6oBGBpc6QU1xHcT6RZ96XsRbpsT0P/zZBwFzc5s sOqKyOKWHEJNQsGYASsygdPxdojAzx+zjSBJnbuosFnsMgom6U37ArtMuYRbvCzcwE4tXsnwU7t Co4Vn6i7QQmxfXiyPdWpqXFtg0E6OVDlKPNlnzBvtcfgwzwQ/Yk3kjYiEU8B7JiMCYVqXTkzZW7 J/KT7F3ErJdROCPqhr/I7XJ58YpW+LgxmTIWNEzPuE+Xy7yN/wZjPmIhuO7fipN/soDVk9C5qGO GN+PEQP2jGfmQtf3gpdhZB4zBvgMPw== X-Google-Smtp-Source: AGHT+IGeLgCA00UEYUJGFKt6uQkSmndHuMa0SNgaBIDIeKufZuEQcHu8Z9X6JMxM/y+uAY6yliihGS0hmZ4i X-Received: by 2002:a05:620a:25cd:b0:7b6:77f3:b1b0 with SMTP id af79cd13be357-7bffcce8d16mr2773650485a.24.1738573555299; Mon, 03 Feb 2025 01:05:55 -0800 (PST) Received: from postal.iol.unh.edu (postal.iol.unh.edu. [132.177.123.84]) by smtp-relay.gmail.com with ESMTPS id 6a1803df08f44-6e25480c2f3sm6820366d6.18.2025.02.03.01.05.55 (version=TLS1_2 cipher=ECDHE-ECDSA-AES128-GCM-SHA256 bits=128/128); Mon, 03 Feb 2025 01:05:55 -0800 (PST) X-Relaying-Domain: iol.unh.edu Date: Mon, 03 Feb 2025 01:05:55 -0800 (PST) Message-ID: <67a086f3.050a0220.8f389.f571SMTPIN_ADDED_MISSING@mx.google.com> Received: from [172.21.0.5] (unknown [172.18.0.240]) by postal.iol.unh.edu (Postfix) with ESMTP id F30CB6052471; Mon, 3 Feb 2025 04:05:54 -0500 (EST) Subject: |SUCCESS| [GIT MASTER] c66daa12e76d7b4912cfb7109a761856a7a873ab From: dpdklab@iol.unh.edu To: Test Report Cc: dpdk-test-reports@iol.unh.edu, Xueming Li , Christian Ehrhardt , Kevin Traynor , Luca Boccassi Content-Type: text/plain X-BeenThere: test-report@dpdk.org X-Mailman-Version: 2.1.29 Precedence: list List-Id: automatic DPDK test reports List-Unsubscribe: , List-Archive: List-Post: List-Help: List-Subscribe: , Errors-To: test-report-bounces@dpdk.org _Testing PASS_ Branch: tags/v23.11 c66daa12e76d7b4912cfb7109a761856a7a873ab --> testing pass Upstream job id: Generic-Unit-Test-DPDK#311141 Test environment and result as below: +-------------------+----------------+ | Environment | dpdk_unit_test | +===================+================+ | Debian 12 | PASS | +-------------------+----------------+ | CentOS Stream 9 | PASS | +-------------------+----------------+ | Debian Bullseye | PASS | +-------------------+----------------+ | RHEL8 | PASS | +-------------------+----------------+ | Fedora 40 (Clang) | PASS | +-------------------+----------------+ | Fedora 41 | PASS | +-------------------+----------------+ | RHEL9 | PASS | +-------------------+----------------+ | Fedora 41 (Clang) | PASS | +-------------------+----------------+ | Fedora 40 | PASS | +-------------------+----------------+ | Ubuntu 20.04 | PASS | +-------------------+----------------+ | Ubuntu 22.04 | PASS | +-------------------+----------------+ | Ubuntu 24.04 | PASS | +-------------------+----------------+ Debian 12 Kernel: Depends on container host Compiler: gcc (Debian 12.2.0-14) 12.2.0 CentOS Stream 9 Kernel: Depends on container host Compiler: gcc 11.5.0 20240719 (Red Hat 11.5.0-2) Debian Bullseye Kernel: Depends on container host Compiler: gcc (Debian 10.2.1-6) 10.2.1 20210110 RHEL8 Kernel: Depends on container host Compiler: gcc 8.5.0 20210514 (Red Hat 8.5.0-22) Fedora 40 (Clang) Kernel: Depends on container host Compiler: clang 18.1.8 (Fedora 18.1.8-1.fc40) Fedora 41 Kernel: Depends on container host Compiler: gcc 14.2.1 20240912 (Red Hat 14.2.1-3) RHEL9 Kernel: Depends on container host Compiler: gcc 11.5.0 20240719 (Red Hat 11.5.0-2) Fedora 41 (Clang) Kernel: Depends on container host Compiler: clang 19.1.5 (Fedora 19.1.5-1.fc41) Fedora 40 Kernel: Depends on container host Compiler: gcc 14.2.1 20240912 (Red Hat 14.2.1-3) Ubuntu 20.04 Kernel: Depends on container host Compiler: gcc (Ubuntu 9.4.0-1ubuntu1~20.04.2) 9.4.0 Ubuntu 22.04 Kernel: Depends on container host Compiler: gcc (Ubuntu 11.4.0-1ubuntu1~22.04) 11.4.0 Ubuntu 24.04 Kernel: Depends on container host Compiler: gcc (Ubuntu 13.3.0-6ubuntu2~24.04) 13.3.0 To view detailed results, visit: https://lab.dpdk.org/results/dashboard/tarballs/32422/ UNH-IOL DPDK Community Lab To manage your email subscriptions, visit: https://lab.dpdk.org/results/dashboard/preferences/subscriptions/