From mboxrd@z Thu Jan 1 00:00:00 1970 Return-Path: Received: from mails.dpdk.org (mails.dpdk.org [217.70.189.124]) by inbox.dpdk.org (Postfix) with ESMTP id C762246180 for ; Mon, 3 Feb 2025 10:06:45 +0100 (CET) Received: from mails.dpdk.org (localhost [127.0.0.1]) by mails.dpdk.org (Postfix) with ESMTP id C0E5B402E1; Mon, 3 Feb 2025 10:06:45 +0100 (CET) Received: from mail-pl1-f225.google.com (mail-pl1-f225.google.com [209.85.214.225]) by mails.dpdk.org (Postfix) with ESMTP id 503B940264 for ; Mon, 3 Feb 2025 10:06:42 +0100 (CET) Received: by mail-pl1-f225.google.com with SMTP id d9443c01a7336-216634dd574so46683225ad.2 for ; Mon, 03 Feb 2025 01:06:42 -0800 (PST) DKIM-Signature: v=1; a=rsa-sha256; c=relaxed/relaxed; d=iol.unh.edu; s=unh-iol; t=1738573601; x=1739178401; darn=dpdk.org; h=cc:to:from:subject:message-id:date:from:to:cc:subject:date :message-id:reply-to; bh=nvvZmq8EAvoAtvpIW7jW//UFGwAc6bLUSzOA6ONtsek=; b=Xtv/NC9axBd1r2uKwI10RJ9eQT5/RMefQzDlCjvZvXvPpghaIWmOZu5vGoAHiI7C39 XUeLy9b7cNg1N6l+KaCex/YhmGLg5lgt9njkJQV6dzjar4HvMXLQHiVzaoM45lH1PFkg OQXQ9J1Mt1IejrN5fZP0m+kHfi9IBs1uJR5Ws= X-Google-DKIM-Signature: v=1; a=rsa-sha256; c=relaxed/relaxed; d=1e100.net; s=20230601; t=1738573601; x=1739178401; h=cc:to:from:subject:message-id:date:x-gm-message-state:from:to:cc :subject:date:message-id:reply-to; bh=nvvZmq8EAvoAtvpIW7jW//UFGwAc6bLUSzOA6ONtsek=; b=CcF8H5eF2nNRGubSrDoIAfuGyB7qauLHdH4IJkzBjwkYWUpQLWbJkKQrsKB7FZKVMI 9TDiPQ09wU1QVcabtCUfNS4sw1kshoedqWYuNGk6Y304wOKHr77l08vpYC6dDgsDaFub Qne3+SYkzyH11okCIwKLp8UhqpRKxmu9NBKI5VyKotVyF9JarVZuVWPMqg7dNweGsA15 B5RmDI8oQfHbGYpMFJK9UjEXgAdeNqNKz4sxYXJwuLwi1e+u0dAteJIGFjv5PAFZu+1r bnJjcG97gOz1K0UeIHdxYXc9T5/kxIZjidlED6DY1IpfBuMzFN124vYx6BgHOik50723 Le4A== X-Gm-Message-State: AOJu0YygVLtpjF8U/Ioy0i0FIZk3e2/HMAqUAnq/s8v5cAsBZ0HOpzi1 mfVswralR3gVnVClcxjXovsndCG1zC0zjR+TjjRQSn/A0WGcxYo6fdsR0UgaVCo3UgcFvG7drE1 0ifguQbPY3lZZhDC9GlUU4aOGrIiaDLQ2 X-Gm-Gg: ASbGncs3C38UjsEmugjmIBiPLKzSE6BSpfygx6yEk8GDZfT9tysNXR/mqlkbwm7O5LK j7AoPr98ovp7qOvznJvJc1I8Z3TIWUsT0ZciFxfaPV4cJEvX0rQrSGffZ6Hrr//A2O4FgEeIc50 MLud/Tj89KcenBTNTkkQDmxzKrw6icI0B4+OT7rDFtR3fSrmjnCk1zs44EPWEdvWWEGDyLRPUjp 3Prf9O2bB0gLGRZjK0LBX/aitDllXfVdzhbEIASW4ie2RrQ0duttBw9mEkdHOZ1ZrV0Gu9XsqLI uEmC6Ujx41dHzdB5JeaUxSI8XjfDcg== X-Google-Smtp-Source: AGHT+IHydHTMPFL+UaqiOCEBccuB7EKcAvU8bmS5nPOLSKmy5dwGIkFP2Zl6TeQg9SCDA9yZY3MTvXgFT+Bq X-Received: by 2002:a17:903:2282:b0:20b:7210:5859 with SMTP id d9443c01a7336-21dd7deecd5mr351259875ad.38.1738573601347; Mon, 03 Feb 2025 01:06:41 -0800 (PST) Received: from postal.iol.unh.edu (postal.iol.unh.edu. [132.177.123.84]) by smtp-relay.gmail.com with ESMTPS id d9443c01a7336-21de33466ecsm4057355ad.110.2025.02.03.01.06.41 (version=TLS1_2 cipher=ECDHE-ECDSA-AES128-GCM-SHA256 bits=128/128); Mon, 03 Feb 2025 01:06:41 -0800 (PST) X-Relaying-Domain: iol.unh.edu Date: Mon, 03 Feb 2025 01:06:41 -0800 (PST) Message-ID: <67a08721.170a0220.3143f4.2364SMTPIN_ADDED_MISSING@mx.google.com> Received: from [172.17.0.5] (unknown [172.18.0.217]) by postal.iol.unh.edu (Postfix) with ESMTP id 7AF366052471; Mon, 3 Feb 2025 04:06:40 -0500 (EST) Subject: |SUCCESS| [GIT MASTER] 7ce7d3341d7e21c2a81f2fea8e451681d7306d77 From: dpdklab@iol.unh.edu To: Test Report Cc: dpdk-test-reports@iol.unh.edu, Xueming Li , Christian Ehrhardt , Kevin Traynor , Luca Boccassi Content-Type: text/plain X-BeenThere: test-report@dpdk.org X-Mailman-Version: 2.1.29 Precedence: list List-Id: automatic DPDK test reports List-Unsubscribe: , List-Archive: List-Post: List-Help: List-Subscribe: , Errors-To: test-report-bounces@dpdk.org _Testing PASS_ Branch: tags/v22.11 7ce7d3341d7e21c2a81f2fea8e451681d7306d77 --> testing pass Upstream job id: ACVP-FIPS-testing#8762 Test environment and result as below: +--------------------+----------------------+----------------------+ | Environment | compressdev_zlib_pmd | dpdk_fips_validation | +====================+======================+======================+ | Ubuntu 22.04 (ARM) | PASS | SKIPPED | +--------------------+----------------------+----------------------+ | Ubuntu 22.04 | PASS | SKIPPED | +--------------------+----------------------+----------------------+ | Ubuntu 20.04 | SKIPPED | PASS | +--------------------+----------------------+----------------------+ Ubuntu 22.04 (ARM) Kernel: 5.15.0-97-generic Compiler: gcc gcc (Ubuntu 11.4.0-1ubuntu1~22.04) 11.4.0 Ubuntu 22.04 Kernel: 5.15.0-100-generic Compiler: gcc gcc (Ubuntu 11.4.0-1ubuntu1~22.04) 11.4.0 Ubuntu 20.04 Kernel: Depends on container host Compiler: gcc (Ubuntu 9.4.0-1ubuntu1~20.04.2) 9.4.0 To view detailed results, visit: https://lab.dpdk.org/results/dashboard/tarballs/32423/ UNH-IOL DPDK Community Lab To manage your email subscriptions, visit: https://lab.dpdk.org/results/dashboard/preferences/subscriptions/