From mboxrd@z Thu Jan 1 00:00:00 1970 Return-Path: Received: from mails.dpdk.org (mails.dpdk.org [217.70.189.124]) by inbox.dpdk.org (Postfix) with ESMTP id 45C9C46180 for ; Mon, 3 Feb 2025 10:21:07 +0100 (CET) Received: from mails.dpdk.org (localhost [127.0.0.1]) by mails.dpdk.org (Postfix) with ESMTP id 1B34D402E1; Mon, 3 Feb 2025 10:21:07 +0100 (CET) Received: from mail-il1-f227.google.com (mail-il1-f227.google.com [209.85.166.227]) by mails.dpdk.org (Postfix) with ESMTP id E79C440264 for ; Mon, 3 Feb 2025 10:21:05 +0100 (CET) Received: by mail-il1-f227.google.com with SMTP id e9e14a558f8ab-3ce87d31480so12957685ab.2 for ; Mon, 03 Feb 2025 01:21:05 -0800 (PST) DKIM-Signature: v=1; a=rsa-sha256; c=relaxed/relaxed; d=iol.unh.edu; s=unh-iol; t=1738574465; x=1739179265; darn=dpdk.org; h=references:in-reply-to:cc:to:from:subject:message-id:date:from:to :cc:subject:date:message-id:reply-to; bh=C6dSU14NA/cHgAcV9Vt/hQvYrYd05dCZQMI3W7ao/zY=; b=CHN+lyk3JqanNiuOfBr6r1NqIcUN119cjkx2AusUE26zTPmteZNQ2MIQAaLp1a2CwL kvAmqz+CPSB3wnCPJm1nVOdM5XYlX19SlM/Sa3+8mu8n5WIGdm2JD7yBIJ/w+xWnQhn2 RTiHDqGDzlapBNQSouMfDdmTxt7ELtKnP1QKo= X-Google-DKIM-Signature: v=1; a=rsa-sha256; c=relaxed/relaxed; d=1e100.net; s=20230601; t=1738574465; x=1739179265; h=references:in-reply-to:cc:to:from:subject:message-id:date :x-gm-message-state:from:to:cc:subject:date:message-id:reply-to; bh=C6dSU14NA/cHgAcV9Vt/hQvYrYd05dCZQMI3W7ao/zY=; b=TfKTQSnWiKqF7pbVy2aTAkaqpBx+cZ3K/U2dVtjKY0sgHpptwAddQB0CMy+uXUhUz9 eVAn3MfOkE9onawgj1d1Gd1wB1sBvxZElX1Ak1fNvlqP/EJyMvSoVaQIo/0uI7L63Eh7 5oVDd2HwxEmUZzRnLU9lN7Oz3paPVhQB7KqaFJMixjbRnWqs5slxsP4oeuxg2dwMJ6/2 kRPBNwZ9iFUByN8E9zMD+U9+CTnyULlNb8dYZN70AwSGnM+BnU934cvwo1BiQm+/N1F/ 68ocSEK9xG3fgApMY9WDuspQ+kej8mtaQTTBXF3g/+hWsBZrdXi0VBs+xfUMgZRz+MwX JJ8A== X-Gm-Message-State: AOJu0Yxkh9udPXEWxkSNWNa0cQSIm8jPnhpPPbU6N3ZsnfogW/0wCPI3 4OYz2Qz6yOZmiscWXAya3udTfpW8bzRhDxUBVkH6fzu2Bs0LYlk8ztUmvAgUjFQIpl48n/83mK3 FaQedX59irRY21OgqyWMrPwkfbVLZ/EZaGbZWyUoc X-Gm-Gg: ASbGnctZe3AUTP5A71x/lOJI0mkG0rY6z5gsVgVvDMxChP9Baj5cJ9FeEsZp7AU3mn6 cGIHhnE9ZDEYFNK6F5WZgLUKMRTWYhVJHnsWnUBjN8s7eZqGr40wNqpGJhTo5w9Dl2p43ZpWkeW 8DYS881IDtuMVittOCH9Hd49U+32WoI30P4vkUZQMrTyMmGjLav1Oi5m8SoKqb6rSPJ4hpX7lyD 55x6M7o3GQXES76J0evyJOzfR/3OAcCKUIEk5ZGieEEZuBetBRjyO5StEY/ToRka9vHC9jbIMUc Q1ZFCHyjZyIVLBwbagwUJBrZLK0pcA== X-Google-Smtp-Source: AGHT+IE/fFpltS7VTzJCbKCrjmvhYhitTL1ykGPJ/YRjkR2DCaNWFt7xD+x9OpzCHjT5ddAq0kB9Bb0Lkol2 X-Received: by 2002:a05:6e02:98c:b0:3d0:ca2:156d with SMTP id e9e14a558f8ab-3d00ca216f9mr92582455ab.14.1738574465139; Mon, 03 Feb 2025 01:21:05 -0800 (PST) Received: from postal.iol.unh.edu (postal.iol.unh.edu. [132.177.123.84]) by smtp-relay.gmail.com with ESMTPS id 8926c6da1cb9f-4ec7428038dsm565671173.0.2025.02.03.01.21.05 (version=TLS1_2 cipher=ECDHE-ECDSA-AES128-GCM-SHA256 bits=128/128); Mon, 03 Feb 2025 01:21:05 -0800 (PST) X-Relaying-Domain: iol.unh.edu Date: Mon, 03 Feb 2025 01:21:05 -0800 (PST) Message-ID: <67a08a81.050a0220.4d852.a9faSMTPIN_ADDED_MISSING@mx.google.com> Received: from [172.17.0.4] (unknown [172.18.0.217]) by postal.iol.unh.edu (Postfix) with ESMTP id A6C816052471; Mon, 3 Feb 2025 04:21:04 -0500 (EST) Subject: |SUCCESS| pw150794-150795 [PATCH] [v4,2/2] common/idpf: enable AVX2 From: dpdklab@iol.unh.edu To: Test Report Cc: dpdk-test-reports@iol.unh.edu In-Reply-To: <20250203052430.1243485-3-shaiq.wani@intel.com> References: <20250203052430.1243485-3-shaiq.wani@intel.com> Content-Type: text/plain X-BeenThere: test-report@dpdk.org X-Mailman-Version: 2.1.29 Precedence: list List-Id: automatic DPDK test reports List-Unsubscribe: , List-Archive: List-Post: List-Help: List-Subscribe: , Errors-To: test-report-bounces@dpdk.org Test-Label: iol-abi-testing Test-Status: SUCCESS http://dpdk.org/patch/150795 _Testing PASS_ Submitter: Shaiq Wani Date: Monday, February 03 2025 05:24:30 DPDK git baseline: Repo:dpdk Branch: master CommitID:abf3b7b7b361f8aa8d75ae00d449b588a0cdcda3 150794-150795 --> testing pass Upstream job id: Generic-DPDK-Compile-ABI#114565 Test environment and result as below: +-------------------+----------+ | Environment | abi_test | +===================+==========+ | CentOS Stream 9 | PASS | +-------------------+----------+ | Debian Bullseye | PASS | +-------------------+----------+ | Fedora 41 (Clang) | PASS | +-------------------+----------+ | Fedora 40 | PASS | +-------------------+----------+ | Fedora 41 | PASS | +-------------------+----------+ | openSUSE Leap 15 | PASS | +-------------------+----------+ | RHEL8 | PASS | +-------------------+----------+ | RHEL9 | PASS | +-------------------+----------+ | Ubuntu 22.04 | PASS | +-------------------+----------+ | Ubuntu 24.04 | PASS | +-------------------+----------+ | Debian 12 | PASS | +-------------------+----------+ | Fedora 40 (Clang) | PASS | +-------------------+----------+ CentOS Stream 9 Kernel: Depends on container host Compiler: gcc 11.5.0 20240719 (Red Hat 11.5.0-2) Debian Bullseye Kernel: Depends on container host Compiler: gcc (Debian 10.2.1-6) 10.2.1 20210110 Fedora 41 (Clang) Kernel: Depends on container host Compiler: clang 19.1.5 (Fedora 19.1.5-1.fc41) Fedora 40 Kernel: Depends on container host Compiler: gcc 14.2.1 20240912 (Red Hat 14.2.1-3) Fedora 41 Kernel: Depends on container host Compiler: gcc 14.2.1 20240912 (Red Hat 14.2.1-3) openSUSE Leap 15 Kernel: Depends on container host Compiler: gcc (SUSE Linux) 7.5.0 RHEL8 Kernel: Depends on container host Compiler: gcc 8.5.0 20210514 (Red Hat 8.5.0-22) RHEL9 Kernel: Depends on container host Compiler: gcc 11.5.0 20240719 (Red Hat 11.5.0-2) Ubuntu 22.04 Kernel: Depends on container host Compiler: gcc (Ubuntu 11.4.0-1ubuntu1~22.04) 11.4.0 Ubuntu 24.04 Kernel: Depends on container host Compiler: gcc (Ubuntu 13.3.0-6ubuntu2~24.04) 13.3.0 Debian 12 Kernel: Depends on container host Compiler: gcc (Debian 12.2.0-14) 12.2.0 Fedora 40 (Clang) Kernel: Depends on container host Compiler: clang 18.1.8 (Fedora 18.1.8-1.fc40) To view detailed results, visit: https://lab.dpdk.org/results/dashboard/patchsets/32480/ UNH-IOL DPDK Community Lab To manage your email subscriptions, visit: https://lab.dpdk.org/results/dashboard/preferences/subscriptions/