From mboxrd@z Thu Jan 1 00:00:00 1970 Return-Path: Received: from mails.dpdk.org (mails.dpdk.org [217.70.189.124]) by inbox.dpdk.org (Postfix) with ESMTP id CF13246180 for ; Mon, 3 Feb 2025 10:39:37 +0100 (CET) Received: from mails.dpdk.org (localhost [127.0.0.1]) by mails.dpdk.org (Postfix) with ESMTP id B216740265; Mon, 3 Feb 2025 10:39:37 +0100 (CET) Received: from mail-qk1-f225.google.com (mail-qk1-f225.google.com [209.85.222.225]) by mails.dpdk.org (Postfix) with ESMTP id C3B3240264 for ; Mon, 3 Feb 2025 10:39:35 +0100 (CET) Received: by mail-qk1-f225.google.com with SMTP id af79cd13be357-7bcf32a6582so374338585a.1 for ; Mon, 03 Feb 2025 01:39:35 -0800 (PST) DKIM-Signature: v=1; a=rsa-sha256; c=relaxed/relaxed; d=iol.unh.edu; s=unh-iol; t=1738575575; x=1739180375; darn=dpdk.org; h=cc:to:from:subject:message-id:date:from:to:cc:subject:date :message-id:reply-to; bh=jWwMMUogdoDtjBgjCsybBamSSBmnOmmOrxSw/9W3ytc=; b=W2Vfn3t0S44cj0dgY8xMvaE4tr3FT+arzFypv2lUzVKufOy2gWZC3JAtexBVACKxH0 8/OEWc4uxQqAIdIUIP2/nphQfWoEv54NQCUS9fmU+DRowu4He+cnzdPyHaQN0el21Qql WViGmkhTNRmn8RV+sB1sfFPvzVf8Q9HNWFuTc= X-Google-DKIM-Signature: v=1; a=rsa-sha256; c=relaxed/relaxed; d=1e100.net; s=20230601; t=1738575575; x=1739180375; h=cc:to:from:subject:message-id:date:x-gm-message-state:from:to:cc :subject:date:message-id:reply-to; bh=jWwMMUogdoDtjBgjCsybBamSSBmnOmmOrxSw/9W3ytc=; b=njOkYc5Ltuh8k71Mf9Lw+v8H0EFVUsJQEx70U2jjoWt2UT9LIzb7lbE9szFZrFTaiY MLWlKAwBPu+pnRlZ3igEYK07rkplAXF5mYOol/kCGjkWcWiMhHwnqQYg5BRM1ijsorHe Y7uA2n0urJczOZOaobWaxZPsUezLAP245aZ3bzWMwfxpcjK0sZN746XqqWtdlRB6v5Dr YzQ2O9+hzt1LKLfM9YbBWyz79sMxRDRX+AaULz0YxvdkIiUAFuQVQf3eskFuFD01Ds5k 55GzXL5HWUNOYeul/qlkrO951CsgDdOCcoLd20e6uSxmZbx8XLDL/dL+hklVa5Yl/F+B +S5A== X-Gm-Message-State: AOJu0YzLb/L8663FetneXYTTlpLX34nJ3Sv7mvSIjYH2DpdCiXzq+2Nn vcN6cfkvFGoUIVh8rzMg2GLD1wFHxxV1dsa+UcvalBxHUbgNr9iJONNiO3WOC9I/gNigp1E2ELg mhTSWhyKH37UfhVt7gqddZBVD82DW4JPE X-Gm-Gg: ASbGncvloIA7LFDhiRdV9c9orOu4wJ6W88M75PzZGQZuVwRf+Rgw4NOTdb0qQjGKDEF qbgBhwHhT1aL5OEzeUc8zhIp/AB4ecPdtLC3prLWdW/wK9sHju66p2wkOOVw3QPVgdJnlZgGW+I r+NRY/a4AFgsANae2Wn98wcLZU1iMKX/on0jcr0J8K+STjHho8020BE1aaWMK8AiLO6eDYKEQH3 GItPTpH1Jo+VZ34cQcAim5whlard6jvTuWWJJMMR73uKq2/Lszs2V6/eE8LNzkYF6KjHn04V4c6 ZboOiCATFEIs9YLBhzIOqd7zLRMIIQ== X-Google-Smtp-Source: AGHT+IGVf65/RFeBNOelzYb/i601MC8Krq1mQMICjxJ/+tCPxp0UyIPPwSB8Xu3jvIIKQKZeuopJbvsbyAqm X-Received: by 2002:ad4:4eeb:0:b0:6d8:af66:6344 with SMTP id 6a1803df08f44-6e243befc16mr326823356d6.2.1738575575043; Mon, 03 Feb 2025 01:39:35 -0800 (PST) Received: from postal.iol.unh.edu (postal.iol.unh.edu. [132.177.123.84]) by smtp-relay.gmail.com with ESMTPS id 6a1803df08f44-6e254810114sm6843776d6.25.2025.02.03.01.39.34 (version=TLS1_2 cipher=ECDHE-ECDSA-AES128-GCM-SHA256 bits=128/128); Mon, 03 Feb 2025 01:39:35 -0800 (PST) X-Relaying-Domain: iol.unh.edu Date: Mon, 03 Feb 2025 01:39:35 -0800 (PST) Message-ID: <67a08ed7.050a0220.2fe4aa.ef7eSMTPIN_ADDED_MISSING@mx.google.com> Received: from [172.17.0.6] (unknown [172.18.0.217]) by postal.iol.unh.edu (Postfix) with ESMTP id B30106052471; Mon, 3 Feb 2025 04:39:34 -0500 (EST) Subject: |SUCCESS| [GIT MASTER] c66daa12e76d7b4912cfb7109a761856a7a873ab From: dpdklab@iol.unh.edu To: Test Report Cc: dpdk-test-reports@iol.unh.edu, Xueming Li , Christian Ehrhardt , Kevin Traynor , Luca Boccassi Content-Type: text/plain X-BeenThere: test-report@dpdk.org X-Mailman-Version: 2.1.29 Precedence: list List-Id: automatic DPDK test reports List-Unsubscribe: , List-Archive: List-Post: List-Help: List-Subscribe: , Errors-To: test-report-bounces@dpdk.org _Testing PASS_ Branch: tags/v23.11 c66daa12e76d7b4912cfb7109a761856a7a873ab --> testing pass Upstream job id: ACVP-FIPS-testing#8763 Test environment and result as below: +--------------------+----------------------+----------------------+ | Environment | compressdev_zlib_pmd | dpdk_fips_validation | +====================+======================+======================+ | Ubuntu 22.04 (ARM) | PASS | SKIPPED | +--------------------+----------------------+----------------------+ | Ubuntu 22.04 | PASS | SKIPPED | +--------------------+----------------------+----------------------+ | Ubuntu 20.04 | SKIPPED | PASS | +--------------------+----------------------+----------------------+ Ubuntu 22.04 (ARM) Kernel: 5.15.0-97-generic Compiler: gcc gcc (Ubuntu 11.4.0-1ubuntu1~22.04) 11.4.0 Ubuntu 22.04 Kernel: 5.15.0-100-generic Compiler: gcc gcc (Ubuntu 11.4.0-1ubuntu1~22.04) 11.4.0 Ubuntu 20.04 Kernel: Depends on container host Compiler: gcc (Ubuntu 9.4.0-1ubuntu1~20.04.2) 9.4.0 To view detailed results, visit: https://lab.dpdk.org/results/dashboard/tarballs/32422/ UNH-IOL DPDK Community Lab To manage your email subscriptions, visit: https://lab.dpdk.org/results/dashboard/preferences/subscriptions/