From mboxrd@z Thu Jan 1 00:00:00 1970 Return-Path: Received: from mails.dpdk.org (mails.dpdk.org [217.70.189.124]) by inbox.dpdk.org (Postfix) with ESMTP id 3AAC046180 for ; Mon, 3 Feb 2025 11:04:35 +0100 (CET) Received: from mails.dpdk.org (localhost [127.0.0.1]) by mails.dpdk.org (Postfix) with ESMTP id 1DB9E40265; Mon, 3 Feb 2025 11:04:35 +0100 (CET) Received: from mail-io1-f97.google.com (mail-io1-f97.google.com [209.85.166.97]) by mails.dpdk.org (Postfix) with ESMTP id C006740264 for ; Mon, 3 Feb 2025 11:04:33 +0100 (CET) Received: by mail-io1-f97.google.com with SMTP id ca18e2360f4ac-844eb33827eso103445739f.2 for ; Mon, 03 Feb 2025 02:04:33 -0800 (PST) DKIM-Signature: v=1; a=rsa-sha256; c=relaxed/relaxed; d=iol.unh.edu; s=unh-iol; t=1738577073; x=1739181873; darn=dpdk.org; h=cc:to:from:subject:message-id:date:from:to:cc:subject:date :message-id:reply-to; bh=6A8NlUlpPODWdnwRm5o0wQF4oMH3pretadqCmOXgT+I=; b=GOIM0sYIyHeN6vUlpd+SiC9wq+m2mgXxHqViKZz/wFF7jzIyVWkqVmOHwmj/Mts9Pg NMA2kR5JkQdA1Ei4Jimc9TLMJSeJXFB2/5oNr26L5QUDV2enLclCXaai1Y9bDQClKy84 nvBR0S1wOWpE/Rcxo/AcRsdXhsu83JQgn1Ymc= X-Google-DKIM-Signature: v=1; a=rsa-sha256; c=relaxed/relaxed; d=1e100.net; s=20230601; t=1738577073; x=1739181873; h=cc:to:from:subject:message-id:date:x-gm-message-state:from:to:cc :subject:date:message-id:reply-to; bh=6A8NlUlpPODWdnwRm5o0wQF4oMH3pretadqCmOXgT+I=; b=sB8fIT/9IlZ44RtBbkw4TzAHjgx+XSBEKGWLZrvBu+gCmjAHAxJYtaDenEh56LPJIG MSMkniAqqUugnMM8G/HP1mslyxQ+n99weccgwYU1KO+OQFLSpghyZBZ4cQaDK0n/6iM0 AAbciQAL8a3klzlzDYPI/9QyHjV1fijvBYYmicn3WFl3Mz8XCb+iFLm0f9c1V4upvWz8 Trtw+KDq4yFUDi8GJzT0kG3Eggju275h237GbSIZ5YW5v9tm3L4g50kUfaQ1iyQweTqx PtlRXXSNlff3gJA22DdnUBxlVX4VD+hCqZSKQjQMYYhG+hwmqUoohmK57pIaeUu7AWqh RMDQ== X-Gm-Message-State: AOJu0Ywcr32AD6oMX3DjFwVz0gxoXKy1BvmrQEI4ba7A7kCTDBWTKc9H vy+CwDOwZSprx4wqWtzBhE2Ddt6hdNk2sdKYRsbNCT1KIHA8of9ad+KW0m4E3/Oov+9aj19bT0S l8oDUy1Ap6Nn6VRgal+fQWKeG2lwfL2SA X-Gm-Gg: ASbGnct6nf+fBLad8B8+czaE7dxixBBRb5tZSI2sBMql4xxj93l3Y4FNWIqJz/HKjiV S9mkbYr66HE7hzI+J0eGei3itKKW/rD12jP3+I+ewXuaUTWUkJwcg6elfkuursxJoJh9qD/zaVR twJIpK2SUylxTY9Lr6Ldz+rvT0tFwij7heuACr6UmL/EBpHbXLLPNtNnquqfo6hqRW/r/qHMJCN 9XlV5tDIdk0NUZ+f70v3n1J9LQR/koW86oNrj6mXDm56m4GkvEMfA1Vxx3e8To1fTb1owiUU3nm +WuAAkTwI1EhkeBGiy6PQkWzqn8xuw== X-Google-Smtp-Source: AGHT+IExWpive2cK286XmyqVVKDytSR3GMKN/al+HkqYen7qwDDx0hAm0/QDuGRDxpvCFGt/vmwdtPdb9vdR X-Received: by 2002:a05:6602:6ccb:b0:844:c9b1:f08f with SMTP id ca18e2360f4ac-854110f8eedmr1944129039f.3.1738577072999; Mon, 03 Feb 2025 02:04:32 -0800 (PST) Received: from postal.iol.unh.edu (postal.iol.unh.edu. [132.177.123.84]) by smtp-relay.gmail.com with ESMTPS id ca18e2360f4ac-854a15d28ffsm55741739f.9.2025.02.03.02.04.32 (version=TLS1_2 cipher=ECDHE-ECDSA-AES128-GCM-SHA256 bits=128/128); Mon, 03 Feb 2025 02:04:32 -0800 (PST) X-Relaying-Domain: iol.unh.edu Date: Mon, 03 Feb 2025 02:04:32 -0800 (PST) Message-ID: <67a094b0.050a0220.20140c.9b04SMTPIN_ADDED_MISSING@mx.google.com> Received: from [172.21.0.5] (unknown [172.18.0.240]) by postal.iol.unh.edu (Postfix) with ESMTP id 7384E6052471; Mon, 3 Feb 2025 05:04:32 -0500 (EST) Subject: |SUCCESS| [GIT MASTER] 7ce7d3341d7e21c2a81f2fea8e451681d7306d77 From: dpdklab@iol.unh.edu To: Test Report Cc: dpdk-test-reports@iol.unh.edu, Xueming Li , Christian Ehrhardt , Kevin Traynor , Luca Boccassi Content-Type: text/plain X-BeenThere: test-report@dpdk.org X-Mailman-Version: 2.1.29 Precedence: list List-Id: automatic DPDK test reports List-Unsubscribe: , List-Archive: List-Post: List-Help: List-Subscribe: , Errors-To: test-report-bounces@dpdk.org _Testing PASS_ Branch: tags/v22.11 7ce7d3341d7e21c2a81f2fea8e451681d7306d77 --> testing pass Upstream job id: Generic-DPDK-Compile-Meson#357235 Test environment and result as below: +------------------------------------+--------------------+ | Environment | dpdk_meson_compile | +====================================+====================+ | RHEL9 (ARM) | PASS | +------------------------------------+--------------------+ | Ubuntu 20.04 ARM GCC Cross Compile | PASS | +------------------------------------+--------------------+ | Debian 12 with MUSDK | PASS | +------------------------------------+--------------------+ | Ubuntu 20.04 ARM SVE | PASS | +------------------------------------+--------------------+ | Fedora 41 (ARM) | PASS | +------------------------------------+--------------------+ | Fedora 40 (ARM Clang) | PASS | +------------------------------------+--------------------+ | Fedora 40 (ARM) | PASS | +------------------------------------+--------------------+ | Fedora 41 (ARM Clang) | PASS | +------------------------------------+--------------------+ | Ubuntu 20.04 (ARM) | PASS | +------------------------------------+--------------------+ | Ubuntu 22.04 (ARM) | PASS | +------------------------------------+--------------------+ | Ubuntu 24.04 (ARM) | PASS | +------------------------------------+--------------------+ | CentOS Stream 9 (ARM) | PASS | +------------------------------------+--------------------+ | Debian 11 (Buster) (ARM) | PASS | +------------------------------------+--------------------+ | Debian 12 (arm) | PASS | +------------------------------------+--------------------+ RHEL9 (ARM) Kernel: Depends on container host Compiler: gcc 11.5.0 20240719 (Red Hat 11.5.0-2) Ubuntu 20.04 ARM GCC Cross Compile Kernel: Depends on container host Compiler: aarch64-linux-gnu-gcc (Ubuntu 9.4.0-1ubuntu1~20.04.2) 9.4.0 Debian 12 with MUSDK Kernel: Depends on container host Compiler: gcc (Debian 12.2.0-14) 12.2.0 Ubuntu 20.04 ARM SVE Kernel: Depends on container host Compiler: gcc (Ubuntu 10.5.0-1ubuntu1~20.04) 10.5.0 Fedora 41 (ARM) Kernel: Depends on container host Compiler: gcc 14.2.1 20240912 (Red Hat 14.2.1-3) Fedora 40 (ARM Clang) Kernel: Depends on container host Compiler: clang 18.1.8 (Fedora 18.1.8-1.fc40) Fedora 40 (ARM) Kernel: Depends on container host Compiler: gcc 14.2.1 20240912 (Red Hat 14.2.1-3) Fedora 41 (ARM Clang) Kernel: Depends on container host Compiler: clang 19.1.5 (Fedora 19.1.5-1.fc41) Ubuntu 20.04 (ARM) Kernel: Depends on container host Compiler: gcc (Ubuntu 9.4.0-1ubuntu1~20.04.2) 9.4.0 Ubuntu 22.04 (ARM) Kernel: Depends on container host Compiler: gcc (Ubuntu 11.4.0-1ubuntu1~22.04) 11.4.0 Ubuntu 24.04 (ARM) Kernel: Depends on container host Compiler: gcc (Ubuntu 13.3.0-6ubuntu2~24.04) 13.3.0 CentOS Stream 9 (ARM) Kernel: Depends on container host Compiler: gcc 11.5.0 20240719 (Red Hat 11.5.0-2) Debian 11 (Buster) (ARM) Kernel: Depends on container host Compiler: gcc (Debian 10.2.1-6) 10.2.1 20210110 Debian 12 (arm) Kernel: Depends on container host Compiler: gcc (Debian 12.2.0-14) 12.2.0 To view detailed results, visit: https://lab.dpdk.org/results/dashboard/tarballs/32423/ UNH-IOL DPDK Community Lab To manage your email subscriptions, visit: https://lab.dpdk.org/results/dashboard/preferences/subscriptions/