From mboxrd@z Thu Jan  1 00:00:00 1970
Return-Path: <test-report-bounces@dpdk.org>
Received: from mails.dpdk.org (mails.dpdk.org [217.70.189.124])
	by inbox.dpdk.org (Postfix) with ESMTP id B9B3F46180
	for <public@inbox.dpdk.org>; Mon,  3 Feb 2025 11:07:57 +0100 (CET)
Received: from mails.dpdk.org (localhost [127.0.0.1])
	by mails.dpdk.org (Postfix) with ESMTP id 95CA840265;
	Mon,  3 Feb 2025 11:07:57 +0100 (CET)
Received: from mail-pl1-f228.google.com (mail-pl1-f228.google.com
 [209.85.214.228])
 by mails.dpdk.org (Postfix) with ESMTP id 39E9F40264
 for <test-report@dpdk.org>; Mon,  3 Feb 2025 11:07:56 +0100 (CET)
Received: by mail-pl1-f228.google.com with SMTP id
 d9443c01a7336-21c2f1b610dso95524895ad.0
 for <test-report@dpdk.org>; Mon, 03 Feb 2025 02:07:56 -0800 (PST)
DKIM-Signature: v=1; a=rsa-sha256; c=relaxed/relaxed;
 d=iol.unh.edu; s=unh-iol; t=1738577275; x=1739182075; darn=dpdk.org;
 h=references:in-reply-to:cc:to:from:subject:message-id:date:from:to
 :cc:subject:date:message-id:reply-to;
 bh=zJS7hfF56U9qUJ8N9/kCCIPL0nfDNBthAWgtuFlxq9A=;
 b=XTeitX5KCUlVP2h2XjUE8QUoC2IrlMesO6GTAPZLcWjnXrerx53fSefWdQC+70ePxa
 PiAUnOsG05Y/PHyOGUgut5oH5P1myfXVq/SmqLImMJ/v920SZ2/L4ues6BD1g+MQgbv8
 Qi+yVmxCPfmIQdOSkR2Q7KoFdnvTfOWHcnnP4=
X-Google-DKIM-Signature: v=1; a=rsa-sha256; c=relaxed/relaxed;
 d=1e100.net; s=20230601; t=1738577275; x=1739182075;
 h=references:in-reply-to:cc:to:from:subject:message-id:date
 :x-gm-message-state:from:to:cc:subject:date:message-id:reply-to;
 bh=zJS7hfF56U9qUJ8N9/kCCIPL0nfDNBthAWgtuFlxq9A=;
 b=PsDk9kmBmeyLhJCP0LoZY9+350JtcE70eqcEfc8y9O/HSGqN1QJTk3wn1jZdUpOXcO
 bnnMYydSY6Vz17OC0N8ySOpYbwxo7IWUv5iPcfPX7bPRyWlnQ874qa3sopmNI10PNDMN
 T8oB90B9hNCzNYAWR0PLzPDka2x7/bHvlOJm11EfhLB9UoZ5btu3NmLtIPD+E9fObG3+
 p6EBTMVLURMZS6jRUzjXSdrIaQ1kPaS9JfB6x9ckg/SSq2au5wBsnYsmr+zHAi81Xb1e
 1jcaTx/Bdks+8bk2zYC6tlKtYWvE/zozQNGxPL5NpFzek6rJ8hhiMY+spqs5GEZRmMTa
 3dqQ==
X-Gm-Message-State: AOJu0YwDrI1H0o8herGFQsq9nCkvgqxJkOlttuFxtfle1DkqR3eYipRG
 KMOivRN+sHN19Xe1XvMgKryxO976kCaq8vdcdm6TuAxTx7lvuV3FXEuLB9sn8FgG7rGiyG9qf3i
 oxKCXtChVihc8N7zO7ewv0rtaJrn5vHuIRIQtmBwcxS5WZpI06u3Kxu+R
X-Gm-Gg: ASbGncvYO0CJtZ4jXtNWsK7HFZdoBbhq2LedC1wvLxxfwqzkCbYcputkDDsDV1EKhsz
 EWBbQjj26tmkgN0E8zYulOjYG8DziuU/3IqexP8XRYPbZGzob9/NAUismxqhtwPetCtmf1BsPZJ
 92vd5h9JluJr94SKdf7F07UGOwugzvvVqn68r1jQp7eDfIc9czEm6UWgr3SyzZvKM6ABD/D/0uj
 QgBKsLkrtRqUwQEkGGMMEhSB7hBEVTY+ukrdkNoepfvsQyi08hJnd+ezFYOHgLe1m/srfXrbhsH
 qcGKpSyodmoaCb2kyzDXasl+BI6PqLeTD8bf0Ds73Q==
X-Google-Smtp-Source: AGHT+IFdnzFtVtKzoS47c+eG5YRf1k95s6EC5puDvVf9JiEr6fJQhQ903WwsTWgRQlttE4U4VvLT8d9OfJCT
X-Received: by 2002:a05:6a21:6e03:b0:1e0:e000:ca60 with SMTP id
 adf61e73a8af0-1ed7a6c8e35mr37659728637.28.1738577275245; 
 Mon, 03 Feb 2025 02:07:55 -0800 (PST)
Received: from postal.iol.unh.edu (postal.iol.unh.edu.
 [2606:4100:3880:1234::84]) by smtp-relay.gmail.com with ESMTPS id
 d2e1a72fcca58-72fe6318942sm714673b3a.1.2025.02.03.02.07.55
 (version=TLS1_2 cipher=ECDHE-ECDSA-AES128-GCM-SHA256 bits=128/128);
 Mon, 03 Feb 2025 02:07:55 -0800 (PST)
X-Relaying-Domain: iol.unh.edu
Date: Mon, 03 Feb 2025 02:07:55 -0800 (PST)
Message-ID: <67a0957b.050a0220.2a9fef.0256SMTPIN_ADDED_MISSING@mx.google.com>
Received: from [172.21.0.5] (unknown [172.18.0.240])
 by postal.iol.unh.edu (Postfix) with ESMTP id 4ED6B6052471;
 Mon,  3 Feb 2025 05:07:54 -0500 (EST)
Subject: |SUCCESS| pw150794-150795 [PATCH] [v4,2/2] common/idpf: enable AVX2 
From: dpdklab@iol.unh.edu
To: Test Report <test-report@dpdk.org>
Cc: dpdk-test-reports@iol.unh.edu
In-Reply-To: <20250203052430.1243485-3-shaiq.wani@intel.com>
References: <20250203052430.1243485-3-shaiq.wani@intel.com>
Content-Type: text/plain
X-BeenThere: test-report@dpdk.org
X-Mailman-Version: 2.1.29
Precedence: list
List-Id: automatic DPDK test reports <test-report.dpdk.org>
List-Unsubscribe: <https://mails.dpdk.org/options/test-report>,
 <mailto:test-report-request@dpdk.org?subject=unsubscribe>
List-Archive: <http://mails.dpdk.org/archives/test-report/>
List-Post: <mailto:test-report@dpdk.org>
List-Help: <mailto:test-report-request@dpdk.org?subject=help>
List-Subscribe: <https://mails.dpdk.org/listinfo/test-report>,
 <mailto:test-report-request@dpdk.org?subject=subscribe>
Errors-To: test-report-bounces@dpdk.org

Test-Label: iol-unit-arm64-testing
Test-Status: SUCCESS
http://dpdk.org/patch/150795

_Testing PASS_

Submitter: Shaiq Wani <shaiq.wani@intel.com>
Date: Monday, February 03 2025 05:24:30 
DPDK git baseline: Repo:dpdk
  Branch: master
  CommitID:abf3b7b7b361f8aa8d75ae00d449b588a0cdcda3

150794-150795 --> testing pass

Upstream job id: Generic-Unit-Test-DPDK#311177

Test environment and result as below:

+-----------------------------+----------------+--------------+---------------------------+------------------------------+
|         Environment         | dpdk_unit_test | lpm_autotest | cryptodev_sw_zuc_autotest | cryptodev_sw_snow3g_autotest |
+=============================+================+==============+===========================+==============================+
| 32-bit Ubuntu 22.04.4 (ARM) | PASS           | SKIPPED      | SKIPPED                   | SKIPPED                      |
+-----------------------------+----------------+--------------+---------------------------+------------------------------+
| CentOS Stream 9 (ARM)       | PASS           | SKIPPED      | SKIPPED                   | SKIPPED                      |
+-----------------------------+----------------+--------------+---------------------------+------------------------------+
| Debian 12 (arm)             | PASS           | SKIPPED      | PASS                      | PASS                         |
+-----------------------------+----------------+--------------+---------------------------+------------------------------+
| Debian 11 (Buster) (ARM)    | PASS           | SKIPPED      | SKIPPED                   | SKIPPED                      |
+-----------------------------+----------------+--------------+---------------------------+------------------------------+
| Fedora 40 (ARM Clang)       | PASS           | SKIPPED      | SKIPPED                   | SKIPPED                      |
+-----------------------------+----------------+--------------+---------------------------+------------------------------+
| Fedora 41 (ARM)             | PASS           | SKIPPED      | SKIPPED                   | SKIPPED                      |
+-----------------------------+----------------+--------------+---------------------------+------------------------------+
| Fedora 40 (ARM)             | PASS           | SKIPPED      | SKIPPED                   | SKIPPED                      |
+-----------------------------+----------------+--------------+---------------------------+------------------------------+
| Fedora 41 (ARM Clang)       | PASS           | SKIPPED      | SKIPPED                   | SKIPPED                      |
+-----------------------------+----------------+--------------+---------------------------+------------------------------+
| RHEL9 (ARM)                 | PASS           | SKIPPED      | SKIPPED                   | SKIPPED                      |
+-----------------------------+----------------+--------------+---------------------------+------------------------------+
| Ubuntu 20.04 (ARM)          | PASS           | SKIPPED      | SKIPPED                   | SKIPPED                      |
+-----------------------------+----------------+--------------+---------------------------+------------------------------+
| Ubuntu 22.04 (ARM)          | PASS           | SKIPPED      | SKIPPED                   | SKIPPED                      |
+-----------------------------+----------------+--------------+---------------------------+------------------------------+
| Ubuntu 24.04 (ARM)          | PASS           | SKIPPED      | SKIPPED                   | SKIPPED                      |
+-----------------------------+----------------+--------------+---------------------------+------------------------------+
| Ubuntu 20.04 ARM SVE        | SKIPPED        | PASS         | SKIPPED                   | SKIPPED                      |
+-----------------------------+----------------+--------------+---------------------------+------------------------------+


32-bit Ubuntu 22.04.4 (ARM)
	Kernel: 5.15.83+ aarch64
	Compiler: gcc (Ubuntu 11.4.0-1ubuntu1~22.04) 11.4.0

CentOS Stream 9 (ARM)
	Kernel: Depends on container host
	Compiler: gcc 11.5.0 20240719 (Red Hat 11.5.0-2)

Debian 12 (arm)
	Kernel: Depends on container host
	Compiler: gcc (Debian 12.2.0-14) 12.2.0

Debian 11 (Buster) (ARM)
	Kernel: Depends on container host
	Compiler: gcc (Debian 10.2.1-6) 10.2.1 20210110

Fedora 40 (ARM Clang)
	Kernel: Depends on container host
	Compiler: clang 18.1.8 (Fedora 18.1.8-1.fc40)

Fedora 41 (ARM)
	Kernel: Depends on container host
	Compiler: gcc 14.2.1 20240912 (Red Hat 14.2.1-3)

Fedora 40 (ARM)
	Kernel: Depends on container host
	Compiler: gcc 14.2.1 20240912 (Red Hat 14.2.1-3)

Fedora 41 (ARM Clang)
	Kernel: Depends on container host
	Compiler: clang 19.1.5 (Fedora 19.1.5-1.fc41)

RHEL9 (ARM)
	Kernel: Depends on container host
	Compiler: gcc 11.5.0 20240719 (Red Hat 11.5.0-2)

Ubuntu 20.04 (ARM)
	Kernel: Depends on container host
	Compiler: gcc (Ubuntu 9.4.0-1ubuntu1~20.04.2) 9.4.0

Ubuntu 22.04 (ARM)
	Kernel: Depends on container host
	Compiler: gcc (Ubuntu 11.4.0-1ubuntu1~22.04) 11.4.0

Ubuntu 24.04 (ARM)
	Kernel: Depends on container host
	Compiler: gcc (Ubuntu 13.3.0-6ubuntu2~24.04) 13.3.0

Ubuntu 20.04 ARM SVE
	Kernel: Depends on container host
	Compiler: gcc (Ubuntu 10.5.0-1ubuntu1~20.04) 10.5.0

To view detailed results, visit:
https://lab.dpdk.org/results/dashboard/patchsets/32480/

UNH-IOL DPDK Community Lab

To manage your email subscriptions, visit: 
https://lab.dpdk.org/results/dashboard/preferences/subscriptions/