From mboxrd@z Thu Jan 1 00:00:00 1970 Return-Path: Received: from mails.dpdk.org (mails.dpdk.org [217.70.189.124]) by inbox.dpdk.org (Postfix) with ESMTP id 67AA146180 for ; Mon, 3 Feb 2025 11:26:35 +0100 (CET) Received: from mails.dpdk.org (localhost [127.0.0.1]) by mails.dpdk.org (Postfix) with ESMTP id 4523E40265; Mon, 3 Feb 2025 11:26:35 +0100 (CET) Received: from mail-il1-f225.google.com (mail-il1-f225.google.com [209.85.166.225]) by mails.dpdk.org (Postfix) with ESMTP id 78E4D40264 for ; Mon, 3 Feb 2025 11:26:34 +0100 (CET) Received: by mail-il1-f225.google.com with SMTP id e9e14a558f8ab-3a9caa3726fso11331465ab.1 for ; Mon, 03 Feb 2025 02:26:34 -0800 (PST) DKIM-Signature: v=1; a=rsa-sha256; c=relaxed/relaxed; d=iol.unh.edu; s=unh-iol; t=1738578394; x=1739183194; darn=dpdk.org; h=references:in-reply-to:cc:to:from:subject:message-id:date:from:to :cc:subject:date:message-id:reply-to; bh=f6N6Y25vbNWmDENL1/3JuIt1WWFyhAB3wbcVNRSy0P0=; b=UccaEeHrkpPSwqWoV3JBmzcHFGPJBCe4FgN9iQCSJNLOTtHZD7nfnY3KeQX5DV8KEg gmbDBFhcI5eBUj90WQQ8oA32wr8i7FuT7OZcVGlk9bziAnusjd6VXUlSEG30eCkm1JAL fwrIrMkRDUu52QTh7hBYRugeOUnKYl6cuYDzw= X-Google-DKIM-Signature: v=1; a=rsa-sha256; c=relaxed/relaxed; d=1e100.net; s=20230601; t=1738578394; x=1739183194; h=references:in-reply-to:cc:to:from:subject:message-id:date :x-gm-message-state:from:to:cc:subject:date:message-id:reply-to; bh=f6N6Y25vbNWmDENL1/3JuIt1WWFyhAB3wbcVNRSy0P0=; b=oizEnw+2tn5uMri57kQE15ZLYvxHlWrfoysBGq3idbKdjwwjnfdwdbfocdSnH+bVAe Hrsbsu2Wtn8+j8WmJ7ByzPC1y/Y19Fk7VIDQQr4zwk2OGzwmxIPqwrqvEwqmlrwULI1e jnwtSg4VkwySUokKBsAiw1Dh8GuYlDUhmtG69r90O3i+1Eu7WhKUWbmQqXUJlrrqnedV QA0M2gfEL4sdbevsSMognWBpo0OFBPAT/rmWOGZAI+nu1vuQZ0kGcbCmWWBz/hrCXlO/ N5CsL9YPqCaPklrahTOCqN5seOjL7Awxp+Zou/AOJRasL5JfqaQhMlxYmhaikZ8zV/VN mg9Q== X-Gm-Message-State: AOJu0Yw/k/bXOOAO08kxWiqWHUVmCYEqtUWSbJp1d94/4PtWIN6zSVu4 M2UP1ojvnU4KYZox35+hROco/j+cSh0ZMlxVF2YBMwjfX/uLtRV2Zyq+OfqhYiemKexBeMdkQyD cu2jSjW/Vl4zV+j0PEbFlhriGWXDMMdKgSUdhO8LoCr0Kr3DDMd+XPpoa X-Gm-Gg: ASbGncvtS3OEbh9lQkkA88ZWEk+cEiP/FxloZ+7eYgjBNVPu51xYe9K3XL10O7/Yg03 UgUWM3xew2QXqITwjurFoW2tPd/wR9pETdGBtJE5VadKh1J0q+0mlcPR792kEd820N/LPERqXHN eqa60fL7A1FiRxSDyHTBS809hfvTK2RbCjNgM6ZgBq9aGVIdtmV272E37hAAu/AC5RQqQW+xBai AsECaS8t1081CZFkvrky2gn3EGiibGd7LCiGsOdDagDxMC1z9zFN76gSMjnv4YWaQAXjqFqh6Yo LIK8SVwCOT7YAbpyLQT6lp29ImzmINiYNDMX4BloJg== X-Google-Smtp-Source: AGHT+IHcxlT2XTehnXteobZ4SEUDnxxrVpSVm0o1DZ+XIbOlZ0Q5eT5eC7E7NYf1JL2lrAPqf6xbRL3CXkJu X-Received: by 2002:a05:6e02:1b09:b0:3ce:7a41:d885 with SMTP id e9e14a558f8ab-3d0129ec67fmr109370575ab.1.1738578393765; Mon, 03 Feb 2025 02:26:33 -0800 (PST) Received: from postal.iol.unh.edu (postal.iol.unh.edu. [2606:4100:3880:1234::84]) by smtp-relay.gmail.com with ESMTPS id e9e14a558f8ab-3d00a5152b5sm6691435ab.33.2025.02.03.02.26.33 (version=TLS1_2 cipher=ECDHE-ECDSA-AES128-GCM-SHA256 bits=128/128); Mon, 03 Feb 2025 02:26:33 -0800 (PST) X-Relaying-Domain: iol.unh.edu Date: Mon, 03 Feb 2025 02:26:33 -0800 (PST) Message-ID: <67a099d9.050a0220.ecba4.0002SMTPIN_ADDED_MISSING@mx.google.com> Received: from [172.21.0.6] (unknown [172.18.0.240]) by postal.iol.unh.edu (Postfix) with ESMTP id 550276052471; Mon, 3 Feb 2025 05:26:33 -0500 (EST) Subject: |SUCCESS| pw150796-150797 [PATCH] [v5,2/2] common/idpf: enable AVX2 From: dpdklab@iol.unh.edu To: Test Report Cc: dpdk-test-reports@iol.unh.edu In-Reply-To: <20250203075508.1304702-3-shaiq.wani@intel.com> References: <20250203075508.1304702-3-shaiq.wani@intel.com> Content-Type: text/plain X-BeenThere: test-report@dpdk.org X-Mailman-Version: 2.1.29 Precedence: list List-Id: automatic DPDK test reports List-Unsubscribe: , List-Archive: List-Post: List-Help: List-Subscribe: , Errors-To: test-report-bounces@dpdk.org Test-Label: iol-abi-testing Test-Status: SUCCESS http://dpdk.org/patch/150797 _Testing PASS_ Submitter: Shaiq Wani Date: Monday, February 03 2025 07:55:08 DPDK git baseline: Repo:dpdk Branch: master CommitID:abf3b7b7b361f8aa8d75ae00d449b588a0cdcda3 150796-150797 --> testing pass Upstream job id: Generic-DPDK-Compile-ABI#114585 Test environment and result as below: +-------------------+----------+ | Environment | abi_test | +===================+==========+ | CentOS Stream 9 | PASS | +-------------------+----------+ | Debian 12 | PASS | +-------------------+----------+ | Debian Bullseye | PASS | +-------------------+----------+ | Fedora 40 | PASS | +-------------------+----------+ | Fedora 41 (Clang) | PASS | +-------------------+----------+ | Fedora 40 (Clang) | PASS | +-------------------+----------+ | openSUSE Leap 15 | PASS | +-------------------+----------+ | Fedora 41 | PASS | +-------------------+----------+ | RHEL8 | PASS | +-------------------+----------+ | RHEL9 | PASS | +-------------------+----------+ | Ubuntu 22.04 | PASS | +-------------------+----------+ | Ubuntu 24.04 | PASS | +-------------------+----------+ CentOS Stream 9 Kernel: Depends on container host Compiler: gcc 11.5.0 20240719 (Red Hat 11.5.0-2) Debian 12 Kernel: Depends on container host Compiler: gcc (Debian 12.2.0-14) 12.2.0 Debian Bullseye Kernel: Depends on container host Compiler: gcc (Debian 10.2.1-6) 10.2.1 20210110 Fedora 40 Kernel: Depends on container host Compiler: gcc 14.2.1 20240912 (Red Hat 14.2.1-3) Fedora 41 (Clang) Kernel: Depends on container host Compiler: clang 19.1.5 (Fedora 19.1.5-1.fc41) Fedora 40 (Clang) Kernel: Depends on container host Compiler: clang 18.1.8 (Fedora 18.1.8-1.fc40) openSUSE Leap 15 Kernel: Depends on container host Compiler: gcc (SUSE Linux) 7.5.0 Fedora 41 Kernel: Depends on container host Compiler: gcc 14.2.1 20240912 (Red Hat 14.2.1-3) RHEL8 Kernel: Depends on container host Compiler: gcc 8.5.0 20210514 (Red Hat 8.5.0-22) RHEL9 Kernel: Depends on container host Compiler: gcc 11.5.0 20240719 (Red Hat 11.5.0-2) Ubuntu 22.04 Kernel: Depends on container host Compiler: gcc (Ubuntu 11.4.0-1ubuntu1~22.04) 11.4.0 Ubuntu 24.04 Kernel: Depends on container host Compiler: gcc (Ubuntu 13.3.0-6ubuntu2~24.04) 13.3.0 To view detailed results, visit: https://lab.dpdk.org/results/dashboard/patchsets/32481/ UNH-IOL DPDK Community Lab To manage your email subscriptions, visit: https://lab.dpdk.org/results/dashboard/preferences/subscriptions/