From mboxrd@z Thu Jan 1 00:00:00 1970 Return-Path: Received: from mails.dpdk.org (mails.dpdk.org [217.70.189.124]) by inbox.dpdk.org (Postfix) with ESMTP id 00BE946180 for ; Mon, 3 Feb 2025 11:45:16 +0100 (CET) Received: from mails.dpdk.org (localhost [127.0.0.1]) by mails.dpdk.org (Postfix) with ESMTP id D734740265; Mon, 3 Feb 2025 11:45:16 +0100 (CET) Received: from mail-io1-f100.google.com (mail-io1-f100.google.com [209.85.166.100]) by mails.dpdk.org (Postfix) with ESMTP id 8DCA940264 for ; Mon, 3 Feb 2025 11:45:15 +0100 (CET) Received: by mail-io1-f100.google.com with SMTP id ca18e2360f4ac-844e06e5d11so111351639f.0 for ; Mon, 03 Feb 2025 02:45:15 -0800 (PST) DKIM-Signature: v=1; a=rsa-sha256; c=relaxed/relaxed; d=iol.unh.edu; s=unh-iol; t=1738579515; x=1739184315; darn=dpdk.org; h=cc:to:from:subject:message-id:date:from:to:cc:subject:date :message-id:reply-to; bh=E+2qbSYYYyQOhn/IyHSQUpL9GkxKAigMoOvHAoqXNiI=; b=eTzj5PcLWcaaF7jtT0MCokjJMT07z/GJHh9mLzvfZqOeNRZv0agZSV2tYK9kORWJD+ aW6gSSgnvvmOJ5RuzEzKRJRJaY60pYbqtCXl91yFfK3tnmJjLltLOacyTv/HdGlnmhF1 iciB7dazme06EUjJoDtQKkNly+SnREw00y97M= X-Google-DKIM-Signature: v=1; a=rsa-sha256; c=relaxed/relaxed; d=1e100.net; s=20230601; t=1738579515; x=1739184315; h=cc:to:from:subject:message-id:date:x-gm-message-state:from:to:cc :subject:date:message-id:reply-to; bh=E+2qbSYYYyQOhn/IyHSQUpL9GkxKAigMoOvHAoqXNiI=; b=dAFpFIuFpt0aPo4rF9eOmAkKyNfBQEBa3FFFDApM+kQ6/D+ojdOE1U/HkVAER7S6+s Qw54Ir8tmgitgfO15Ou3iXPhEAQC+2CIJaX7LNFi3NlynPlXSkV/1tE1tsM7LczSJK5B BP/Wz2xOBfmpHtnzL6bu/8C3FlBsUgaf2grw2XfTP762pRlst77lppg2msPPeC41Jh2A qPwybezvb9ouSqvJCnKsJT2n/4K9RNKW87Km33+nbUE8/uceqn46WpUXAYZeKKBKt9e0 EBIXgK2gNFulI1VwftKRffHrawYqahhWBPL04rzGVwNlZ4vH0TcEhlcLGUmdTuuLw+72 ADDw== X-Gm-Message-State: AOJu0Yz3xF1/Nprw8HNlziual+PF/2cVl9z8AYv5o+It/2qdPbfvhxLA y3bUYAcVUR61TU2eX62hCSSHN9BtrXC4vw/guTqTWZ4hp5iZf5ffY4A2+Cw6fVgoSAnAQ5FXcZe z8+2+D517I+1PEvlccQ5PeFSX7FEhgEc4 X-Gm-Gg: ASbGncs8D5YoJjkw9FWyrLkJtA2/UpKKIUQAOZcdcakgfz2mNbdnXTDGICB1Vb6z/TP igP0EZikQAkEqfyXpNKfvD0SWnZ9dEi4Ftn5AbLk9homN0F0+XfktliJkdC/qiHUpM02rIVZ19r mQuzVnjZ6kTSBOMmceELL393SQseYvpXAdMItvNwkWaTM738iNU2FeLSUf1nXGWZqpcIwbxdNIh ncpuV+B0F54bYyhUSNqdRKHMoX4QjWk37fuADsK9iqbv7xhDjZ7RHZaDLj9ZgYnM40Y1pR/5ST7 SO3Y15G0MGAd+7uPUcoAxS/BRCDYvw== X-Google-Smtp-Source: AGHT+IFE9OHI6ASFg8T/6mruE23rirWBZWDcpmdpVsA8ZFXB4RA0JnANR9TVcYLqo2Fk5FXpd/2D8IeNkT4W X-Received: by 2002:a05:6602:2b85:b0:841:a80a:f536 with SMTP id ca18e2360f4ac-85427e05073mr2252056239f.14.1738579514826; Mon, 03 Feb 2025 02:45:14 -0800 (PST) Received: from postal.iol.unh.edu (postal.iol.unh.edu. [132.177.123.84]) by smtp-relay.gmail.com with ESMTPS id 8926c6da1cb9f-4ec7469d846sm556341173.54.2025.02.03.02.45.14 (version=TLS1_2 cipher=ECDHE-ECDSA-AES128-GCM-SHA256 bits=128/128); Mon, 03 Feb 2025 02:45:14 -0800 (PST) X-Relaying-Domain: iol.unh.edu Date: Mon, 03 Feb 2025 02:45:14 -0800 (PST) Message-ID: <67a09e3a.050a0220.51f91.a1fbSMTPIN_ADDED_MISSING@mx.google.com> Received: from [172.21.0.5] (unknown [172.18.0.240]) by postal.iol.unh.edu (Postfix) with ESMTP id 4A9996052471; Mon, 3 Feb 2025 05:45:14 -0500 (EST) Subject: |SUCCESS| [GIT MASTER] c66daa12e76d7b4912cfb7109a761856a7a873ab From: dpdklab@iol.unh.edu To: Test Report Cc: dpdk-test-reports@iol.unh.edu, Xueming Li , Christian Ehrhardt , Kevin Traynor , Luca Boccassi Content-Type: text/plain X-BeenThere: test-report@dpdk.org X-Mailman-Version: 2.1.29 Precedence: list List-Id: automatic DPDK test reports List-Unsubscribe: , List-Archive: List-Post: List-Help: List-Subscribe: , Errors-To: test-report-bounces@dpdk.org _Testing PASS_ Branch: tags/v23.11 c66daa12e76d7b4912cfb7109a761856a7a873ab --> testing pass Upstream job id: Generic-DPDK-Compile-Meson#357263 Test environment and result as below: +------------------------------------+--------------------+ | Environment | dpdk_meson_compile | +====================================+====================+ | RHEL9 (ARM) | PASS | +------------------------------------+--------------------+ | Ubuntu 20.04 ARM GCC Cross Compile | PASS | +------------------------------------+--------------------+ | Ubuntu 20.04 ARM SVE | PASS | +------------------------------------+--------------------+ | Debian 12 with MUSDK | PASS | +------------------------------------+--------------------+ | Fedora 40 (ARM) | PASS | +------------------------------------+--------------------+ | Fedora 41 (ARM Clang) | PASS | +------------------------------------+--------------------+ | Fedora 40 (ARM Clang) | PASS | +------------------------------------+--------------------+ | Ubuntu 20.04 (ARM) | PASS | +------------------------------------+--------------------+ | Ubuntu 24.04 (ARM) | PASS | +------------------------------------+--------------------+ | Ubuntu 22.04 (ARM) | PASS | +------------------------------------+--------------------+ | CentOS Stream 9 (ARM) | PASS | +------------------------------------+--------------------+ | Debian 11 (Buster) (ARM) | PASS | +------------------------------------+--------------------+ | Debian 12 (arm) | PASS | +------------------------------------+--------------------+ | Fedora 41 (ARM) | PASS | +------------------------------------+--------------------+ RHEL9 (ARM) Kernel: Depends on container host Compiler: gcc 11.5.0 20240719 (Red Hat 11.5.0-2) Ubuntu 20.04 ARM GCC Cross Compile Kernel: Depends on container host Compiler: aarch64-linux-gnu-gcc (Ubuntu 9.4.0-1ubuntu1~20.04.2) 9.4.0 Ubuntu 20.04 ARM SVE Kernel: Depends on container host Compiler: gcc (Ubuntu 10.5.0-1ubuntu1~20.04) 10.5.0 Debian 12 with MUSDK Kernel: Depends on container host Compiler: gcc (Debian 12.2.0-14) 12.2.0 Fedora 40 (ARM) Kernel: Depends on container host Compiler: gcc 14.2.1 20240912 (Red Hat 14.2.1-3) Fedora 41 (ARM Clang) Kernel: Depends on container host Compiler: clang 19.1.5 (Fedora 19.1.5-1.fc41) Fedora 40 (ARM Clang) Kernel: Depends on container host Compiler: clang 18.1.8 (Fedora 18.1.8-1.fc40) Ubuntu 20.04 (ARM) Kernel: Depends on container host Compiler: gcc (Ubuntu 9.4.0-1ubuntu1~20.04.2) 9.4.0 Ubuntu 24.04 (ARM) Kernel: Depends on container host Compiler: gcc (Ubuntu 13.3.0-6ubuntu2~24.04) 13.3.0 Ubuntu 22.04 (ARM) Kernel: Depends on container host Compiler: gcc (Ubuntu 11.4.0-1ubuntu1~22.04) 11.4.0 CentOS Stream 9 (ARM) Kernel: Depends on container host Compiler: gcc 11.5.0 20240719 (Red Hat 11.5.0-2) Debian 11 (Buster) (ARM) Kernel: Depends on container host Compiler: gcc (Debian 10.2.1-6) 10.2.1 20210110 Debian 12 (arm) Kernel: Depends on container host Compiler: gcc (Debian 12.2.0-14) 12.2.0 Fedora 41 (ARM) Kernel: Depends on container host Compiler: gcc 14.2.1 20240912 (Red Hat 14.2.1-3) To view detailed results, visit: https://lab.dpdk.org/results/dashboard/tarballs/32422/ UNH-IOL DPDK Community Lab To manage your email subscriptions, visit: https://lab.dpdk.org/results/dashboard/preferences/subscriptions/