From mboxrd@z Thu Jan 1 00:00:00 1970 Return-Path: Received: from mails.dpdk.org (mails.dpdk.org [217.70.189.124]) by inbox.dpdk.org (Postfix) with ESMTP id 4851146180 for ; Mon, 3 Feb 2025 11:47:02 +0100 (CET) Received: from mails.dpdk.org (localhost [127.0.0.1]) by mails.dpdk.org (Postfix) with ESMTP id 1A4F340265; Mon, 3 Feb 2025 11:47:02 +0100 (CET) Received: from mail-io1-f98.google.com (mail-io1-f98.google.com [209.85.166.98]) by mails.dpdk.org (Postfix) with ESMTP id E64EF40264 for ; Mon, 3 Feb 2025 11:47:00 +0100 (CET) Received: by mail-io1-f98.google.com with SMTP id ca18e2360f4ac-851c4f1fb18so99509239f.2 for ; Mon, 03 Feb 2025 02:47:00 -0800 (PST) DKIM-Signature: v=1; a=rsa-sha256; c=relaxed/relaxed; d=iol.unh.edu; s=unh-iol; t=1738579620; x=1739184420; darn=dpdk.org; h=references:in-reply-to:cc:to:from:subject:message-id:date:from:to :cc:subject:date:message-id:reply-to; bh=cnkx7rW4THodQtZ/slZ0a7k0R0EH5QJYcobPpiGn8tE=; b=BqsbNiTMbe6etLYpUwveKdwz8yRSp0g3e9DyRaKE4JN32YKrpWXuZqpcXEL7yYkWIE YWEIo2jaoioKSrpGtinQT76rYdzYuaePB82PEK6/UHIpgZWdmlxnqKwE7gewAOiAnp/w ZvDd5n9oAT2ReTzrARxNGYyK1LBeHTGuwPX2w= X-Google-DKIM-Signature: v=1; a=rsa-sha256; c=relaxed/relaxed; d=1e100.net; s=20230601; t=1738579620; x=1739184420; h=references:in-reply-to:cc:to:from:subject:message-id:date :x-gm-message-state:from:to:cc:subject:date:message-id:reply-to; bh=cnkx7rW4THodQtZ/slZ0a7k0R0EH5QJYcobPpiGn8tE=; b=WP74mmrkEPt9BUneRbQ63rvpEH24iVb2qj9ciDKHuX8wx9iofQAddzp9pZVq1Zbvrt iuqvwVC8GOhfPJ12XIRvx37DnKmtw5JRoqaSxcgi+8DhdAwzJ1TogC/YkcyZuqkabV9c GyZClOikRA0WmozlY+IUdRNmaqLezZ7ShsD/NJH7BpIoJ0wNZPdESAcK57alqe9Y4Ho5 u0mCSO+8TrSoMvcX/uNi+jqvwg1gypFuyrXAQtS9s8E+yQy53qTy4wb2sz+PyFnhZfra A19+Al1QEbtTBJn3K89VlJeO+3qQcnrC+LXeXJO66bgFoID0kVuzyapJ4T01LqWaUbjk apUQ== X-Gm-Message-State: AOJu0YxkwDC/gDK073HUS20rR6x2so2MIz5iwJLFEdIQ9iqZsmMJVzOO oxZvXw88aB5VVI9zqwy4dg+oo/LGlom+v0PUrp8YlJSrznNbMaQCXAG7u6+6stjvfp30z9pjdFc BQlGLXwR0qP/WZrb/AAF9jSWZMtmouzE3B9S+de9loWsPl87d5w9msm8T X-Gm-Gg: ASbGncuxo/FRXTXY9t/oRCg/C8+H92cVNYrWJTmYtD9M2dXLR4ODmpYxXGEKxkoeC6W BOiyXdHHFXjf5GxW+2mmCKZ4S+LQcXjcemc8UY76wUH68l60C22jFTAM8cnThO4m844Gezr8dX5 FO6jxnayDuNfMbwnmOoCltBktrnSmAVyn439TPvforInButlxDLwRrRcNntnLr0EnSHgJRWYIXa fBDh8BH/cC5ussiihI53X04QWs8C67W0CfMnEFch5vSHR4Zj9H3NdJ55qsb3i+GoXggcO700KxB f95CaybvKSFGKei7IqIYisNYdvildCQ0Oe9OGeVs6w== X-Google-Smtp-Source: AGHT+IFWVbERv+OpSAXluzBfIW7/XLGE3ENiLWj8co2M3hWmN21NANZAshgI6u4Ea6n/vB7wUzsmHktiTDJI X-Received: by 2002:a05:6e02:2611:b0:3cf:c9ad:46a5 with SMTP id e9e14a558f8ab-3cffe470194mr182957615ab.16.1738579620253; Mon, 03 Feb 2025 02:47:00 -0800 (PST) Received: from postal.iol.unh.edu (postal.iol.unh.edu. [2606:4100:3880:1234::84]) by smtp-relay.gmail.com with ESMTPS id e9e14a558f8ab-3d017511327sm5139715ab.45.2025.02.03.02.47.00 (version=TLS1_2 cipher=ECDHE-ECDSA-AES128-GCM-SHA256 bits=128/128); Mon, 03 Feb 2025 02:47:00 -0800 (PST) X-Relaying-Domain: iol.unh.edu Date: Mon, 03 Feb 2025 02:47:00 -0800 (PST) Message-ID: <67a09ea4.050a0220.3582c7.58fbSMTPIN_ADDED_MISSING@mx.google.com> Received: from [172.17.0.5] (unknown [172.18.0.217]) by postal.iol.unh.edu (Postfix) with ESMTP id B51CE6052471; Mon, 3 Feb 2025 05:46:59 -0500 (EST) Subject: |SUCCESS| pw150796-150797 [PATCH] [v5,2/2] common/idpf: enable AVX2 From: dpdklab@iol.unh.edu To: Test Report Cc: dpdk-test-reports@iol.unh.edu In-Reply-To: <20250203075508.1304702-3-shaiq.wani@intel.com> References: <20250203075508.1304702-3-shaiq.wani@intel.com> Content-Type: text/plain X-BeenThere: test-report@dpdk.org X-Mailman-Version: 2.1.29 Precedence: list List-Id: automatic DPDK test reports List-Unsubscribe: , List-Archive: List-Post: List-Help: List-Subscribe: , Errors-To: test-report-bounces@dpdk.org Test-Label: iol-unit-amd64-testing Test-Status: SUCCESS http://dpdk.org/patch/150797 _Testing PASS_ Submitter: Shaiq Wani Date: Monday, February 03 2025 07:55:08 DPDK git baseline: Repo:dpdk Branch: master CommitID:abf3b7b7b361f8aa8d75ae00d449b588a0cdcda3 150796-150797 --> testing pass Upstream job id: Generic-Unit-Test-DPDK#311211 Test environment and result as below: +---------------------+----------------+ | Environment | dpdk_unit_test | +=====================+================+ | Fedora 40 | PASS | +---------------------+----------------+ | Debian Bullseye | PASS | +---------------------+----------------+ | Debian 12 | PASS | +---------------------+----------------+ | CentOS Stream 9 | PASS | +---------------------+----------------+ | Fedora 41 | PASS | +---------------------+----------------+ | Fedora 41 (Clang) | PASS | +---------------------+----------------+ | Fedora 40 (Clang) | PASS | +---------------------+----------------+ | RHEL9 | PASS | +---------------------+----------------+ | RHEL8 | PASS | +---------------------+----------------+ | Ubuntu 22.04 | PASS | +---------------------+----------------+ | Ubuntu 20.04 | PASS | +---------------------+----------------+ | Ubuntu 24.04 | PASS | +---------------------+----------------+ | Windows Server 2022 | PASS | +---------------------+----------------+ Fedora 40 Kernel: Depends on container host Compiler: gcc 14.2.1 20240912 (Red Hat 14.2.1-3) Debian Bullseye Kernel: Depends on container host Compiler: gcc (Debian 10.2.1-6) 10.2.1 20210110 Debian 12 Kernel: Depends on container host Compiler: gcc (Debian 12.2.0-14) 12.2.0 CentOS Stream 9 Kernel: Depends on container host Compiler: gcc 11.5.0 20240719 (Red Hat 11.5.0-2) Fedora 41 Kernel: Depends on container host Compiler: gcc 14.2.1 20240912 (Red Hat 14.2.1-3) Fedora 41 (Clang) Kernel: Depends on container host Compiler: clang 19.1.5 (Fedora 19.1.5-1.fc41) Fedora 40 (Clang) Kernel: Depends on container host Compiler: clang 18.1.8 (Fedora 18.1.8-1.fc40) RHEL9 Kernel: Depends on container host Compiler: gcc 11.5.0 20240719 (Red Hat 11.5.0-2) RHEL8 Kernel: Depends on container host Compiler: gcc 8.5.0 20210514 (Red Hat 8.5.0-22) Ubuntu 22.04 Kernel: Depends on container host Compiler: gcc (Ubuntu 11.4.0-1ubuntu1~22.04) 11.4.0 Ubuntu 20.04 Kernel: Depends on container host Compiler: gcc (Ubuntu 9.4.0-1ubuntu1~20.04.2) 9.4.0 Ubuntu 24.04 Kernel: Depends on container host Compiler: gcc (Ubuntu 13.3.0-6ubuntu2~24.04) 13.3.0 Windows Server 2022 Kernel: 10.0.20348.2031 Compiler: clang 15.0.7, gcc 14.1.0 (MinGW), and MSVC VS 19.39.33521 To view detailed results, visit: https://lab.dpdk.org/results/dashboard/patchsets/32481/ UNH-IOL DPDK Community Lab To manage your email subscriptions, visit: https://lab.dpdk.org/results/dashboard/preferences/subscriptions/