From mboxrd@z Thu Jan  1 00:00:00 1970
Return-Path: <test-report-bounces@dpdk.org>
Received: from mails.dpdk.org (mails.dpdk.org [217.70.189.124])
	by inbox.dpdk.org (Postfix) with ESMTP id 74CDA46181
	for <public@inbox.dpdk.org>; Mon,  3 Feb 2025 12:09:07 +0100 (CET)
Received: from mails.dpdk.org (localhost [127.0.0.1])
	by mails.dpdk.org (Postfix) with ESMTP id 4C90440265;
	Mon,  3 Feb 2025 12:09:07 +0100 (CET)
Received: from mail-ot1-f100.google.com (mail-ot1-f100.google.com
 [209.85.210.100])
 by mails.dpdk.org (Postfix) with ESMTP id C46F240264
 for <test-report@dpdk.org>; Mon,  3 Feb 2025 12:09:05 +0100 (CET)
Received: by mail-ot1-f100.google.com with SMTP id
 46e09a7af769-71fbb0d035dso2602893a34.2
 for <test-report@dpdk.org>; Mon, 03 Feb 2025 03:09:05 -0800 (PST)
DKIM-Signature: v=1; a=rsa-sha256; c=relaxed/relaxed;
 d=iol.unh.edu; s=unh-iol; t=1738580945; x=1739185745; darn=dpdk.org;
 h=references:in-reply-to:cc:to:from:subject:message-id:date:from:to
 :cc:subject:date:message-id:reply-to;
 bh=shp8WfdF3EK9Ai/mrenciYXz30l/luLSs6MnwHHWRWE=;
 b=RHmaT+DdZYW9iPFlYxC43r8eTCzFs/Ona6GGQniOF7FlIqenM7QnSObC/ht8EaWgF+
 I5uKSQiiMyHEvJZ8XBtsE5lFXz5hYbQIExsN5zYE4grw8B1WtaQQDvFKz6bX/NrUm07i
 1mZWLFgWSLUZi9IpDlHFiK4Db19YXwfRbIO4A=
X-Google-DKIM-Signature: v=1; a=rsa-sha256; c=relaxed/relaxed;
 d=1e100.net; s=20230601; t=1738580945; x=1739185745;
 h=references:in-reply-to:cc:to:from:subject:message-id:date
 :x-gm-message-state:from:to:cc:subject:date:message-id:reply-to;
 bh=shp8WfdF3EK9Ai/mrenciYXz30l/luLSs6MnwHHWRWE=;
 b=W5LdmVqc5/lLFai/iukXCzdILkxuAaekR9AzPwtliKBx/JfWYoK2cNsOgbuyepNMbc
 miV8yY5DSToq9dx20uXcpmoOsExe0qOZJzipA3knkrmMsZB7jwXTY1mozBKrr+j1gQu0
 JEvmAOQmbgYp4sCIETuxgVTp3WAmvXMh9RI4Rpv8OOjRHrNbx5rVxoXlbVvRuxAZLE8/
 x8l4gXAOm+meCwr178H/Ewe2ck2PYSWl8YL78f1VD5rzXeQvE5lyIdiFgjV+Ni9lUYHi
 IQ10mLkNfRZH102B5LoN2q2Q7wIAgmVioyDb0SbTpXKbDxDB3sHO0q4Q9oXfgvaZ96rH
 uYOA==
X-Gm-Message-State: AOJu0YyfAzfO+PgHgtG40qRTF0ojOONYv1ALlKJvSHop428ycWQdHX1w
 wVJcNbfgwMf3o8NshHvg6mVmtezhDIkQcuMiiRXVVEYIVpuaWiCn4nVvMUf1PyOu1nx0bMTvTYp
 16GPwzk+ZbgrE4FmLAFBdMhyNN3AC4nqUBJmGJqYq
X-Gm-Gg: ASbGncuF7Cvd+/lwhkqAv/YU9r5Lj3gbydBw6qEZKr/8t7eG0b3+5Poj2faoNRP/VtT
 QiXIOuMg5fijdO6udLqphJSfpOQTJUJmHMEbfjxm6InNCGlPj6u4eeDunzVIPXJuSfvXpdVygS2
 M4otIoIJPe1jl26jVCYFO7TU6S/miwktKXNKqA/kDf3Ug8cqn+J/cewMhmM8jME8AfOta9WWqoa
 aJfAAtCfiM8qRL1LD2+XkDCE9fEPzZFaN+luBjxPgl5BFozMsZT+BNNvxhx86Y4A4QxE8ZtBMmW
 GPGU1vZOSkIVukgLxFP5yovX/mJj9A==
X-Google-Smtp-Source: AGHT+IEwz166ut1OY1DQ2Mi6fgvIXoFiC48YaXQcy4X/eLDZ5Mm/WxBKz6R3KNLFTX/Ul8LjYhswrCgc6sQB
X-Received: by 2002:a05:6830:6e94:b0:718:105b:1185 with SMTP id
 46e09a7af769-726567934d4mr14498085a34.14.1738580944828; 
 Mon, 03 Feb 2025 03:09:04 -0800 (PST)
Received: from postal.iol.unh.edu (postal.iol.unh.edu. [132.177.123.84])
 by smtp-relay.gmail.com with ESMTPS id
 586e51a60fabf-2b3561a8353sm667213fac.15.2025.02.03.03.09.04
 (version=TLS1_2 cipher=ECDHE-ECDSA-AES128-GCM-SHA256 bits=128/128);
 Mon, 03 Feb 2025 03:09:04 -0800 (PST)
X-Relaying-Domain: iol.unh.edu
Date: Mon, 03 Feb 2025 03:09:04 -0800 (PST)
Message-ID: <67a0a3d0.050a0220.3fb4.e7caSMTPIN_ADDED_MISSING@mx.google.com>
Received: from [172.17.0.4] (unknown [172.18.0.217])
 by postal.iol.unh.edu (Postfix) with ESMTP id 40C9F6052471;
 Mon,  3 Feb 2025 06:09:04 -0500 (EST)
Subject: |SUCCESS| pw150796-150797 [PATCH] [v5,2/2] common/idpf: enable AVX2 
From: dpdklab@iol.unh.edu
To: Test Report <test-report@dpdk.org>
Cc: dpdk-test-reports@iol.unh.edu
In-Reply-To: <20250203075508.1304702-3-shaiq.wani@intel.com>
References: <20250203075508.1304702-3-shaiq.wani@intel.com>
Content-Type: text/plain
X-BeenThere: test-report@dpdk.org
X-Mailman-Version: 2.1.29
Precedence: list
List-Id: automatic DPDK test reports <test-report.dpdk.org>
List-Unsubscribe: <https://mails.dpdk.org/options/test-report>,
 <mailto:test-report-request@dpdk.org?subject=unsubscribe>
List-Archive: <http://mails.dpdk.org/archives/test-report/>
List-Post: <mailto:test-report@dpdk.org>
List-Help: <mailto:test-report-request@dpdk.org?subject=help>
List-Subscribe: <https://mails.dpdk.org/listinfo/test-report>,
 <mailto:test-report-request@dpdk.org?subject=subscribe>
Errors-To: test-report-bounces@dpdk.org

Test-Label: iol-sample-apps-testing
Test-Status: SUCCESS
http://dpdk.org/patch/150797

_Testing PASS_

Submitter: Shaiq Wani <shaiq.wani@intel.com>
Date: Monday, February 03 2025 07:55:08 
DPDK git baseline: Repo:dpdk
  Branch: master
  CommitID:abf3b7b7b361f8aa8d75ae00d449b588a0cdcda3

150796-150797 --> testing pass

Upstream job id: ACVP-FIPS-testing#8765

Test environment and result as below:

+--------------------+----------------------+----------------------+
|    Environment     | compressdev_zlib_pmd | dpdk_fips_validation |
+====================+======================+======================+
| Ubuntu 22.04 (ARM) | PASS                 | SKIPPED              |
+--------------------+----------------------+----------------------+
| Ubuntu 22.04       | PASS                 | SKIPPED              |
+--------------------+----------------------+----------------------+
| Ubuntu 20.04       | SKIPPED              | PASS                 |
+--------------------+----------------------+----------------------+


Ubuntu 22.04 (ARM)
	Kernel: 5.15.0-97-generic
	Compiler: gcc gcc (Ubuntu 11.4.0-1ubuntu1~22.04) 11.4.0

Ubuntu 22.04
	Kernel: 5.15.0-100-generic
	Compiler: gcc gcc (Ubuntu 11.4.0-1ubuntu1~22.04) 11.4.0

Ubuntu 20.04
	Kernel: Depends on container host
	Compiler: gcc (Ubuntu 9.4.0-1ubuntu1~20.04.2) 9.4.0

To view detailed results, visit:
https://lab.dpdk.org/results/dashboard/patchsets/32481/

UNH-IOL DPDK Community Lab

To manage your email subscriptions, visit: 
https://lab.dpdk.org/results/dashboard/preferences/subscriptions/