From mboxrd@z Thu Jan  1 00:00:00 1970
Return-Path: <test-report-bounces@dpdk.org>
Received: from mails.dpdk.org (mails.dpdk.org [217.70.189.124])
	by inbox.dpdk.org (Postfix) with ESMTP id E220046181
	for <public@inbox.dpdk.org>; Mon,  3 Feb 2025 12:16:12 +0100 (CET)
Received: from mails.dpdk.org (localhost [127.0.0.1])
	by mails.dpdk.org (Postfix) with ESMTP id ED70C40265;
	Mon,  3 Feb 2025 12:16:11 +0100 (CET)
Received: from mail-qk1-f228.google.com (mail-qk1-f228.google.com
 [209.85.222.228])
 by mails.dpdk.org (Postfix) with ESMTP id 6CE8940264
 for <test-report@dpdk.org>; Mon,  3 Feb 2025 12:16:11 +0100 (CET)
Received: by mail-qk1-f228.google.com with SMTP id
 af79cd13be357-7be8f28172dso200428985a.3
 for <test-report@dpdk.org>; Mon, 03 Feb 2025 03:16:11 -0800 (PST)
DKIM-Signature: v=1; a=rsa-sha256; c=relaxed/relaxed;
 d=iol.unh.edu; s=unh-iol; t=1738581371; x=1739186171; darn=dpdk.org;
 h=references:in-reply-to:cc:to:from:subject:message-id:date:from:to
 :cc:subject:date:message-id:reply-to;
 bh=agLABnWnCeXJ5GoK6FpOPQcZCUv2biGURfZPDvL8oCA=;
 b=UrPtD1zF3j+FwIsFM9jUoIsM6XouT86wQSv+MXCsDxMsUUWbuJr6gDbtld5QUuP+Mh
 ucl8hIe3T/bKhfhmZs4mCM/JZPqZxTyxWgCsP8zMN4qaPH+r4v0+KedQTvp8dlxJa8kp
 TZTRI6F9Ja17QKBstPURKE5YvV5OUpMm7IBgo=
X-Google-DKIM-Signature: v=1; a=rsa-sha256; c=relaxed/relaxed;
 d=1e100.net; s=20230601; t=1738581371; x=1739186171;
 h=references:in-reply-to:cc:to:from:subject:message-id:date
 :x-gm-message-state:from:to:cc:subject:date:message-id:reply-to;
 bh=agLABnWnCeXJ5GoK6FpOPQcZCUv2biGURfZPDvL8oCA=;
 b=eVMD4Q4csymLbd5LhEBm0drlNJFd+oSRhjHqFoeIffa33AAewyxKRcHo7kGX6GhFpA
 6V8zk4b74cJZjzSZavYyBhpAre/qz42QEtQb1eCQDEeCXm+Kw/tvngZxaBJEKTj/cid6
 V88TIJcYCplcPbeOm1kmwWPO/4uX4spu1HxRoVieWCGzD7E2FuJAwX1Hs9gcO4pikI8P
 brY48hiztJdN9iw0oQZW6j9a9gUcdVsE9hM3WGirYGPphUTYDtKDuLlNxvW37kUu2WyC
 CmuTPMNmgxvI4UM2Mse6OmzArDAo8mTys1GG7rmP3vmDAxEc5/FqIlfaNyBhxejSNGu2
 cnkg==
X-Gm-Message-State: AOJu0YxDxTOgSXGg7cftZRpfi+qeFbiis6if/3CFlR4cfPyS4xAjKozU
 kICS0ANncJYKoHYbyQcNug9oBnW0Rzr6X4nnnSwUmRfkVljAc3SUxxopKPhq33gry6hj2EjRx1v
 bVCqtzMgrsi3bOv2a3vOUAW6bCZ02S3pDNrsrmxF+
X-Gm-Gg: ASbGncsy1meUd1kK2nXtumjh8gQw2fPUbYVBJqw16gNM2b1nSo05EaQVL9EMPU3/7z2
 E11ksVxPKsgOuwCTjCWhuvXDXtiPB0BFKawXyjEPl8v/MXo9YamNcRgGHPAPit+dDuyRHz83q/0
 Lbgja/4KSjHYL4HiCIY465x561eOYTiho1PwaRjEPtMVlmBc29/WWZ/VZTkg3BspQ2Tj9O37o1h
 oUPGNaCh+aUvsx2tNOu5HzxNJ9hiekvcFB0zb/pfY1gc2yNdjO5rLwE0PqcPMkxFLa4Old3HKyx
 Fg7NI7KbFPlrXZCYbnXWfa7/lNpfzA==
X-Google-Smtp-Source: AGHT+IGw3IpjjRF24bscmyZZ8xIqmBXj9tG7xsRBsY5665o2B/hp3sCwjKBdQ159x56WbLwkRTDXLX/2dUmw
X-Received: by 2002:a05:6214:21e7:b0:6d4:2131:563c with SMTP id
 6a1803df08f44-6e243bf62b2mr315323616d6.27.1738581370842; 
 Mon, 03 Feb 2025 03:16:10 -0800 (PST)
Received: from postal.iol.unh.edu (postal.iol.unh.edu. [132.177.123.84])
 by smtp-relay.gmail.com with ESMTPS id
 6a1803df08f44-6e254810470sm7066486d6.22.2025.02.03.03.16.10
 (version=TLS1_2 cipher=ECDHE-ECDSA-AES128-GCM-SHA256 bits=128/128);
 Mon, 03 Feb 2025 03:16:10 -0800 (PST)
X-Relaying-Domain: iol.unh.edu
Date: Mon, 03 Feb 2025 03:16:10 -0800 (PST)
Message-ID: <67a0a57a.d40a0220.197605.5f0fSMTPIN_ADDED_MISSING@mx.google.com>
Received: from [172.17.0.4] (unknown [172.18.0.217])
 by postal.iol.unh.edu (Postfix) with ESMTP id 56E626052471;
 Mon,  3 Feb 2025 06:16:10 -0500 (EST)
Subject: |WARNING| pw150796-150797 [PATCH] [v5,2/2] common/idpf: enable AVX2 
From: dpdklab@iol.unh.edu
To: Test Report <test-report@dpdk.org>
Cc: dpdk-test-reports@iol.unh.edu
In-Reply-To: <20250203075508.1304702-3-shaiq.wani@intel.com>
References: <20250203075508.1304702-3-shaiq.wani@intel.com>
Content-Type: text/plain
X-BeenThere: test-report@dpdk.org
X-Mailman-Version: 2.1.29
Precedence: list
List-Id: automatic DPDK test reports <test-report.dpdk.org>
List-Unsubscribe: <https://mails.dpdk.org/options/test-report>,
 <mailto:test-report-request@dpdk.org?subject=unsubscribe>
List-Archive: <http://mails.dpdk.org/archives/test-report/>
List-Post: <mailto:test-report@dpdk.org>
List-Help: <mailto:test-report-request@dpdk.org?subject=help>
List-Subscribe: <https://mails.dpdk.org/listinfo/test-report>,
 <mailto:test-report-request@dpdk.org?subject=subscribe>
Errors-To: test-report-bounces@dpdk.org

Test-Label: iol-compile-amd64-testing
Test-Status: WARNING
http://dpdk.org/patch/150797

_Testing issues_

Submitter: Shaiq Wani <shaiq.wani@intel.com>
Date: Monday, February 03 2025 07:55:08 
DPDK git baseline: Repo:dpdk
  Branch: master
  CommitID:abf3b7b7b361f8aa8d75ae00d449b588a0cdcda3

150796-150797 --> testing issues

Upstream job id: Generic-DPDK-Compile-Meson#357313

Test environment and result as below:

+---------------------+--------------------+------------------+-------------------+-------------------+----------------------+
|     Environment     | dpdk_meson_compile | dpdk_compile_ovs | dpdk_compile_spdk | dpdk_msvc_compile | dpdk_mingw64_compile |
+=====================+====================+==================+===================+===================+======================+
| CentOS Stream 9     | PASS               | PASS             | PASS              | SKIPPED           | SKIPPED              |
+---------------------+--------------------+------------------+-------------------+-------------------+----------------------+
| Debian 12           | PASS               | PASS             | PASS              | SKIPPED           | SKIPPED              |
+---------------------+--------------------+------------------+-------------------+-------------------+----------------------+
| Debian Bullseye     | PASS               | PASS             | PASS              | SKIPPED           | SKIPPED              |
+---------------------+--------------------+------------------+-------------------+-------------------+----------------------+
| Fedora 41 (Clang)   | PASS               | PASS             | PASS              | SKIPPED           | SKIPPED              |
+---------------------+--------------------+------------------+-------------------+-------------------+----------------------+
| Fedora 40           | PASS               | PASS             | PASS              | SKIPPED           | SKIPPED              |
+---------------------+--------------------+------------------+-------------------+-------------------+----------------------+
| Fedora 40 (Clang)   | PASS               | PASS             | PASS              | SKIPPED           | SKIPPED              |
+---------------------+--------------------+------------------+-------------------+-------------------+----------------------+
| RHEL9               | PASS               | PASS             | SKIPPED           | SKIPPED           | SKIPPED              |
+---------------------+--------------------+------------------+-------------------+-------------------+----------------------+
| RHEL8               | PASS               | PASS             | SKIPPED           | SKIPPED           | SKIPPED              |
+---------------------+--------------------+------------------+-------------------+-------------------+----------------------+
| openSUSE Leap 15    | PASS               | SKIPPED          | SKIPPED           | SKIPPED           | SKIPPED              |
+---------------------+--------------------+------------------+-------------------+-------------------+----------------------+
| Ubuntu 20.04        | PASS               | WARN             | SKIPPED           | SKIPPED           | SKIPPED              |
+---------------------+--------------------+------------------+-------------------+-------------------+----------------------+
| Ubuntu 22.04        | PASS               | PASS             | PASS              | SKIPPED           | SKIPPED              |
+---------------------+--------------------+------------------+-------------------+-------------------+----------------------+
| Ubuntu 24.04        | PASS               | PASS             | PASS              | SKIPPED           | SKIPPED              |
+---------------------+--------------------+------------------+-------------------+-------------------+----------------------+
| Alpine              | PASS               | PASS             | SKIPPED           | SKIPPED           | SKIPPED              |
+---------------------+--------------------+------------------+-------------------+-------------------+----------------------+
| FreeBSD 13.4        | PASS               | SKIPPED          | SKIPPED           | SKIPPED           | SKIPPED              |
+---------------------+--------------------+------------------+-------------------+-------------------+----------------------+
| FreeBSD 14.2        | PASS               | SKIPPED          | SKIPPED           | SKIPPED           | SKIPPED              |
+---------------------+--------------------+------------------+-------------------+-------------------+----------------------+
| Fedora 41           | PASS               | PASS             | PASS              | SKIPPED           | SKIPPED              |
+---------------------+--------------------+------------------+-------------------+-------------------+----------------------+
| Windows Server 2022 | SKIPPED            | SKIPPED          | SKIPPED           | PASS              | PASS                 |
+---------------------+--------------------+------------------+-------------------+-------------------+----------------------+

==== 20 line log output for Ubuntu 20.04 (dpdk_compile_ovs): ====
 --- Failed to get log output --- 
==== End log output ====

CentOS Stream 9
	Kernel: Depends on container host
	Compiler: gcc 11.5.0 20240719 (Red Hat 11.5.0-2)

Debian 12
	Kernel: Depends on container host
	Compiler: gcc (Debian 12.2.0-14) 12.2.0

Debian Bullseye
	Kernel: Depends on container host
	Compiler: gcc (Debian 10.2.1-6) 10.2.1 20210110

Fedora 41 (Clang)
	Kernel: Depends on container host
	Compiler: clang 19.1.5 (Fedora 19.1.5-1.fc41)

Fedora 40
	Kernel: Depends on container host
	Compiler: gcc 14.2.1 20240912 (Red Hat 14.2.1-3)

Fedora 40 (Clang)
	Kernel: Depends on container host
	Compiler: clang 18.1.8 (Fedora 18.1.8-1.fc40)

RHEL9
	Kernel: Depends on container host
	Compiler: gcc 11.5.0 20240719 (Red Hat 11.5.0-2)

RHEL8
	Kernel: Depends on container host
	Compiler: gcc 8.5.0 20210514 (Red Hat 8.5.0-22)

openSUSE Leap 15
	Kernel: Depends on container host
	Compiler: gcc (SUSE Linux) 7.5.0

Ubuntu 20.04
	Kernel: Depends on container host
	Compiler: gcc (Ubuntu 9.4.0-1ubuntu1~20.04.2) 9.4.0

Ubuntu 22.04
	Kernel: Depends on container host
	Compiler: gcc (Ubuntu 11.4.0-1ubuntu1~22.04) 11.4.0

Ubuntu 24.04
	Kernel: Depends on container host
	Compiler: gcc (Ubuntu 13.3.0-6ubuntu2~24.04) 13.3.0

Alpine
	Kernel: Depends on container host
	Compiler: gcc (Alpine 14.2.0) 14.2.0

FreeBSD 13.4
	Kernel: 13.4-RELEASE-p1
	Compiler: clang 18.1.6

FreeBSD 14.2
	Kernel: 14.2-RELEASE
	Compiler: clang 18.1.6

Fedora 41
	Kernel: Depends on container host
	Compiler: gcc 14.2.1 20240912 (Red Hat 14.2.1-3)

Windows Server 2022
	Kernel: 10.0.20348.2031
	Compiler: clang 15.0.7, gcc 14.1.0 (MinGW), and MSVC VS 19.39.33521

To view detailed results, visit:
https://lab.dpdk.org/results/dashboard/patchsets/32481/

UNH-IOL DPDK Community Lab

To manage your email subscriptions, visit: 
https://lab.dpdk.org/results/dashboard/preferences/subscriptions/