From mboxrd@z Thu Jan 1 00:00:00 1970 Return-Path: Received: from mails.dpdk.org (mails.dpdk.org [217.70.189.124]) by inbox.dpdk.org (Postfix) with ESMTP id D434546181 for ; Mon, 3 Feb 2025 12:23:43 +0100 (CET) Received: from mails.dpdk.org (localhost [127.0.0.1]) by mails.dpdk.org (Postfix) with ESMTP id 9E91040265; Mon, 3 Feb 2025 12:23:43 +0100 (CET) Received: from mail-qk1-f225.google.com (mail-qk1-f225.google.com [209.85.222.225]) by mails.dpdk.org (Postfix) with ESMTP id 9BEC040264 for ; Mon, 3 Feb 2025 12:23:42 +0100 (CET) Received: by mail-qk1-f225.google.com with SMTP id af79cd13be357-7b6e4d38185so396408385a.0 for ; Mon, 03 Feb 2025 03:23:42 -0800 (PST) DKIM-Signature: v=1; a=rsa-sha256; c=relaxed/relaxed; d=iol.unh.edu; s=unh-iol; t=1738581822; x=1739186622; darn=dpdk.org; h=references:in-reply-to:cc:to:from:subject:message-id:date:from:to :cc:subject:date:message-id:reply-to; bh=NuMQYZSYkF3cAXyFBYjxKNvwh/su7FfXXD5OaeVRR30=; b=ITdeFm05a3nNF9+hWMxEX35hzI2ElSV9cmwYtz4MdwjGQwXs78uPHXdtdzUuB/VUTG cpUI5BxB0gdV2Y2ihO+QR7MyyuDovfAPtgsyixCCIqhIsmZLYnYMsCbJIA0T/9M99vl7 kvoFJuxYZ113e1UQI/jgB3Igmd4Ua4Y7PfZns= X-Google-DKIM-Signature: v=1; a=rsa-sha256; c=relaxed/relaxed; d=1e100.net; s=20230601; t=1738581822; x=1739186622; h=references:in-reply-to:cc:to:from:subject:message-id:date :x-gm-message-state:from:to:cc:subject:date:message-id:reply-to; bh=NuMQYZSYkF3cAXyFBYjxKNvwh/su7FfXXD5OaeVRR30=; b=ID5sB78muBEmAOjNls5HfdnPfas/1okzziIEYEbLPoKlsW+TL4ngpu5iKo53GLBJR3 DSuaHCXtISSzdkvuxaCbiLNjzZE6fOVR7YOLShBMR8HFOGbO095dSrU0fFYrbu/ePuE8 oURP4/cb8P4USKZEbPnJ8ZynZfEDmrAjhBdT/I/Wfv1hCjbdGt/BQ/ZEPuNyQGIp5fcy YrEDWqeAFFPqLmD9EJ4NiskH/LiAYP6a/1j0V35Y/IRJMN3dYks68GRW7FMAwpCNc6Hy jyX8v4x4oOyUEZfOrheX9STJfTiP023u7/v7styEFPJNOv44oBPhbWyf/8ceyV4bYdhe y9Uw== X-Gm-Message-State: AOJu0YyDAuj9ZisYtmSQgDX7wGH243S2wFVF2/ifsGkELPoJnVrvKxTM n7dD2mmaFNfUmzDZNwrGnZP0FUKutw51xgEKxOhEchEeKXNwQJy4uJV+nytRpCHZq4Biddn48dG QgLy+U8FkgJpHk5FLV6tQFFlTWMymoh6vti8+HJCM X-Gm-Gg: ASbGncso4EFW3BOboKBaiqaM2C9HZ6G2yrr+K8wOuA2uRak1fPWIXamdaSAx1EZzQdg sfCxj5I6CoYKoMpSRQKswBiHFqeUug3/6umiiX6uN6eJUDq6bUJ9ib637cfVXQqcuH/+BWCQjAf SEYleHVwoDurJBbPzSTOrgKtSaZHLGrxNVk9hWAv5RLHdSFjrw+uZ6DAIQSQHT58D9l4g9PK8tI jyVstSTfB0c0z2vb0wS7HnTkjti4MsSl+Hq3mun8wrq153gJEqHLL8WCaoJ/dDuKj86/pLxIu0J z1SRpoj3e9K2Y6uE4CgtKddVK7aVoA== X-Google-Smtp-Source: AGHT+IEQoeD6lJhHF93lpVQtqOReseUnv1AZEnk1rGvwhRpF46+EntCwBYieKzeoNglRxricEm5wiOXEp5Fj X-Received: by 2002:ad4:5966:0:b0:6d4:1c9d:4f47 with SMTP id 6a1803df08f44-6e243bb87aamr281140776d6.13.1738581821912; Mon, 03 Feb 2025 03:23:41 -0800 (PST) Received: from postal.iol.unh.edu (postal.iol.unh.edu. [132.177.123.84]) by smtp-relay.gmail.com with ESMTPS id 6a1803df08f44-6e2549518c5sm6454656d6.60.2025.02.03.03.23.41 (version=TLS1_2 cipher=ECDHE-ECDSA-AES128-GCM-SHA256 bits=128/128); Mon, 03 Feb 2025 03:23:41 -0800 (PST) X-Relaying-Domain: iol.unh.edu Date: Mon, 03 Feb 2025 03:23:41 -0800 (PST) Message-ID: <67a0a73d.050a0220.3d754a.c542SMTPIN_ADDED_MISSING@mx.google.com> Received: from [172.17.0.4] (unknown [172.18.0.217]) by postal.iol.unh.edu (Postfix) with ESMTP id 950156052471; Mon, 3 Feb 2025 06:23:41 -0500 (EST) Subject: |SUCCESS| pw150796-150797 [PATCH] [v5,2/2] common/idpf: enable AVX2 From: dpdklab@iol.unh.edu To: Test Report Cc: dpdk-test-reports@iol.unh.edu In-Reply-To: <20250203075508.1304702-3-shaiq.wani@intel.com> References: <20250203075508.1304702-3-shaiq.wani@intel.com> Content-Type: text/plain X-BeenThere: test-report@dpdk.org X-Mailman-Version: 2.1.29 Precedence: list List-Id: automatic DPDK test reports List-Unsubscribe: , List-Archive: List-Post: List-Help: List-Subscribe: , Errors-To: test-report-bounces@dpdk.org Test-Label: iol-unit-arm64-testing Test-Status: SUCCESS http://dpdk.org/patch/150797 _Testing PASS_ Submitter: Shaiq Wani Date: Monday, February 03 2025 07:55:08 DPDK git baseline: Repo:dpdk Branch: master CommitID:abf3b7b7b361f8aa8d75ae00d449b588a0cdcda3 150796-150797 --> testing pass Upstream job id: Generic-Unit-Test-DPDK#311212 Test environment and result as below: +-----------------------------+----------------+------------------------------+---------------------------+--------------+ | Environment | dpdk_unit_test | cryptodev_sw_snow3g_autotest | cryptodev_sw_zuc_autotest | lpm_autotest | +=============================+================+==============================+===========================+==============+ | 32-bit Ubuntu 22.04.4 (ARM) | PASS | SKIPPED | SKIPPED | SKIPPED | +-----------------------------+----------------+------------------------------+---------------------------+--------------+ | Fedora 40 (ARM Clang) | PASS | SKIPPED | SKIPPED | SKIPPED | +-----------------------------+----------------+------------------------------+---------------------------+--------------+ | Fedora 40 (ARM) | PASS | SKIPPED | SKIPPED | SKIPPED | +-----------------------------+----------------+------------------------------+---------------------------+--------------+ | Debian 11 (Buster) (ARM) | PASS | SKIPPED | SKIPPED | SKIPPED | +-----------------------------+----------------+------------------------------+---------------------------+--------------+ | CentOS Stream 9 (ARM) | PASS | SKIPPED | SKIPPED | SKIPPED | +-----------------------------+----------------+------------------------------+---------------------------+--------------+ | Fedora 41 (ARM) | PASS | SKIPPED | SKIPPED | SKIPPED | +-----------------------------+----------------+------------------------------+---------------------------+--------------+ | Ubuntu 20.04 (ARM) | PASS | SKIPPED | SKIPPED | SKIPPED | +-----------------------------+----------------+------------------------------+---------------------------+--------------+ | Debian 12 (arm) | PASS | PASS | PASS | SKIPPED | +-----------------------------+----------------+------------------------------+---------------------------+--------------+ | Fedora 41 (ARM Clang) | PASS | SKIPPED | SKIPPED | SKIPPED | +-----------------------------+----------------+------------------------------+---------------------------+--------------+ | RHEL9 (ARM) | PASS | SKIPPED | SKIPPED | SKIPPED | +-----------------------------+----------------+------------------------------+---------------------------+--------------+ | Ubuntu 22.04 (ARM) | PASS | SKIPPED | SKIPPED | SKIPPED | +-----------------------------+----------------+------------------------------+---------------------------+--------------+ | Ubuntu 24.04 (ARM) | PASS | SKIPPED | SKIPPED | SKIPPED | +-----------------------------+----------------+------------------------------+---------------------------+--------------+ | Ubuntu 20.04 ARM SVE | SKIPPED | SKIPPED | SKIPPED | PASS | +-----------------------------+----------------+------------------------------+---------------------------+--------------+ 32-bit Ubuntu 22.04.4 (ARM) Kernel: 5.15.83+ aarch64 Compiler: gcc (Ubuntu 11.4.0-1ubuntu1~22.04) 11.4.0 Fedora 40 (ARM Clang) Kernel: Depends on container host Compiler: clang 18.1.8 (Fedora 18.1.8-1.fc40) Fedora 40 (ARM) Kernel: Depends on container host Compiler: gcc 14.2.1 20240912 (Red Hat 14.2.1-3) Debian 11 (Buster) (ARM) Kernel: Depends on container host Compiler: gcc (Debian 10.2.1-6) 10.2.1 20210110 CentOS Stream 9 (ARM) Kernel: Depends on container host Compiler: gcc 11.5.0 20240719 (Red Hat 11.5.0-2) Fedora 41 (ARM) Kernel: Depends on container host Compiler: gcc 14.2.1 20240912 (Red Hat 14.2.1-3) Ubuntu 20.04 (ARM) Kernel: Depends on container host Compiler: gcc (Ubuntu 9.4.0-1ubuntu1~20.04.2) 9.4.0 Debian 12 (arm) Kernel: Depends on container host Compiler: gcc (Debian 12.2.0-14) 12.2.0 Fedora 41 (ARM Clang) Kernel: Depends on container host Compiler: clang 19.1.5 (Fedora 19.1.5-1.fc41) RHEL9 (ARM) Kernel: Depends on container host Compiler: gcc 11.5.0 20240719 (Red Hat 11.5.0-2) Ubuntu 22.04 (ARM) Kernel: Depends on container host Compiler: gcc (Ubuntu 11.4.0-1ubuntu1~22.04) 11.4.0 Ubuntu 24.04 (ARM) Kernel: Depends on container host Compiler: gcc (Ubuntu 13.3.0-6ubuntu2~24.04) 13.3.0 Ubuntu 20.04 ARM SVE Kernel: Depends on container host Compiler: gcc (Ubuntu 10.5.0-1ubuntu1~20.04) 10.5.0 To view detailed results, visit: https://lab.dpdk.org/results/dashboard/patchsets/32481/ UNH-IOL DPDK Community Lab To manage your email subscriptions, visit: https://lab.dpdk.org/results/dashboard/preferences/subscriptions/