From mboxrd@z Thu Jan 1 00:00:00 1970 Return-Path: Received: from mails.dpdk.org (mails.dpdk.org [217.70.189.124]) by inbox.dpdk.org (Postfix) with ESMTP id 2716146183 for ; Mon, 3 Feb 2025 17:31:21 +0100 (CET) Received: from mails.dpdk.org (localhost [127.0.0.1]) by mails.dpdk.org (Postfix) with ESMTP id 022E140265; Mon, 3 Feb 2025 17:31:21 +0100 (CET) Received: from mail-oi1-f228.google.com (mail-oi1-f228.google.com [209.85.167.228]) by mails.dpdk.org (Postfix) with ESMTP id 11FC340264 for ; Mon, 3 Feb 2025 17:31:20 +0100 (CET) Received: by mail-oi1-f228.google.com with SMTP id 5614622812f47-3f34101f68eso423121b6e.0 for ; Mon, 03 Feb 2025 08:31:19 -0800 (PST) DKIM-Signature: v=1; a=rsa-sha256; c=relaxed/relaxed; d=iol.unh.edu; s=unh-iol; t=1738600279; x=1739205079; darn=dpdk.org; h=references:in-reply-to:cc:to:from:subject:message-id:date:from:to :cc:subject:date:message-id:reply-to; bh=cQMhH17dhs10gfAkSzfkS72j+WSHboIyHx+s06rBl1M=; b=FXuAW0inNqIxP5DlQCSO+n0DoO4MyrNBsJE9czzALTR1jxYC22PUmXL4Et9b27r9Eq dwAta30Yj7FYua7T/B8ov0TPZI2ukpyX+kleXsvDanNa57sbx6QjjhT7FhJWXWXff5An vUuaWOUHpcStgs9WR5ScI/58sHzxxusiK+tkI= X-Google-DKIM-Signature: v=1; a=rsa-sha256; c=relaxed/relaxed; d=1e100.net; s=20230601; t=1738600279; x=1739205079; h=references:in-reply-to:cc:to:from:subject:message-id:date :x-gm-message-state:from:to:cc:subject:date:message-id:reply-to; bh=cQMhH17dhs10gfAkSzfkS72j+WSHboIyHx+s06rBl1M=; b=ALJm/OhSqn+n9A3EjGPdZEL4Wk4uyf2IwnV7yKkqNa/P5GwxOm/7a+sQs5TJ4BlUvU PllZB0gowKgC9qLu8z8MU9+CIB2ZGGvRPpou1r5IIHKGwciknOXUl9BlXOqGNEHvXki+ 3Dt06ExMVWS0/mu4MwXYcOGdZrzUhW1DuOsU+ZP0Kqoa+BfU8Ukpm/ukp342Dw4lvEA5 pvYjPHuN7Gmux72rlz0m1UJ2Q4RDeBibzrVzOIReVpUWOhuBkzcXFOl1BzRdW6ooLFqi JkvtmdIoLbenCM5kKOZaY+KgxOa75S4eAKq+N67T10VNpmfH0Wv8BkkLeWmMilUb9HUk 2QQA== X-Gm-Message-State: AOJu0Ywhv8FWB/kLTnoqN8lnUM8E9nj28lYhjwGlFX4FR7Ga3sSQ37XE VHMrcXdN3OYWzJu1A/5AkZ2MWDOSn9XShE9BrPCM8J+1ephkQigBN3Ar0mgE3LRk3+Qq7gELEe9 ppVsTFV3aLRHkXheWozyZvBo7fuDw01GK4DuuLOnXOanj3Yz//+8aITs8 X-Gm-Gg: ASbGnctsBM+Fp4uM7rhRE+G+tW2uiNrWOuzl433dBR+b65GjS3fkdoxqD1+3E4cbIW0 Zhyi3gl4W/0dehE+c+6fEVNncw1o2L2GorCuDGxZqEngaYTEZxoC8b36ipj/WH4jma4wSIDGXkd MaQfgD33s3rdwLw2RwBcxgbg0KXs+fqOjPeB0wagTf5odVx/ystE4muhulnCIpJs+/nrcmvXz6h Pkw6BHjrnSMhVM8UydQtHS/c5GZViBQVIQ2Nu28rn05+XC3gL/lc+PuQNLuCWJm5rv/HdvuimQR x+O7kHc7KZUfFc/uKL0vln2dezqpzoc2Ftx5ZjJROA== X-Google-Smtp-Source: AGHT+IF7+/l6LjhnWOjh5xSO+V2UxvOPv14BrjFNLDV03faApEOg0bHbg7wYWVeldLDBp262dQNx0KijwnM8 X-Received: by 2002:a05:6871:a304:b0:29e:1b72:7586 with SMTP id 586e51a60fabf-2b32f1303b4mr10663367fac.18.1738600278807; Mon, 03 Feb 2025 08:31:18 -0800 (PST) Received: from postal.iol.unh.edu (postal.iol.unh.edu. [2606:4100:3880:1234::84]) by smtp-relay.gmail.com with ESMTPS id 586e51a60fabf-2b356117b30sm695627fac.4.2025.02.03.08.31.18 (version=TLS1_2 cipher=ECDHE-ECDSA-AES128-GCM-SHA256 bits=128/128); Mon, 03 Feb 2025 08:31:18 -0800 (PST) X-Relaying-Domain: iol.unh.edu Date: Mon, 03 Feb 2025 08:31:18 -0800 (PST) Message-ID: <67a0ef56.050a0220.2c09ff.ff22SMTPIN_ADDED_MISSING@mx.google.com> Received: from [172.21.0.6] (unknown [172.18.0.240]) by postal.iol.unh.edu (Postfix) with ESMTP id 47C5B6052471; Mon, 3 Feb 2025 11:31:18 -0500 (EST) Subject: |SUCCESS| pw150798-150804 [PATCH] [RFC,7/7] dts: revamp runtime inte From: dpdklab@iol.unh.edu To: Test Report Cc: dpdk-test-reports@iol.unh.edu In-Reply-To: <20250203151613.2436570-8-luca.vizzarro@arm.com> References: <20250203151613.2436570-8-luca.vizzarro@arm.com> Content-Type: text/plain X-BeenThere: test-report@dpdk.org X-Mailman-Version: 2.1.29 Precedence: list List-Id: automatic DPDK test reports List-Unsubscribe: , List-Archive: List-Post: List-Help: List-Subscribe: , Errors-To: test-report-bounces@dpdk.org Test-Label: iol-sample-apps-testing Test-Status: SUCCESS http://dpdk.org/patch/150804 _Testing PASS_ Submitter: Luca Vizzarro Date: Monday, February 03 2025 15:16:12 DPDK git baseline: Repo:dpdk Branch: master CommitID:75fb46c7ade4a7efaaa02743c4aa450f75ba9468 150798-150804 --> testing pass Upstream job id: Template-DTS-Pipeline#210346 Test environment and result as below: +--------------------+----------------------+----------------------+ | Environment | dpdk_fips_validation | compressdev_zlib_pmd | +====================+======================+======================+ | Ubuntu 20.04 | PASS | SKIPPED | +--------------------+----------------------+----------------------+ | Ubuntu 22.04 (ARM) | SKIPPED | PASS | +--------------------+----------------------+----------------------+ | Ubuntu 22.04 | SKIPPED | PASS | +--------------------+----------------------+----------------------+ Ubuntu 20.04 Kernel: Depends on container host Compiler: gcc (Ubuntu 9.4.0-1ubuntu1~20.04.2) 9.4.0 Ubuntu 22.04 (ARM) Kernel: 5.15.0-97-generic Compiler: gcc gcc (Ubuntu 11.4.0-1ubuntu1~22.04) 11.4.0 Ubuntu 22.04 Kernel: 5.15.0-100-generic Compiler: gcc gcc (Ubuntu 11.4.0-1ubuntu1~22.04) 11.4.0 To view detailed results, visit: https://lab.dpdk.org/results/dashboard/patchsets/32482/ UNH-IOL DPDK Community Lab To manage your email subscriptions, visit: https://lab.dpdk.org/results/dashboard/preferences/subscriptions/