From mboxrd@z Thu Jan 1 00:00:00 1970 Return-Path: Received: from mails.dpdk.org (mails.dpdk.org [217.70.189.124]) by inbox.dpdk.org (Postfix) with ESMTP id 85B5646184 for ; Mon, 3 Feb 2025 18:44:36 +0100 (CET) Received: from mails.dpdk.org (localhost [127.0.0.1]) by mails.dpdk.org (Postfix) with ESMTP id 668AE40264; Mon, 3 Feb 2025 18:44:36 +0100 (CET) Received: from mail-pl1-f227.google.com (mail-pl1-f227.google.com [209.85.214.227]) by mails.dpdk.org (Postfix) with ESMTP id 8CB4140264 for ; Mon, 3 Feb 2025 18:44:31 +0100 (CET) Received: by mail-pl1-f227.google.com with SMTP id d9443c01a7336-2166651f752so94336955ad.3 for ; Mon, 03 Feb 2025 09:44:31 -0800 (PST) DKIM-Signature: v=1; a=rsa-sha256; c=relaxed/relaxed; d=iol.unh.edu; s=unh-iol; t=1738604670; x=1739209470; darn=dpdk.org; h=references:in-reply-to:cc:to:from:subject:message-id:date:from:to :cc:subject:date:message-id:reply-to; bh=v44xEPynXu5YfzLTgYfV9GfkcR/j+UzYyyWfhpWrRbY=; b=Z3qPuOs/2q6OAbVVN4OVdg5W3RgAEKyMqbq3m9K/kMMFCz0kQqrRLmitYtMWBL05Qj JJ7ANl9a9bw0n6qy+/Ja8o3LGEcyzhEvP0DFGBgYqaB3TfxrAUKO+u0hOsqXSnWWrH7M xJvliBZ6Wqy0mmej472qvE5v+dipO7plEXUFM= X-Google-DKIM-Signature: v=1; a=rsa-sha256; c=relaxed/relaxed; d=1e100.net; s=20230601; t=1738604670; x=1739209470; h=references:in-reply-to:cc:to:from:subject:message-id:date :x-gm-message-state:from:to:cc:subject:date:message-id:reply-to; bh=v44xEPynXu5YfzLTgYfV9GfkcR/j+UzYyyWfhpWrRbY=; b=R6JLRHVfksrtoIthvz2BsB7zfxzMo55sMDEcOr/Rbh+32f5vvZ9uH/z9xASmk2p2el 6nEz3f1g+NRPt3ihVzzCT0ugNf6hfV2IGBNVCrKvTGQo0cHoJw44tTi2qYIAlyDCu/T+ bBberwZUTR54bb/H+JS4alK98KP9JTJD7OBl01aiJNHmXjL35nl1y/RPa3irgvRs6pqy LnDGFhHShBKp9CcfqpXXdgcjiCMt2B+cJSAHkfdeX6SB3Iq9u/ac/UODtodvBf4c7M2J +CzlbeIjcb5Z8SzF5p2yGHgiZnP1WF8KtNSadeeHi2lxMTG0pBSIt/VJXkXA+wVkOjFd Vrpw== X-Gm-Message-State: AOJu0YzK8QxQVexevLR1a6/mx9alj7CUyMP6E1PphxxnDlVvuIyQmBbs MWrP7fbKQ9eMpzgp+s3BqYFYdLBqVIQbYh62RicGFDM4O4/8MaeRgC/vnZYljV2jDJbmZXMNjLr LcPLgyRH0ibYe9bRq9K2XVtpD2iGbktvYOz3SxJuSJPB1ylK5ovGNX/W3 X-Gm-Gg: ASbGncsPFYoEjCYc1KCnRbY6a70+e8sRIPLqkqUC5cMrfM9uQALuexx0AZ15kL9ze5m xR8WWL3vKQbooaZneIampnJMDMtdLX09o/c8lXYBuytSX0dOaGT37z1n/yVQ6K3k0/+oekGfPcr wXwq0zH7+zaxwTxK5GjE1HWTymxZL3FSBjzS5xldC+hH4SWlg2ROb1q+KnCbEUqWfeUEqwkANYA 3yOVQp8bKdDMSSOS8SHK/0nS2l2MwXByYECOjgAMyGFRcsBtNHt/aFXJXj53RCndtO0GuYBA0Do W+vq+ytf5l9hG1m5IkqWiVCbP3eotyGGL2eG8FSRJw== X-Google-Smtp-Source: AGHT+IGFsMCFBeu3FzMWZpF+0WOmIZpP4MW3+D5i1Fa31Ls+ix2yia5MSPxuVVSNm8qCePDZnoMmsoLdo+4s X-Received: by 2002:a05:6a20:3d96:b0:1e1:9bea:659e with SMTP id adf61e73a8af0-1ed7a61c9ebmr41389974637.35.1738604669097; Mon, 03 Feb 2025 09:44:29 -0800 (PST) Received: from postal.iol.unh.edu (postal.iol.unh.edu. [2606:4100:3880:1234::84]) by smtp-relay.gmail.com with ESMTPS id d2e1a72fcca58-72fe69ff023sm774900b3a.18.2025.02.03.09.44.28 (version=TLS1_2 cipher=ECDHE-ECDSA-AES128-GCM-SHA256 bits=128/128); Mon, 03 Feb 2025 09:44:29 -0800 (PST) X-Relaying-Domain: iol.unh.edu Date: Mon, 03 Feb 2025 09:44:29 -0800 (PST) Message-ID: <67a1007d.050a0220.362b95.41d7SMTPIN_ADDED_MISSING@mx.google.com> Received: from [172.21.0.5] (unknown [172.18.0.240]) by postal.iol.unh.edu (Postfix) with ESMTP id 286E66052471; Mon, 3 Feb 2025 12:44:28 -0500 (EST) Subject: |WARNING| pw150798-150804 [PATCH] [RFC,7/7] dts: revamp runtime inte From: dpdklab@iol.unh.edu To: Test Report Cc: dpdk-test-reports@iol.unh.edu In-Reply-To: <20250203151613.2436570-8-luca.vizzarro@arm.com> References: <20250203151613.2436570-8-luca.vizzarro@arm.com> Content-Type: text/plain X-BeenThere: test-report@dpdk.org X-Mailman-Version: 2.1.29 Precedence: list List-Id: automatic DPDK test reports List-Unsubscribe: , List-Archive: List-Post: List-Help: List-Subscribe: , Errors-To: test-report-bounces@dpdk.org Test-Label: iol-compile-amd64-testing Test-Status: WARNING http://dpdk.org/patch/150804 _Testing issues_ Submitter: Luca Vizzarro Date: Monday, February 03 2025 15:16:12 DPDK git baseline: Repo:dpdk Branch: master CommitID:75fb46c7ade4a7efaaa02743c4aa450f75ba9468 150798-150804 --> testing issues Upstream job id: Generic-DPDK-Compile-Meson#357343 Test environment and result as below: +---------------------+--------------------+------------------+-------------------+-------------------+----------------------+ | Environment | dpdk_meson_compile | dpdk_compile_ovs | dpdk_compile_spdk | dpdk_msvc_compile | dpdk_mingw64_compile | +=====================+====================+==================+===================+===================+======================+ | CentOS Stream 9 | PASS | PASS | PASS | SKIPPED | SKIPPED | +---------------------+--------------------+------------------+-------------------+-------------------+----------------------+ | Debian Bullseye | PASS | PASS | PASS | SKIPPED | SKIPPED | +---------------------+--------------------+------------------+-------------------+-------------------+----------------------+ | Debian 12 | PASS | PASS | PASS | SKIPPED | SKIPPED | +---------------------+--------------------+------------------+-------------------+-------------------+----------------------+ | Fedora 40 | PASS | PASS | PASS | SKIPPED | SKIPPED | +---------------------+--------------------+------------------+-------------------+-------------------+----------------------+ | Fedora 41 (Clang) | PASS | PASS | PASS | SKIPPED | SKIPPED | +---------------------+--------------------+------------------+-------------------+-------------------+----------------------+ | Fedora 40 (Clang) | PASS | PASS | PASS | SKIPPED | SKIPPED | +---------------------+--------------------+------------------+-------------------+-------------------+----------------------+ | Fedora 41 | PASS | PASS | PASS | SKIPPED | SKIPPED | +---------------------+--------------------+------------------+-------------------+-------------------+----------------------+ | RHEL8 | PASS | PASS | SKIPPED | SKIPPED | SKIPPED | +---------------------+--------------------+------------------+-------------------+-------------------+----------------------+ | RHEL9 | PASS | PASS | SKIPPED | SKIPPED | SKIPPED | +---------------------+--------------------+------------------+-------------------+-------------------+----------------------+ | openSUSE Leap 15 | PASS | SKIPPED | SKIPPED | SKIPPED | SKIPPED | +---------------------+--------------------+------------------+-------------------+-------------------+----------------------+ | Ubuntu 20.04 | PASS | WARN | SKIPPED | SKIPPED | SKIPPED | +---------------------+--------------------+------------------+-------------------+-------------------+----------------------+ | Ubuntu 22.04 | PASS | PASS | PASS | SKIPPED | SKIPPED | +---------------------+--------------------+------------------+-------------------+-------------------+----------------------+ | Ubuntu 24.04 | PASS | PASS | PASS | SKIPPED | SKIPPED | +---------------------+--------------------+------------------+-------------------+-------------------+----------------------+ | Alpine | PASS | PASS | SKIPPED | SKIPPED | SKIPPED | +---------------------+--------------------+------------------+-------------------+-------------------+----------------------+ | FreeBSD 13.4 | PASS | SKIPPED | SKIPPED | SKIPPED | SKIPPED | +---------------------+--------------------+------------------+-------------------+-------------------+----------------------+ | FreeBSD 14.2 | PASS | SKIPPED | SKIPPED | SKIPPED | SKIPPED | +---------------------+--------------------+------------------+-------------------+-------------------+----------------------+ | Windows Server 2022 | SKIPPED | SKIPPED | SKIPPED | PASS | PASS | +---------------------+--------------------+------------------+-------------------+-------------------+----------------------+ ==== 20 line log output for Ubuntu 20.04 (dpdk_compile_ovs): ==== --- Failed to get log output --- ==== End log output ==== CentOS Stream 9 Kernel: Depends on container host Compiler: gcc 11.5.0 20240719 (Red Hat 11.5.0-2) Debian Bullseye Kernel: Depends on container host Compiler: gcc (Debian 10.2.1-6) 10.2.1 20210110 Debian 12 Kernel: Depends on container host Compiler: gcc (Debian 12.2.0-14) 12.2.0 Fedora 40 Kernel: Depends on container host Compiler: gcc 14.2.1 20240912 (Red Hat 14.2.1-3) Fedora 41 (Clang) Kernel: Depends on container host Compiler: clang 19.1.5 (Fedora 19.1.5-1.fc41) Fedora 40 (Clang) Kernel: Depends on container host Compiler: clang 18.1.8 (Fedora 18.1.8-1.fc40) Fedora 41 Kernel: Depends on container host Compiler: gcc 14.2.1 20240912 (Red Hat 14.2.1-3) RHEL8 Kernel: Depends on container host Compiler: gcc 8.5.0 20210514 (Red Hat 8.5.0-22) RHEL9 Kernel: Depends on container host Compiler: gcc 11.5.0 20240719 (Red Hat 11.5.0-2) openSUSE Leap 15 Kernel: Depends on container host Compiler: gcc (SUSE Linux) 7.5.0 Ubuntu 20.04 Kernel: Depends on container host Compiler: gcc (Ubuntu 9.4.0-1ubuntu1~20.04.2) 9.4.0 Ubuntu 22.04 Kernel: Depends on container host Compiler: gcc (Ubuntu 11.4.0-1ubuntu1~22.04) 11.4.0 Ubuntu 24.04 Kernel: Depends on container host Compiler: gcc (Ubuntu 13.3.0-6ubuntu2~24.04) 13.3.0 Alpine Kernel: Depends on container host Compiler: gcc (Alpine 14.2.0) 14.2.0 FreeBSD 13.4 Kernel: 13.4-RELEASE-p1 Compiler: clang 18.1.6 FreeBSD 14.2 Kernel: 14.2-RELEASE Compiler: clang 18.1.6 Windows Server 2022 Kernel: 10.0.20348.2031 Compiler: clang 15.0.7, gcc 14.1.0 (MinGW), and MSVC VS 19.39.33521 To view detailed results, visit: https://lab.dpdk.org/results/dashboard/patchsets/32482/ UNH-IOL DPDK Community Lab To manage your email subscriptions, visit: https://lab.dpdk.org/results/dashboard/preferences/subscriptions/