From mboxrd@z Thu Jan 1 00:00:00 1970 Return-Path: Received: from mails.dpdk.org (mails.dpdk.org [217.70.189.124]) by inbox.dpdk.org (Postfix) with ESMTP id 9CC3346184 for ; Mon, 3 Feb 2025 19:34:54 +0100 (CET) Received: from mails.dpdk.org (localhost [127.0.0.1]) by mails.dpdk.org (Postfix) with ESMTP id B49C640670; Mon, 3 Feb 2025 19:34:53 +0100 (CET) Received: from mail-pl1-f228.google.com (mail-pl1-f228.google.com [209.85.214.228]) by mails.dpdk.org (Postfix) with ESMTP id BF75C4003C for ; Mon, 3 Feb 2025 19:34:52 +0100 (CET) Received: by mail-pl1-f228.google.com with SMTP id d9443c01a7336-2164b662090so93416835ad.1 for ; Mon, 03 Feb 2025 10:34:52 -0800 (PST) DKIM-Signature: v=1; a=rsa-sha256; c=relaxed/relaxed; d=iol.unh.edu; s=unh-iol; t=1738607692; x=1739212492; darn=dpdk.org; h=references:in-reply-to:cc:to:from:subject:message-id:date:from:to :cc:subject:date:message-id:reply-to; bh=qHkJtbNag8lmMpDQLRB8ezT4oET2eXqvwhhNpJ7n3E0=; b=SOv1h+ohhOri3hBCzIWsdZ0do/KUWHR1639mU+hzrOudLdJB2skM0xxzEHUjLCoZ3R gEO0WFIgg+FSI54PwN/I7VUifQD1Ft5w79lCpjrSc8w+NxGJXAWuL/N4e+p0Bt95R0qh DjYZQimVHn/Pzf6hPDKRPvMAI4E8y8eebxY/4= X-Google-DKIM-Signature: v=1; a=rsa-sha256; c=relaxed/relaxed; d=1e100.net; s=20230601; t=1738607692; x=1739212492; h=references:in-reply-to:cc:to:from:subject:message-id:date :x-gm-message-state:from:to:cc:subject:date:message-id:reply-to; bh=qHkJtbNag8lmMpDQLRB8ezT4oET2eXqvwhhNpJ7n3E0=; b=nMQOpyXZxppnuLzxuqKBLNcL1e1ZgHlKTFbf+5K+WCsVS32KX/fbM5XFvGg11dFkbL QVbtcDCVAYGwnurRtKCXdJGHNHPFCeOAKFf67QeYge30tGSeQ5JUs5A8OyEiIAcNouxE A69rZgqzTe1SyvosOf4c2wEd2BqZbiuHa5zrS1LPGYlf/S39HjRT+ZCQsXRI68Hyvovl wGvNTzDJb3zz7TDWnBq4u/MrFSHACZjiUSS8f4rmeQ9L/tn1XiGQ1OOVka8UckVS8Cw3 /9ryUMWyhDCUC32mT8tVZHkClULo3t7PqTd6O/YrKECZkgUPEjaE1Zt0PH7HuIchCcUS jAlg== X-Gm-Message-State: AOJu0Yzwi8PMDDN8L+yX6SdgC8qekoJxvH9owTMNYEizzKo3UV303Ii+ AHEaCfzXIKGchVj4RmwEkW3E7rDBfe5LZD9sOhg1G0X4N84rqM8C1ibo5pIQrO69rpSnK16WOJ7 6Ehbl/SRuvEzmT8XeuyisZJiDwEPlyBe/2sglO3qo X-Gm-Gg: ASbGncvP2jKEQ8Fbpr5pPyEqxR/iC5MjgqsKolP0B8SmpvOPNBx2W7WhZMc0cHs5MZf yxy+OoR3lPVUwAEuYTxNWh0uc8nfNsADBMpYmku2NW1MKIFpXE9D5aLmhvWwtswFNwKaR6b4J6h 5nXqzHsirZScuzyvHytdfZJxJXzf05Y+v6Vs/aLUNP0RzEwZ7nJNBDHfR0cPX2JSx37TsZHK4MK JVp/GYRKJRCUqsf2yFdD57PjEnzcdemsAhW99G82LPeY3KAPf5Z1rlfnfKUcOscWflQ+wBd88xP pQyZcNinnaspKTDg+33GcV6FNbrlmQ== X-Google-Smtp-Source: AGHT+IGXMAjNts8wNy9avGrKWI1j6Zaph5cfFPfvPDvyVQm4a80OivJiwIWhSz2XpOtUgFnjnm5IA18a0aB1 X-Received: by 2002:a17:903:41c6:b0:21a:8300:b9ce with SMTP id d9443c01a7336-21dd7e35fc3mr328951905ad.49.1738607691748; Mon, 03 Feb 2025 10:34:51 -0800 (PST) Received: from postal.iol.unh.edu (postal.iol.unh.edu. [132.177.123.84]) by smtp-relay.gmail.com with ESMTPS id d9443c01a7336-21de321a921sm4404825ad.14.2025.02.03.10.34.51 (version=TLS1_2 cipher=ECDHE-ECDSA-AES128-GCM-SHA256 bits=128/128); Mon, 03 Feb 2025 10:34:51 -0800 (PST) X-Relaying-Domain: iol.unh.edu Date: Mon, 03 Feb 2025 10:34:51 -0800 (PST) Message-ID: <67a10c4b.170a0220.2da5c1.406cSMTPIN_ADDED_MISSING@mx.google.com> Received: from [172.17.0.4] (unknown [172.18.0.217]) by postal.iol.unh.edu (Postfix) with ESMTP id C1B2F6052471; Mon, 3 Feb 2025 13:34:50 -0500 (EST) Subject: |SUCCESS| pw150805-150806 [PATCH] [v2,2/2] dts: rework run-time MTU From: dpdklab@iol.unh.edu To: Test Report Cc: dpdk-test-reports@iol.unh.edu In-Reply-To: <20250203163850.249461-3-npratte@iol.unh.edu> References: <20250203163850.249461-3-npratte@iol.unh.edu> Content-Type: text/plain X-BeenThere: test-report@dpdk.org X-Mailman-Version: 2.1.29 Precedence: list List-Id: automatic DPDK test reports List-Unsubscribe: , List-Archive: List-Post: List-Help: List-Subscribe: , Errors-To: test-report-bounces@dpdk.org Test-Label: iol-sample-apps-testing Test-Status: SUCCESS http://dpdk.org/patch/150806 _Testing PASS_ Submitter: Nicholas Pratte Date: Monday, February 03 2025 16:38:50 DPDK git baseline: Repo:dpdk Branch: master CommitID:75fb46c7ade4a7efaaa02743c4aa450f75ba9468 150805-150806 --> testing pass Upstream job id: ACVP-FIPS-testing#8767 Test environment and result as below: +--------------------+----------------------+----------------------+ | Environment | compressdev_zlib_pmd | dpdk_fips_validation | +====================+======================+======================+ | Ubuntu 22.04 (ARM) | PASS | SKIPPED | +--------------------+----------------------+----------------------+ | Ubuntu 22.04 | PASS | SKIPPED | +--------------------+----------------------+----------------------+ | Ubuntu 20.04 | SKIPPED | PASS | +--------------------+----------------------+----------------------+ Ubuntu 22.04 (ARM) Kernel: 5.15.0-97-generic Compiler: gcc gcc (Ubuntu 11.4.0-1ubuntu1~22.04) 11.4.0 Ubuntu 22.04 Kernel: 5.15.0-100-generic Compiler: gcc gcc (Ubuntu 11.4.0-1ubuntu1~22.04) 11.4.0 Ubuntu 20.04 Kernel: Depends on container host Compiler: gcc (Ubuntu 9.4.0-1ubuntu1~20.04.2) 9.4.0 To view detailed results, visit: https://lab.dpdk.org/results/dashboard/patchsets/32483/ UNH-IOL DPDK Community Lab To manage your email subscriptions, visit: https://lab.dpdk.org/results/dashboard/preferences/subscriptions/