From mboxrd@z Thu Jan 1 00:00:00 1970 Return-Path: Received: from mails.dpdk.org (mails.dpdk.org [217.70.189.124]) by inbox.dpdk.org (Postfix) with ESMTP id CEDDB46184 for ; Mon, 3 Feb 2025 19:34:58 +0100 (CET) Received: from mails.dpdk.org (localhost [127.0.0.1]) by mails.dpdk.org (Postfix) with ESMTP id C9C4340670; Mon, 3 Feb 2025 19:34:58 +0100 (CET) Received: from mail-io1-f97.google.com (mail-io1-f97.google.com [209.85.166.97]) by mails.dpdk.org (Postfix) with ESMTP id D9DE14003C for ; Mon, 3 Feb 2025 19:34:57 +0100 (CET) Received: by mail-io1-f97.google.com with SMTP id ca18e2360f4ac-844e7bc6d84so142959939f.0 for ; Mon, 03 Feb 2025 10:34:57 -0800 (PST) DKIM-Signature: v=1; a=rsa-sha256; c=relaxed/relaxed; d=iol.unh.edu; s=unh-iol; t=1738607697; x=1739212497; darn=dpdk.org; h=references:in-reply-to:cc:to:from:subject:message-id:date:from:to :cc:subject:date:message-id:reply-to; bh=+cgzFgWwhGGTJKIs4xj3MzruKar41JRq7PRfkSvZf8I=; b=FRj3570NSwJ3aPGRKmtyjomyJQ/ngdUsrPfeGWqvvmBtlzXGzoz4GWsSQ2Z07ffYh8 XYVWdK2NZ1S3oqEq/mFINr1fmYjVlEQtTDVZcneR99owfm5Dk5eIO8fBWX0D55banEKP EcsCf6+IyklJR3YKFUzwzZFiD/UI4aeY9l76M= X-Google-DKIM-Signature: v=1; a=rsa-sha256; c=relaxed/relaxed; d=1e100.net; s=20230601; t=1738607697; x=1739212497; h=references:in-reply-to:cc:to:from:subject:message-id:date :x-gm-message-state:from:to:cc:subject:date:message-id:reply-to; bh=+cgzFgWwhGGTJKIs4xj3MzruKar41JRq7PRfkSvZf8I=; b=viNMFzGbbejOfYfTfmzNUi6HeO+Nda3ozs8+YuhwQtHhhkmIgmP/5w1Ox6nM8IyqD9 BgHhqUMf38zozL61b3LcmHQ0k5dXcFTgBWFx6jJxKM9ElB1nSndo2R1Sd1vu3MNpCGND 0iiRTRL0bE/L1nfnBnwYbDD8/fcFK26wGYe0KNe5ckQA13VGB9tJMuutZhQXUkhTjBUX p5ZFsT+mU7vLHytytHl8sYpShXMmhPprK+IW4AJGxDfTbxR/AeqTXNOLVv8XJFzMCrHH 9hH27LU7xszBZ6up1JWkrwrMkmztGG3EaXPw0UWKOO+el4cS97prp3UCqIr/XFKgBICY vk8A== X-Gm-Message-State: AOJu0YzVqRxwQqCAxLuPKGIgwkyCHmjKrIRIukxKEZIKJK0bH9ypZ+Uw 9XD//CgNNQe37jWdszkT65hv0TLl7eQG2MYBoKjKiZa2kFkawd1q4HD2sUgZQO9pC3LeyQhfqcX KujQLn12eX/ugFweg95e094NB5L+dRQ7NihmpE77O X-Gm-Gg: ASbGncuf+Kn/HSacHvZ7RKPOY2iPfXWUcPIFu241ENtZc/9fVER2LRqeh7oRTo/N1mH H4nWLi8LHFTgJhhUb3fRk0Cm830VBUFSI02Dpweua2GALHdkfXKmSTWE6UE3bkVxLh87GiueV69 u8Zbe+zBEb6cHeE4b1ge1HSjoGTxuJmC450+I2w9115fAprOYzJuVhVu+oblGoh256XgVAfSTyr xzMEBX8+sARtq2ALeAnvKyciNDBJVlt8U9Q9Li8+5yAzT4zy5eSoFrJiTCZ9nJb3XketGQ+NDPU IOViiTO7WQr8QcbYOHt/aEF0MfRGaw== X-Google-Smtp-Source: AGHT+IEZK0njhUxB5YWfcVRh27n3Zy1sVdH0ORMl68PPpFgbjjImq/jWR14gkM2+2aE600PzVIom8mthFio+ X-Received: by 2002:a05:6602:1816:b0:835:3dfc:5ba5 with SMTP id ca18e2360f4ac-854de091937mr34950139f.5.1738607697204; Mon, 03 Feb 2025 10:34:57 -0800 (PST) Received: from postal.iol.unh.edu (postal.iol.unh.edu. [132.177.123.84]) by smtp-relay.gmail.com with ESMTPS id 8926c6da1cb9f-4ec745b66a4sm624319173.28.2025.02.03.10.34.57 (version=TLS1_2 cipher=ECDHE-ECDSA-AES128-GCM-SHA256 bits=128/128); Mon, 03 Feb 2025 10:34:57 -0800 (PST) X-Relaying-Domain: iol.unh.edu Date: Mon, 03 Feb 2025 10:34:57 -0800 (PST) Message-ID: <67a10c51.050a0220.369c7f.de97SMTPIN_ADDED_MISSING@mx.google.com> Received: from [172.17.0.5] (unknown [172.18.0.217]) by postal.iol.unh.edu (Postfix) with ESMTP id B3FDD6052471; Mon, 3 Feb 2025 13:34:56 -0500 (EST) Subject: |SUCCESS| pw150805-150806 [PATCH] [v2,2/2] dts: rework run-time MTU From: dpdklab@iol.unh.edu To: Test Report Cc: dpdk-test-reports@iol.unh.edu In-Reply-To: <20250203163850.249461-3-npratte@iol.unh.edu> References: <20250203163850.249461-3-npratte@iol.unh.edu> Content-Type: text/plain X-BeenThere: test-report@dpdk.org X-Mailman-Version: 2.1.29 Precedence: list List-Id: automatic DPDK test reports List-Unsubscribe: , List-Archive: List-Post: List-Help: List-Subscribe: , Errors-To: test-report-bounces@dpdk.org Test-Label: iol-unit-amd64-testing Test-Status: SUCCESS http://dpdk.org/patch/150806 _Testing PASS_ Submitter: Nicholas Pratte Date: Monday, February 03 2025 16:38:50 DPDK git baseline: Repo:dpdk Branch: master CommitID:75fb46c7ade4a7efaaa02743c4aa450f75ba9468 150805-150806 --> testing pass Upstream job id: Generic-Unit-Test-DPDK#311258 Test environment and result as below: +---------------------+----------------+ | Environment | dpdk_unit_test | +=====================+================+ | Fedora 41 (Clang) | PASS | +---------------------+----------------+ | Fedora 40 (Clang) | PASS | +---------------------+----------------+ | Debian 12 | PASS | +---------------------+----------------+ | Fedora 40 | PASS | +---------------------+----------------+ | Debian Bullseye | PASS | +---------------------+----------------+ | RHEL8 | PASS | +---------------------+----------------+ | CentOS Stream 9 | PASS | +---------------------+----------------+ | RHEL9 | PASS | +---------------------+----------------+ | Ubuntu 24.04 | PASS | +---------------------+----------------+ | Ubuntu 20.04 | PASS | +---------------------+----------------+ | Ubuntu 22.04 | PASS | +---------------------+----------------+ | Fedora 41 | PASS | +---------------------+----------------+ | Windows Server 2022 | PASS | +---------------------+----------------+ Fedora 41 (Clang) Kernel: Depends on container host Compiler: clang 19.1.5 (Fedora 19.1.5-1.fc41) Fedora 40 (Clang) Kernel: Depends on container host Compiler: clang 18.1.8 (Fedora 18.1.8-1.fc40) Debian 12 Kernel: Depends on container host Compiler: gcc (Debian 12.2.0-14) 12.2.0 Fedora 40 Kernel: Depends on container host Compiler: gcc 14.2.1 20240912 (Red Hat 14.2.1-3) Debian Bullseye Kernel: Depends on container host Compiler: gcc (Debian 10.2.1-6) 10.2.1 20210110 RHEL8 Kernel: Depends on container host Compiler: gcc 8.5.0 20210514 (Red Hat 8.5.0-22) CentOS Stream 9 Kernel: Depends on container host Compiler: gcc 11.5.0 20240719 (Red Hat 11.5.0-2) RHEL9 Kernel: Depends on container host Compiler: gcc 11.5.0 20240719 (Red Hat 11.5.0-2) Ubuntu 24.04 Kernel: Depends on container host Compiler: gcc (Ubuntu 13.3.0-6ubuntu2~24.04) 13.3.0 Ubuntu 20.04 Kernel: Depends on container host Compiler: gcc (Ubuntu 9.4.0-1ubuntu1~20.04.2) 9.4.0 Ubuntu 22.04 Kernel: Depends on container host Compiler: gcc (Ubuntu 11.4.0-1ubuntu1~22.04) 11.4.0 Fedora 41 Kernel: Depends on container host Compiler: gcc 14.2.1 20240912 (Red Hat 14.2.1-3) Windows Server 2022 Kernel: 10.0.20348.2031 Compiler: clang 15.0.7, gcc 14.1.0 (MinGW), and MSVC VS 19.39.33521 To view detailed results, visit: https://lab.dpdk.org/results/dashboard/patchsets/32483/ UNH-IOL DPDK Community Lab To manage your email subscriptions, visit: https://lab.dpdk.org/results/dashboard/preferences/subscriptions/