From mboxrd@z Thu Jan 1 00:00:00 1970 Return-Path: Received: from mails.dpdk.org (mails.dpdk.org [217.70.189.124]) by inbox.dpdk.org (Postfix) with ESMTP id E463B46184 for ; Mon, 3 Feb 2025 19:35:17 +0100 (CET) Received: from mails.dpdk.org (localhost [127.0.0.1]) by mails.dpdk.org (Postfix) with ESMTP id E0BD040670; Mon, 3 Feb 2025 19:35:17 +0100 (CET) Received: from mail-il1-f225.google.com (mail-il1-f225.google.com [209.85.166.225]) by mails.dpdk.org (Postfix) with ESMTP id 51E304003C for ; Mon, 3 Feb 2025 19:35:17 +0100 (CET) Received: by mail-il1-f225.google.com with SMTP id e9e14a558f8ab-3a9c9f2a569so31959505ab.0 for ; Mon, 03 Feb 2025 10:35:17 -0800 (PST) DKIM-Signature: v=1; a=rsa-sha256; c=relaxed/relaxed; d=iol.unh.edu; s=unh-iol; t=1738607716; x=1739212516; darn=dpdk.org; h=references:in-reply-to:cc:to:from:subject:message-id:date:from:to :cc:subject:date:message-id:reply-to; bh=Vz2QLMjFE2HwgQAMlh2RTBhnj7wVw2XOHOTXj8/guF8=; b=JiJlu5/dbFcEJeRcCwNu626GZ0fk53X2umHX/O0dnrwp5RiofLomWu82aiyiZWo7E2 NVOYS7H07oEZVaVFTpl3jTbNCPgPcfJLi4g0bfkBGiFUNR8MMNW9qnVnxgSjKk/8SSS9 znaClVDTUnwgMo2R1ekvBsxH4eTv3VMmkDl+M= X-Google-DKIM-Signature: v=1; a=rsa-sha256; c=relaxed/relaxed; d=1e100.net; s=20230601; t=1738607716; x=1739212516; h=references:in-reply-to:cc:to:from:subject:message-id:date :x-gm-message-state:from:to:cc:subject:date:message-id:reply-to; bh=Vz2QLMjFE2HwgQAMlh2RTBhnj7wVw2XOHOTXj8/guF8=; b=ojOmTYysiVx7BDaBVegMpMVCB7rp4re5Xns12O3eDk2cheB0ZII0o428Njavx/nypN h4Qp1peNzwmBCxAU3hZbR5wANEM213cqY5wPJfplTcU9Lc15HaUssfWFJQzt8lcT4wjm WAD9B3bM36J6SjpErI28VEaapWAg4RTtb4XUFU/cn2veBvn++Ph4bnSr72/uQOLYFFcj JfIJIX3dQauDetmK1seK45TpXtTUtvG/hWEzv4U5K7z5yF5ztrMj4Ghf5eJHsVXsKtcP ILHTg1Dq5wkmDO5gNcunlddut42N9SyqYawfO00tkBwCDjv3BjluT7mkJkOVVgpkkILF pnKg== X-Gm-Message-State: AOJu0YzNNH/4u8rie3LWesmwRWu9r/MXb9UyBH7b74Alv8y+h/vVMtq7 0N0is4ovvWuue9qIufsx6W+0hoZJhs3YKq5QPeqaTuxpCsg8nOgAJBF9s5jm0Nxq7i/pCjvu8LC SrZ/P8FWlWaKDF6wmmRSDnv090dZhE+q9+w2EH7mQoZiSegchmNxQKmiF X-Gm-Gg: ASbGncuG/Ja9xzOywFtfMZFU1yfOm8/iIgoQ9uNIrs/DPMyYv8BQkJXbP7nuYgW3vi8 7un6GkOmXCuwMYd9WgbMaFQyPMYFEVWBwef9HiElqafzq1QvJlXdh2mYlzB0URPR150jFZ1cET0 LxQGT4jx6aoSO/rgYfez61m1thfTkd5MLNa24pbv+tolFDyxZk7+HU3NvET3sf4LBCrurCRke9P 7AzI9iYy4ZhBSbPSDT3InvpOk1A5Ndoqy5tjJY6Z53GVwkZ9AXQAh1xECJe/c26+OnAd0oZVykV SugTvJ6293cSAlWzAXAfn4/kq87r/Yysdl+Dwb+ogA== X-Google-Smtp-Source: AGHT+IHO/SaGxb+oDFUEsiIU1Np8cTQ2ryBO0A9xrPtfprMY+FRgx1djaMfIIi74tNVDWFCgWNVQMD6eWUII X-Received: by 2002:a05:6e02:308a:b0:3d0:1932:7695 with SMTP id e9e14a558f8ab-3d01932782dmr125239285ab.8.1738607716641; Mon, 03 Feb 2025 10:35:16 -0800 (PST) Received: from postal.iol.unh.edu (postal.iol.unh.edu. [2606:4100:3880:1234::84]) by smtp-relay.gmail.com with ESMTPS id 8926c6da1cb9f-4ec746bfe0csm611165173.64.2025.02.03.10.35.16 (version=TLS1_2 cipher=ECDHE-ECDSA-AES128-GCM-SHA256 bits=128/128); Mon, 03 Feb 2025 10:35:16 -0800 (PST) X-Relaying-Domain: iol.unh.edu Date: Mon, 03 Feb 2025 10:35:16 -0800 (PST) Message-ID: <67a10c64.050a0220.c4156.db98SMTPIN_ADDED_MISSING@mx.google.com> Received: from [172.17.0.4] (unknown [172.18.0.217]) by postal.iol.unh.edu (Postfix) with ESMTP id 4AEAB6052471; Mon, 3 Feb 2025 13:35:16 -0500 (EST) Subject: |SUCCESS| pw150805-150806 [PATCH] [v2,2/2] dts: rework run-time MTU From: dpdklab@iol.unh.edu To: Test Report Cc: dpdk-test-reports@iol.unh.edu In-Reply-To: <20250203163850.249461-3-npratte@iol.unh.edu> References: <20250203163850.249461-3-npratte@iol.unh.edu> Content-Type: text/plain X-BeenThere: test-report@dpdk.org X-Mailman-Version: 2.1.29 Precedence: list List-Id: automatic DPDK test reports List-Unsubscribe: , List-Archive: List-Post: List-Help: List-Subscribe: , Errors-To: test-report-bounces@dpdk.org Test-Label: iol-unit-arm64-testing Test-Status: SUCCESS http://dpdk.org/patch/150806 _Testing PASS_ Submitter: Nicholas Pratte Date: Monday, February 03 2025 16:38:50 DPDK git baseline: Repo:dpdk Branch: master CommitID:75fb46c7ade4a7efaaa02743c4aa450f75ba9468 150805-150806 --> testing pass Upstream job id: Generic-Unit-Test-DPDK#311255 Test environment and result as below: +-----------------------------+----------------+---------------------------+------------------------------+--------------+ | Environment | dpdk_unit_test | cryptodev_sw_zuc_autotest | cryptodev_sw_snow3g_autotest | lpm_autotest | +=============================+================+===========================+==============================+==============+ | Fedora 40 (ARM) | PASS | SKIPPED | SKIPPED | SKIPPED | +-----------------------------+----------------+---------------------------+------------------------------+--------------+ | Debian 12 (arm) | PASS | PASS | PASS | SKIPPED | +-----------------------------+----------------+---------------------------+------------------------------+--------------+ | CentOS Stream 9 (ARM) | PASS | SKIPPED | SKIPPED | SKIPPED | +-----------------------------+----------------+---------------------------+------------------------------+--------------+ | Fedora 40 (ARM Clang) | PASS | SKIPPED | SKIPPED | SKIPPED | +-----------------------------+----------------+---------------------------+------------------------------+--------------+ | Debian 11 (Buster) (ARM) | PASS | SKIPPED | SKIPPED | SKIPPED | +-----------------------------+----------------+---------------------------+------------------------------+--------------+ | Ubuntu 24.04 (ARM) | PASS | SKIPPED | SKIPPED | SKIPPED | +-----------------------------+----------------+---------------------------+------------------------------+--------------+ | Fedora 41 (ARM) | PASS | SKIPPED | SKIPPED | SKIPPED | +-----------------------------+----------------+---------------------------+------------------------------+--------------+ | Fedora 41 (ARM Clang) | PASS | SKIPPED | SKIPPED | SKIPPED | +-----------------------------+----------------+---------------------------+------------------------------+--------------+ | 32-bit Ubuntu 22.04.4 (ARM) | PASS | SKIPPED | SKIPPED | SKIPPED | +-----------------------------+----------------+---------------------------+------------------------------+--------------+ | Ubuntu 22.04 (ARM) | PASS | SKIPPED | SKIPPED | SKIPPED | +-----------------------------+----------------+---------------------------+------------------------------+--------------+ | Ubuntu 20.04 (ARM) | PASS | SKIPPED | SKIPPED | SKIPPED | +-----------------------------+----------------+---------------------------+------------------------------+--------------+ | RHEL9 (ARM) | PASS | SKIPPED | SKIPPED | SKIPPED | +-----------------------------+----------------+---------------------------+------------------------------+--------------+ | Ubuntu 20.04 ARM SVE | SKIPPED | SKIPPED | SKIPPED | PASS | +-----------------------------+----------------+---------------------------+------------------------------+--------------+ Fedora 40 (ARM) Kernel: Depends on container host Compiler: gcc 14.2.1 20240912 (Red Hat 14.2.1-3) Debian 12 (arm) Kernel: Depends on container host Compiler: gcc (Debian 12.2.0-14) 12.2.0 CentOS Stream 9 (ARM) Kernel: Depends on container host Compiler: gcc 11.5.0 20240719 (Red Hat 11.5.0-2) Fedora 40 (ARM Clang) Kernel: Depends on container host Compiler: clang 18.1.8 (Fedora 18.1.8-1.fc40) Debian 11 (Buster) (ARM) Kernel: Depends on container host Compiler: gcc (Debian 10.2.1-6) 10.2.1 20210110 Ubuntu 24.04 (ARM) Kernel: Depends on container host Compiler: gcc (Ubuntu 13.3.0-6ubuntu2~24.04) 13.3.0 Fedora 41 (ARM) Kernel: Depends on container host Compiler: gcc 14.2.1 20240912 (Red Hat 14.2.1-3) Fedora 41 (ARM Clang) Kernel: Depends on container host Compiler: clang 19.1.5 (Fedora 19.1.5-1.fc41) 32-bit Ubuntu 22.04.4 (ARM) Kernel: 5.15.83+ aarch64 Compiler: gcc (Ubuntu 11.4.0-1ubuntu1~22.04) 11.4.0 Ubuntu 22.04 (ARM) Kernel: Depends on container host Compiler: gcc (Ubuntu 11.4.0-1ubuntu1~22.04) 11.4.0 Ubuntu 20.04 (ARM) Kernel: Depends on container host Compiler: gcc (Ubuntu 9.4.0-1ubuntu1~20.04.2) 9.4.0 RHEL9 (ARM) Kernel: Depends on container host Compiler: gcc 11.5.0 20240719 (Red Hat 11.5.0-2) Ubuntu 20.04 ARM SVE Kernel: Depends on container host Compiler: gcc (Ubuntu 10.5.0-1ubuntu1~20.04) 10.5.0 To view detailed results, visit: https://lab.dpdk.org/results/dashboard/patchsets/32483/ UNH-IOL DPDK Community Lab To manage your email subscriptions, visit: https://lab.dpdk.org/results/dashboard/preferences/subscriptions/