From mboxrd@z Thu Jan 1 00:00:00 1970 Return-Path: Received: from mails.dpdk.org (mails.dpdk.org [217.70.189.124]) by inbox.dpdk.org (Postfix) with ESMTP id 9EC4C46184 for ; Mon, 3 Feb 2025 19:42:31 +0100 (CET) Received: from mails.dpdk.org (localhost [127.0.0.1]) by mails.dpdk.org (Postfix) with ESMTP id 7D1044029F; Mon, 3 Feb 2025 19:42:31 +0100 (CET) Received: from mail-io1-f97.google.com (mail-io1-f97.google.com [209.85.166.97]) by mails.dpdk.org (Postfix) with ESMTP id C1A8E4003C for ; Mon, 3 Feb 2025 19:42:30 +0100 (CET) Received: by mail-io1-f97.google.com with SMTP id ca18e2360f4ac-844d7f81dd1so134367539f.2 for ; Mon, 03 Feb 2025 10:42:30 -0800 (PST) DKIM-Signature: v=1; a=rsa-sha256; c=relaxed/relaxed; d=iol.unh.edu; s=unh-iol; t=1738608150; x=1739212950; darn=dpdk.org; h=references:in-reply-to:cc:to:from:subject:message-id:date:from:to :cc:subject:date:message-id:reply-to; bh=mct/lxMXYucB0wP6ju139SsN+9VrNqSy1ip3kMWQWv8=; b=jsoVcsoOqRfPMi9cSiJAjJVxi+QcbKTqLi3ItIKzaH53U7QzeL72q8DVeklpytONGv WOB2jLvgpeHQAyaw0C1s7NXGwaE0may8nvfFx3WaVDpCaHY/n0i4vnZxQJQGNxFfees3 YamEfThrUbDI9mVgHD1WP2zI40iMDl5bQvH3U= X-Google-DKIM-Signature: v=1; a=rsa-sha256; c=relaxed/relaxed; d=1e100.net; s=20230601; t=1738608150; x=1739212950; h=references:in-reply-to:cc:to:from:subject:message-id:date :x-gm-message-state:from:to:cc:subject:date:message-id:reply-to; bh=mct/lxMXYucB0wP6ju139SsN+9VrNqSy1ip3kMWQWv8=; b=CdC3FH0L6FCGbCftW6NlLF7h5tz0xKsShz3SIvMWFE7FYhOj0JNY4N+t5TQooqWQ4l AkkXgiug4amdYQLCV9Cc4RDhqEdoLhGr4BktD4bWJ1Q0PkfBB+L8/fH9WBbY/EefCPHQ rIe+ZIbhtRV1FZ1VESJz9TBQShrz6gnE0+pLTHM0UsJsDuVUmHuN8JHgDc974iktx9Rz prd6fx+k2hpjiMzFaLQ9SZkt9s424mh36Jsl0SW5OtOLs4eUeHOzZd7GPhVCD3vcum6s fwVqbALXv3woErnxZaL+Gf3yrB4fpJ18MNOJWx7pBL38XOmxzMWzS6AG6MZfAcS8+mg3 4VgQ== X-Gm-Message-State: AOJu0YyohZ36ThuL+cmcU3tHLtPKLnoFcCWta9bfzAhAX0xA7QDb3tw7 xyRsYeVRVN/zbXrZTI4T/s6YtknPWF2ghOuZi/k9+2aD8oPXT+7G5VDhMI5kMqnnB3lcMZ+hgpW 4qyqjJLvNuHDmsGFMF4Z1e15+iLzAXL4cA2MQEphOSK9gEzRoVqbsPljz X-Gm-Gg: ASbGncs3zvDT3V+h+UF2nCA0ww04IfKqTcfPSmWjDVe75JUlRk6CrLRXWpQ7eqAdScf jITqSc/u9hUvcnEuwM6HS9cOWSEOpr30pvEOnX0JuoouchKyNBD9nHjNL4f1QN86j2WEWwHsBUB QCieB05xyxFIXw4PCi9cKj/9jJmgnMOSoxUBztZ0xjvqU7zN2IU9oIVn8oBwuYLlqj5o2E5lmlW wK89TOLi1RPona6qu7GxXdwTyvQYOrquZAk7xw8qSl8VZ3UVu7s7ZmYMSMtk9IFRkHkk1Yy2dIl GOlpbRPE287+juDRF615uENw45SM3CC2Ze4HNtEuug== X-Google-Smtp-Source: AGHT+IENGd9ARnF/vhsk1SYXZgH5wTuRYApHljfVG54pDCkQjc9Gvtp4GDY0trosSaUxM9NcLijHr21gc4vb X-Received: by 2002:a05:6602:3fcc:b0:851:f0be:965e with SMTP id ca18e2360f4ac-85427deb2aemr2025134639f.2.1738608150070; Mon, 03 Feb 2025 10:42:30 -0800 (PST) Received: from postal.iol.unh.edu (postal.iol.unh.edu. [2606:4100:3880:1234::84]) by smtp-relay.gmail.com with ESMTPS id ca18e2360f4ac-854a185c2c4sm62689039f.31.2025.02.03.10.42.29 (version=TLS1_2 cipher=ECDHE-ECDSA-AES128-GCM-SHA256 bits=128/128); Mon, 03 Feb 2025 10:42:30 -0800 (PST) X-Relaying-Domain: iol.unh.edu Date: Mon, 03 Feb 2025 10:42:30 -0800 (PST) Message-ID: <67a10e16.050a0220.aaf9c.d84eSMTPIN_ADDED_MISSING@mx.google.com> Received: from [172.17.0.4] (unknown [172.18.0.217]) by postal.iol.unh.edu (Postfix) with ESMTP id 90B7A6052471; Mon, 3 Feb 2025 13:42:29 -0500 (EST) Subject: |WARNING| pw150805-150806 [PATCH] [v2,2/2] dts: rework run-time MTU From: dpdklab@iol.unh.edu To: Test Report Cc: dpdk-test-reports@iol.unh.edu In-Reply-To: <20250203163850.249461-3-npratte@iol.unh.edu> References: <20250203163850.249461-3-npratte@iol.unh.edu> Content-Type: text/plain X-BeenThere: test-report@dpdk.org X-Mailman-Version: 2.1.29 Precedence: list List-Id: automatic DPDK test reports List-Unsubscribe: , List-Archive: List-Post: List-Help: List-Subscribe: , Errors-To: test-report-bounces@dpdk.org Test-Label: iol-compile-amd64-testing Test-Status: WARNING http://dpdk.org/patch/150806 _Testing issues_ Submitter: Nicholas Pratte Date: Monday, February 03 2025 16:38:50 DPDK git baseline: Repo:dpdk Branch: master CommitID:75fb46c7ade4a7efaaa02743c4aa450f75ba9468 150805-150806 --> testing issues Upstream job id: Generic-DPDK-Compile-Meson#357362 Test environment and result as below: +---------------------+--------------------+------------------+-------------------+-------------------+----------------------+ | Environment | dpdk_meson_compile | dpdk_compile_ovs | dpdk_compile_spdk | dpdk_msvc_compile | dpdk_mingw64_compile | +=====================+====================+==================+===================+===================+======================+ | CentOS Stream 9 | PASS | PASS | PASS | SKIPPED | SKIPPED | +---------------------+--------------------+------------------+-------------------+-------------------+----------------------+ | Fedora 40 | PASS | PASS | PASS | SKIPPED | SKIPPED | +---------------------+--------------------+------------------+-------------------+-------------------+----------------------+ | Debian 12 | PASS | PASS | PASS | SKIPPED | SKIPPED | +---------------------+--------------------+------------------+-------------------+-------------------+----------------------+ | Fedora 40 (Clang) | PASS | PASS | PASS | SKIPPED | SKIPPED | +---------------------+--------------------+------------------+-------------------+-------------------+----------------------+ | Fedora 41 | PASS | PASS | PASS | SKIPPED | SKIPPED | +---------------------+--------------------+------------------+-------------------+-------------------+----------------------+ | Fedora 41 (Clang) | PASS | PASS | PASS | SKIPPED | SKIPPED | +---------------------+--------------------+------------------+-------------------+-------------------+----------------------+ | Ubuntu 22.04 | PASS | PASS | PASS | SKIPPED | SKIPPED | +---------------------+--------------------+------------------+-------------------+-------------------+----------------------+ | RHEL8 | PASS | PASS | SKIPPED | SKIPPED | SKIPPED | +---------------------+--------------------+------------------+-------------------+-------------------+----------------------+ | RHEL9 | PASS | PASS | SKIPPED | SKIPPED | SKIPPED | +---------------------+--------------------+------------------+-------------------+-------------------+----------------------+ | openSUSE Leap 15 | PASS | SKIPPED | SKIPPED | SKIPPED | SKIPPED | +---------------------+--------------------+------------------+-------------------+-------------------+----------------------+ | Ubuntu 20.04 | PASS | WARN | SKIPPED | SKIPPED | SKIPPED | +---------------------+--------------------+------------------+-------------------+-------------------+----------------------+ | Ubuntu 24.04 | PASS | PASS | PASS | SKIPPED | SKIPPED | +---------------------+--------------------+------------------+-------------------+-------------------+----------------------+ | Alpine | PASS | PASS | SKIPPED | SKIPPED | SKIPPED | +---------------------+--------------------+------------------+-------------------+-------------------+----------------------+ | FreeBSD 13.4 | PASS | SKIPPED | SKIPPED | SKIPPED | SKIPPED | +---------------------+--------------------+------------------+-------------------+-------------------+----------------------+ | FreeBSD 14.2 | PASS | SKIPPED | SKIPPED | SKIPPED | SKIPPED | +---------------------+--------------------+------------------+-------------------+-------------------+----------------------+ | Debian Bullseye | PASS | PASS | PASS | SKIPPED | SKIPPED | +---------------------+--------------------+------------------+-------------------+-------------------+----------------------+ | Windows Server 2022 | SKIPPED | SKIPPED | SKIPPED | PASS | PASS | +---------------------+--------------------+------------------+-------------------+-------------------+----------------------+ ==== 20 line log output for Ubuntu 20.04 (dpdk_compile_ovs): ==== --- Failed to get log output --- ==== End log output ==== CentOS Stream 9 Kernel: Depends on container host Compiler: gcc 11.5.0 20240719 (Red Hat 11.5.0-2) Fedora 40 Kernel: Depends on container host Compiler: gcc 14.2.1 20240912 (Red Hat 14.2.1-3) Debian 12 Kernel: Depends on container host Compiler: gcc (Debian 12.2.0-14) 12.2.0 Fedora 40 (Clang) Kernel: Depends on container host Compiler: clang 18.1.8 (Fedora 18.1.8-1.fc40) Fedora 41 Kernel: Depends on container host Compiler: gcc 14.2.1 20240912 (Red Hat 14.2.1-3) Fedora 41 (Clang) Kernel: Depends on container host Compiler: clang 19.1.5 (Fedora 19.1.5-1.fc41) Ubuntu 22.04 Kernel: Depends on container host Compiler: gcc (Ubuntu 11.4.0-1ubuntu1~22.04) 11.4.0 RHEL8 Kernel: Depends on container host Compiler: gcc 8.5.0 20210514 (Red Hat 8.5.0-22) RHEL9 Kernel: Depends on container host Compiler: gcc 11.5.0 20240719 (Red Hat 11.5.0-2) openSUSE Leap 15 Kernel: Depends on container host Compiler: gcc (SUSE Linux) 7.5.0 Ubuntu 20.04 Kernel: Depends on container host Compiler: gcc (Ubuntu 9.4.0-1ubuntu1~20.04.2) 9.4.0 Ubuntu 24.04 Kernel: Depends on container host Compiler: gcc (Ubuntu 13.3.0-6ubuntu2~24.04) 13.3.0 Alpine Kernel: Depends on container host Compiler: gcc (Alpine 14.2.0) 14.2.0 FreeBSD 13.4 Kernel: 13.4-RELEASE-p1 Compiler: clang 18.1.6 FreeBSD 14.2 Kernel: 14.2-RELEASE Compiler: clang 18.1.6 Debian Bullseye Kernel: Depends on container host Compiler: gcc (Debian 10.2.1-6) 10.2.1 20210110 Windows Server 2022 Kernel: 10.0.20348.2031 Compiler: clang 15.0.7, gcc 14.1.0 (MinGW), and MSVC VS 19.39.33521 To view detailed results, visit: https://lab.dpdk.org/results/dashboard/patchsets/32483/ UNH-IOL DPDK Community Lab To manage your email subscriptions, visit: https://lab.dpdk.org/results/dashboard/preferences/subscriptions/