From mboxrd@z Thu Jan 1 00:00:00 1970 Return-Path: Received: from mails.dpdk.org (mails.dpdk.org [217.70.189.124]) by inbox.dpdk.org (Postfix) with ESMTP id 5249D46185 for ; Mon, 3 Feb 2025 20:00:12 +0100 (CET) Received: from mails.dpdk.org (localhost [127.0.0.1]) by mails.dpdk.org (Postfix) with ESMTP id 390324029F; Mon, 3 Feb 2025 20:00:12 +0100 (CET) Received: from mail-qt1-f228.google.com (mail-qt1-f228.google.com [209.85.160.228]) by mails.dpdk.org (Postfix) with ESMTP id C7BD84003C for ; Mon, 3 Feb 2025 20:00:10 +0100 (CET) Received: by mail-qt1-f228.google.com with SMTP id d75a77b69052e-4679eacf25cso31358811cf.3 for ; Mon, 03 Feb 2025 11:00:10 -0800 (PST) DKIM-Signature: v=1; a=rsa-sha256; c=relaxed/relaxed; d=iol.unh.edu; s=unh-iol; t=1738609210; x=1739214010; darn=dpdk.org; h=references:in-reply-to:cc:to:from:subject:message-id:date:from:to :cc:subject:date:message-id:reply-to; bh=88OfXIUOqMhHCHnyqFYkq09LdktE21c+90TvQgM8X2Y=; b=H1pyl3fjYnk2i31nB9NKBiov+GjrzHg4ERwkdL9KfKaTWYTORmtHNH6LAsJNY/DF70 U4j2AdO/6856myJZ7O+3vg1SlAFY/CS5760gjm5zheHxGlpEFKHT+T5b8UAqweTsJ9x1 oxBADGjM+hLKoBI2u4UMc9bRgX2NfLIJsIQ7I= X-Google-DKIM-Signature: v=1; a=rsa-sha256; c=relaxed/relaxed; d=1e100.net; s=20230601; t=1738609210; x=1739214010; h=references:in-reply-to:cc:to:from:subject:message-id:date :x-gm-message-state:from:to:cc:subject:date:message-id:reply-to; bh=88OfXIUOqMhHCHnyqFYkq09LdktE21c+90TvQgM8X2Y=; b=gHeHmENxtLuiFyxchD5axC52RiLVS8w5z8yzWE9upVb0mDSnKaymLr5MPwYyXm9kcX KfC567b1NEkpqKNrZ/8HG+6ud1A0ut854szZGcvz9IY6dsS72kdybmCRYAcvpTdyZX8o JdS3l6EgGiCzpzNyuDwS3A3HXI/AaWhCnMswTG3GOGG7QZsH0h2/X7HBOTbvWqbwUuAL 2E5U7ff5JWGygbkQP3Sr5okWllT/KOtvtyIfsS+a6IA2a1Xja0B1UAI7ALKrx13MfN1E VhW/i6dNK9UvyF+Xzb4AtyVfrIMgGZ/rn5N/RlZIf6GJLsJE49mvFH4QqPJaDa9a2c8N iQ1Q== X-Gm-Message-State: AOJu0YxFqBKSYbvGk/mjJ69lKplmRq7YankraKXKUCA8XcwXfSsv6Y6K YLXyIcPDRt/YaZi9G3Tg5BnsY8LPTsfxoS99HNwJ4yKL9Ac4zGsxRWn628pz1ca/UJ/smtt0yTq f96cJ3skl7syv+pmpxqAc1rOFbAZuo8qA+q0aKQZH X-Gm-Gg: ASbGnctoq9ZmPUZhaW6ZuM0Pc7gM91N5IT8H7ibc6VrggdXi5ft5VR23iW6oNHhlgrC 2Lav/Nzf7iPzqk/dyqGPs75pVPrRHP32YWD51oSEnoahABlgW5WX/u/jO3vNTufOj1nlpe1ije+ vB7kgYVHRXna3AyANFr5bdAvy8BRA56bO+2TFk9SwsvGzqI5jncm27CxPXB1w02GIt2W35YYLhW nCh03qobiiR0bwHzeR6BHRDsHeAS70UHv0gi41tfMvqQVlD8OGdSfwPOS1DcfvJglrzlDAIwjSI rmbUrTsfQH0NONWwEwwgVl6JO8Tw4w== X-Google-Smtp-Source: AGHT+IHFtjeNo9c4Fch458/Po+3HQi+NW7J9nfuqTblP6Vtq49Y2w1RN/9QNSrKu64oMrTBSEPKolx/cc+1u X-Received: by 2002:a05:6214:2265:b0:6d8:7ed4:335b with SMTP id 6a1803df08f44-6e243bf840emr271414726d6.26.1738609210082; Mon, 03 Feb 2025 11:00:10 -0800 (PST) Received: from postal.iol.unh.edu (postal.iol.unh.edu. [132.177.123.84]) by smtp-relay.gmail.com with ESMTPS id 6a1803df08f44-6e25480c2e6sm7497726d6.24.2025.02.03.11.00.10 (version=TLS1_2 cipher=ECDHE-ECDSA-AES128-GCM-SHA256 bits=128/128); Mon, 03 Feb 2025 11:00:10 -0800 (PST) X-Relaying-Domain: iol.unh.edu Date: Mon, 03 Feb 2025 11:00:10 -0800 (PST) Message-ID: <67a1123a.050a0220.7adf3.2ea8SMTPIN_ADDED_MISSING@mx.google.com> Received: from [172.17.0.4] (unknown [172.18.0.217]) by postal.iol.unh.edu (Postfix) with ESMTP id C2E4A6052471; Mon, 3 Feb 2025 14:00:09 -0500 (EST) Subject: |SUCCESS| pw150805-150806 [PATCH] [v2,2/2] dts: rework run-time MTU From: dpdklab@iol.unh.edu To: Test Report Cc: dpdk-test-reports@iol.unh.edu In-Reply-To: <20250203163850.249461-3-npratte@iol.unh.edu> References: <20250203163850.249461-3-npratte@iol.unh.edu> Content-Type: text/plain X-BeenThere: test-report@dpdk.org X-Mailman-Version: 2.1.29 Precedence: list List-Id: automatic DPDK test reports List-Unsubscribe: , List-Archive: List-Post: List-Help: List-Subscribe: , Errors-To: test-report-bounces@dpdk.org Test-Label: iol-compile-arm64-testing Test-Status: SUCCESS http://dpdk.org/patch/150806 _Testing PASS_ Submitter: Nicholas Pratte Date: Monday, February 03 2025 16:38:50 DPDK git baseline: Repo:dpdk Branch: master CommitID:75fb46c7ade4a7efaaa02743c4aa450f75ba9468 150805-150806 --> testing pass Upstream job id: Generic-DPDK-Compile-Meson#357379 Test environment and result as below: +----------------------------------------+--------------------+ | Environment | dpdk_meson_compile | +========================================+====================+ | RHEL9 (ARM) | PASS | +----------------------------------------+--------------------+ | Ubuntu 20.04 ARM GCC Cross Compile | PASS | +----------------------------------------+--------------------+ | Ubuntu 20.04 ARM SVE | PASS | +----------------------------------------+--------------------+ | Fedora 40 (ARM) | PASS | +----------------------------------------+--------------------+ | Debian 12 with MUSDK | PASS | +----------------------------------------+--------------------+ | Ubuntu 20.04 (ARM) | PASS | +----------------------------------------+--------------------+ | Fedora 41 (ARM Clang) | PASS | +----------------------------------------+--------------------+ | Fedora 40 (ARM Clang) | PASS | +----------------------------------------+--------------------+ | Fedora 41 (ARM) | PASS | +----------------------------------------+--------------------+ | Ubuntu 22.04 (ARM) | PASS | +----------------------------------------+--------------------+ | Debian 11 (Buster) (ARM) | PASS | +----------------------------------------+--------------------+ | Ubuntu 20.04 aarch32 GCC Cross Compile | PASS | +----------------------------------------+--------------------+ | Ubuntu 24.04 (ARM) | PASS | +----------------------------------------+--------------------+ | Ubuntu 20.04 ARM Clang Cross Compile | PASS | +----------------------------------------+--------------------+ | CentOS Stream 9 (ARM) | PASS | +----------------------------------------+--------------------+ | Debian 12 (arm) | PASS | +----------------------------------------+--------------------+ RHEL9 (ARM) Kernel: Depends on container host Compiler: gcc 11.5.0 20240719 (Red Hat 11.5.0-2) Ubuntu 20.04 ARM GCC Cross Compile Kernel: Depends on container host Compiler: aarch64-linux-gnu-gcc (Ubuntu 9.4.0-1ubuntu1~20.04.2) 9.4.0 Ubuntu 20.04 ARM SVE Kernel: Depends on container host Compiler: gcc (Ubuntu 10.5.0-1ubuntu1~20.04) 10.5.0 Fedora 40 (ARM) Kernel: Depends on container host Compiler: gcc 14.2.1 20240912 (Red Hat 14.2.1-3) Debian 12 with MUSDK Kernel: Depends on container host Compiler: gcc (Debian 12.2.0-14) 12.2.0 Ubuntu 20.04 (ARM) Kernel: Depends on container host Compiler: gcc (Ubuntu 9.4.0-1ubuntu1~20.04.2) 9.4.0 Fedora 41 (ARM Clang) Kernel: Depends on container host Compiler: clang 19.1.5 (Fedora 19.1.5-1.fc41) Fedora 40 (ARM Clang) Kernel: Depends on container host Compiler: clang 18.1.8 (Fedora 18.1.8-1.fc40) Fedora 41 (ARM) Kernel: Depends on container host Compiler: gcc 14.2.1 20240912 (Red Hat 14.2.1-3) Ubuntu 22.04 (ARM) Kernel: Depends on container host Compiler: gcc (Ubuntu 11.4.0-1ubuntu1~22.04) 11.4.0 Debian 11 (Buster) (ARM) Kernel: Depends on container host Compiler: gcc (Debian 10.2.1-6) 10.2.1 20210110 Ubuntu 20.04 aarch32 GCC Cross Compile Kernel: Depends on container host Compiler: gcc 9.4.0 Ubuntu 24.04 (ARM) Kernel: Depends on container host Compiler: gcc (Ubuntu 13.3.0-6ubuntu2~24.04) 13.3.0 Ubuntu 20.04 ARM Clang Cross Compile Kernel: Depends on container host Compiler: clang 10.0.0-4ubuntu1 CentOS Stream 9 (ARM) Kernel: Depends on container host Compiler: gcc 11.5.0 20240719 (Red Hat 11.5.0-2) Debian 12 (arm) Kernel: Depends on container host Compiler: gcc (Debian 12.2.0-14) 12.2.0 To view detailed results, visit: https://lab.dpdk.org/results/dashboard/patchsets/32483/ UNH-IOL DPDK Community Lab To manage your email subscriptions, visit: https://lab.dpdk.org/results/dashboard/preferences/subscriptions/