From mboxrd@z Thu Jan 1 00:00:00 1970 Return-Path: Received: from mails.dpdk.org (mails.dpdk.org [217.70.189.124]) by inbox.dpdk.org (Postfix) with ESMTP id DEE8246187 for ; Tue, 4 Feb 2025 03:09:38 +0100 (CET) Received: from mails.dpdk.org (localhost [127.0.0.1]) by mails.dpdk.org (Postfix) with ESMTP id C361540289; Tue, 4 Feb 2025 03:09:38 +0100 (CET) Received: from mail-pl1-f226.google.com (mail-pl1-f226.google.com [209.85.214.226]) by mails.dpdk.org (Postfix) with ESMTP id 0B60A4003C for ; Tue, 4 Feb 2025 03:09:37 +0100 (CET) Received: by mail-pl1-f226.google.com with SMTP id d9443c01a7336-216728b1836so85494505ad.0 for ; Mon, 03 Feb 2025 18:09:36 -0800 (PST) DKIM-Signature: v=1; a=rsa-sha256; c=relaxed/relaxed; d=iol.unh.edu; s=unh-iol; t=1738634976; x=1739239776; darn=dpdk.org; h=cc:to:from:subject:message-id:date:from:to:cc:subject:date :message-id:reply-to; bh=nzVpjjId6e3jg53gxmEJAXjJhVeIDvbFS97oGv4riJU=; b=cqcvZ5bNYJVV8sTomJkLCN6W4xC+m5J/H5EtYwwUrM5rl4ITn4emsGx4kdRsE4NNoZ rTnFbTq0H/K6ZHBg+q1ktg3izXkgU9eoHTGxwddK4JWCa+zookZUNGl4IQOWQpuqD/vP zRwO14XOF0fN3j+5MiDcreL2t9NBn6wcvPAQ8= X-Google-DKIM-Signature: v=1; a=rsa-sha256; c=relaxed/relaxed; d=1e100.net; s=20230601; t=1738634976; x=1739239776; h=cc:to:from:subject:message-id:date:x-gm-message-state:from:to:cc :subject:date:message-id:reply-to; bh=nzVpjjId6e3jg53gxmEJAXjJhVeIDvbFS97oGv4riJU=; b=cHYElLAKKrB7XEOaL+BWieRnc/+HLhAUo232TmnDlqBeHu8xOLO5ep3YhPordaRWcy YvmZP4zvzr83gtIBbRdCdYv0KVMhTPmUmcEd+oCt2YRGEzULB+t6i/LQRiWOv7TsdTA7 Mewu1kg3xZPy3lbQdghYW5WYwY2HsKqwirlHUt3N0Zuuh3M2lESA+Q6T/VQRCUNxsjsO qt7Qr3MR26HKmHXFJ2P/9EG85nuxwd0UcTEBXKItgzXsmAbV3qZkyWG1gb0sWm9oFw8p P3RTjqOSulpEIEj1YzB1bRI3Da0AOGbdCn0qpYtGcVonZpLloqMr0FCB9v3ptpbA/nFj UNCg== X-Gm-Message-State: AOJu0Yx0FHCc5RjstVwg8kHQcEMa2uutBxBJiD61+chenmzUDBQZmpaA V17lLLKKouHMOORudPZ59h5NKXGwVpy5UP7q5m8rVKOLXvUQO6oUzpi1DM2cpe6zIsAxGxJL6t7 rjgUHy9VyjQ8nM5QSMaH68Y9QxgwFHrQxzLN539Sm X-Gm-Gg: ASbGncudHqPdYurZTHm/h+9cxSkJtqdTsvSRlwAj3OY0Z0f8PXJyngQqWaSRtTUJjYT nHfQmdAWEE7ZBZl+QnFZ89jvLGGerrShz3g8kfpSszvyHeOTD4LXQL0JTRImRa0GIjQxoNJLq7E of0Wp3cYwhmOAxGidk7/yeEaOUPZ9ZJ1dOrfor4L7QxmiZUDCdKBWGRLbiTfBDcZHb1SG7FRYBS k/4ydvFazEN8YZIyRaakAU9mEWfyhON+grGI9FRPscOKlzHekB9Klw3Ex6ppXzIBxCg9Ii6ubPg sKm5gGdL//eS9kywwbWPMS9MiBQKjA== X-Google-Smtp-Source: AGHT+IELOu920e9or/0B0tEexqE5zhO8TPZfq/JUwHw4ZhL3mJr3rtXGBlvzvVMH7xyEkAeVJbWfF6sLIOib X-Received: by 2002:a05:6300:7114:b0:1ed:a6a4:b646 with SMTP id adf61e73a8af0-1eda6a4b76dmr14015407637.1.1738634976056; Mon, 03 Feb 2025 18:09:36 -0800 (PST) Received: from postal.iol.unh.edu (postal.iol.unh.edu. [132.177.123.84]) by smtp-relay.gmail.com with ESMTPS id 41be03b00d2f7-acebe856038sm591579a12.15.2025.02.03.18.09.35 (version=TLS1_2 cipher=ECDHE-ECDSA-AES128-GCM-SHA256 bits=128/128); Mon, 03 Feb 2025 18:09:36 -0800 (PST) X-Relaying-Domain: iol.unh.edu Date: Mon, 03 Feb 2025 18:09:36 -0800 (PST) Message-ID: <67a176e0.630a0220.65097.c75eSMTPIN_ADDED_MISSING@mx.google.com> Received: from [172.21.0.6] (unknown [172.18.0.240]) by postal.iol.unh.edu (Postfix) with ESMTP id 3067F6052471; Mon, 3 Feb 2025 21:09:35 -0500 (EST) Subject: |SUCCESS| [GIT MASTER] dc4ce7c2538b713e16887eb598da309bc7b4d528 From: dpdklab@iol.unh.edu To: Test Report Cc: dpdk-test-reports@iol.unh.edu Content-Type: text/plain X-BeenThere: test-report@dpdk.org X-Mailman-Version: 2.1.29 Precedence: list List-Id: automatic DPDK test reports List-Unsubscribe: , List-Archive: List-Post: List-Help: List-Subscribe: , Errors-To: test-report-bounces@dpdk.org _Testing PASS_ Branch: dpdk dc4ce7c2538b713e16887eb598da309bc7b4d528 --> testing pass Upstream job id: ACVP-FIPS-testing#8768 Test environment and result as below: +--------------------+----------------------+----------------------+ | Environment | dpdk_fips_validation | compressdev_zlib_pmd | +====================+======================+======================+ | Ubuntu 20.04 | PASS | SKIPPED | +--------------------+----------------------+----------------------+ | Ubuntu 22.04 (ARM) | SKIPPED | PASS | +--------------------+----------------------+----------------------+ | Ubuntu 22.04 | SKIPPED | PASS | +--------------------+----------------------+----------------------+ Ubuntu 20.04 Kernel: Depends on container host Compiler: gcc (Ubuntu 9.4.0-1ubuntu1~20.04.2) 9.4.0 Ubuntu 22.04 (ARM) Kernel: 5.15.0-97-generic Compiler: gcc gcc (Ubuntu 11.4.0-1ubuntu1~22.04) 11.4.0 Ubuntu 22.04 Kernel: 5.15.0-100-generic Compiler: gcc gcc (Ubuntu 11.4.0-1ubuntu1~22.04) 11.4.0 To view detailed results, visit: https://lab.dpdk.org/results/dashboard/tarballs/32428/ UNH-IOL DPDK Community Lab To manage your email subscriptions, visit: https://lab.dpdk.org/results/dashboard/preferences/subscriptions/