From mboxrd@z Thu Jan 1 00:00:00 1970 Return-Path: Received: from mails.dpdk.org (mails.dpdk.org [217.70.189.124]) by inbox.dpdk.org (Postfix) with ESMTP id 7C79D46187 for ; Tue, 4 Feb 2025 03:26:54 +0100 (CET) Received: from mails.dpdk.org (localhost [127.0.0.1]) by mails.dpdk.org (Postfix) with ESMTP id 76EF940289; Tue, 4 Feb 2025 03:26:54 +0100 (CET) Received: from mail-qv1-f99.google.com (mail-qv1-f99.google.com [209.85.219.99]) by mails.dpdk.org (Postfix) with ESMTP id 402BB4003C for ; Tue, 4 Feb 2025 03:26:53 +0100 (CET) Received: by mail-qv1-f99.google.com with SMTP id 6a1803df08f44-6dd43b08674so40750266d6.3 for ; Mon, 03 Feb 2025 18:26:53 -0800 (PST) DKIM-Signature: v=1; a=rsa-sha256; c=relaxed/relaxed; d=iol.unh.edu; s=unh-iol; t=1738636012; x=1739240812; darn=dpdk.org; h=cc:to:from:subject:message-id:date:from:to:cc:subject:date :message-id:reply-to; bh=FBYnoYkc6URrbYv/H5FtfPFTZ2+Ce/ceWVLENieLg5o=; b=BqG6AlvCUBr70a53GDwzfrSpEajFJ7ZSbLuTvtqfO6R/GrbSpmsXIG9Q6TMBdYjBUL PZpWtgMRPrZ1hb49/2rhHZmBy5bcs8+uBwn3MTbDMQMP7rxvCDYIINKncAHr/lJGSxMf dgiM5AuTw1GyD9mmftHWZpkdkAuizxIXa4q6o= X-Google-DKIM-Signature: v=1; a=rsa-sha256; c=relaxed/relaxed; d=1e100.net; s=20230601; t=1738636012; x=1739240812; h=cc:to:from:subject:message-id:date:x-gm-message-state:from:to:cc :subject:date:message-id:reply-to; bh=FBYnoYkc6URrbYv/H5FtfPFTZ2+Ce/ceWVLENieLg5o=; b=rd6on6zYPzsIpoTU6QCQJtHi/e8ylbs3XtpVh+OGe70IKB5vSChv+b9+x3WfbdFdkF FtBVazmV6EbhdATQMnCTD7ErTIhxTjvSCpNJXi06bLvVf41Uj2DpUoTbUvrfqi4Lqu+A z+oU2ARStOm6NyAs7jFXJSDottHNqNeYYWiy4mUEbOZbPqRWxbnYDBZzRCA0lEkHK6BZ Z9l3BFHE0aRPFjSKl2VhFvuUKnJZRVezLR1e5au5zy2erVfNKZoyXoGB3qvBRgg3Feyi pDYUGgNEeQ8ZvKgOcXxG2f1ii7lNkzMXFDwr8hY7soUu21j0tNhjy87NHQBc/clNrCdD DrAg== X-Gm-Message-State: AOJu0YyNjdoqFzuX89ArcRxp+oCvyDl0X+uhJZ30CyT9ka5bIABEEOIn FZd5VyN1W9vOmvCGmdaLOmHEtGP3MCRttJ1qjQjwkxxAtWNAEs1G2C4uNNsvjlhazIPot+jWIBl UTqB0LyO/fgVv/MM7AH5laeH/Gu4rVePlRGJwL4Ft X-Gm-Gg: ASbGncvY56ovb6tlAWdG/kjh/BPILCUMzHvy0rLPHKvz1f0dqrFAi0+kUIXo1QNb8we hLZf9USEUxvieHUxr2V6285efNlJZWl/wNQK/y1L4dZo5xr++hT4kIHXVw9LQbnwX7o4XP2Ds7P YXtGRbkkpr9sb5Wmg9XT+ud2Qh0pfpdsdL/YFDFLk+cfxe2M+/nsrznS00fR3Eihnhypz631/8S OTYXishWyV0kGun8yC/yxPjeybEeFiuiESuv9s0yuXK0j+DCaZoc169kKQNCnRTgadxPs6jQpxI Nrll7T3/wW447oO1Rydh7vTjiTxIyA== X-Google-Smtp-Source: AGHT+IGmcyyB6CVlu519TDwr9zHAUIyp+0Ik7/e00+eTxGQZipegQCZxvMpGloD85n0MhfumvSJ/sJ73QPqt X-Received: by 2002:ad4:5bc7:0:b0:6d8:7e03:c434 with SMTP id 6a1803df08f44-6e243c364c8mr357520376d6.20.1738636012631; Mon, 03 Feb 2025 18:26:52 -0800 (PST) Received: from postal.iol.unh.edu (postal.iol.unh.edu. [132.177.123.84]) by smtp-relay.gmail.com with ESMTPS id 6a1803df08f44-6e2544e0b97sm7912076d6.14.2025.02.03.18.26.52 (version=TLS1_2 cipher=ECDHE-ECDSA-AES128-GCM-SHA256 bits=128/128); Mon, 03 Feb 2025 18:26:52 -0800 (PST) X-Relaying-Domain: iol.unh.edu Date: Mon, 03 Feb 2025 18:26:52 -0800 (PST) Message-ID: <67a17aec.050a0220.c373e.4ebcSMTPIN_ADDED_MISSING@mx.google.com> Received: from [172.21.0.5] (unknown [172.18.0.240]) by postal.iol.unh.edu (Postfix) with ESMTP id 51AA26052471; Mon, 3 Feb 2025 21:26:52 -0500 (EST) Subject: |SUCCESS| [GIT MASTER] dc4ce7c2538b713e16887eb598da309bc7b4d528 From: dpdklab@iol.unh.edu To: Test Report Cc: dpdk-test-reports@iol.unh.edu Content-Type: text/plain X-BeenThere: test-report@dpdk.org X-Mailman-Version: 2.1.29 Precedence: list List-Id: automatic DPDK test reports List-Unsubscribe: , List-Archive: List-Post: List-Help: List-Subscribe: , Errors-To: test-report-bounces@dpdk.org _Testing PASS_ Branch: dpdk dc4ce7c2538b713e16887eb598da309bc7b4d528 --> testing pass Upstream job id: Generic-Unit-Test-DPDK#311283 Test environment and result as below: +---------------------+----------------+ | Environment | dpdk_unit_test | +=====================+================+ | Arch Linux | PASS | +---------------------+----------------+ | CentOS Stream 9 | PASS | +---------------------+----------------+ | Debian Bullseye | PASS | +---------------------+----------------+ | Fedora 41 | PASS | +---------------------+----------------+ | Fedora 40 | PASS | +---------------------+----------------+ | Debian 12 | PASS | +---------------------+----------------+ | Fedora 40 (Clang) | PASS | +---------------------+----------------+ | Ubuntu 24.04 | PASS | +---------------------+----------------+ | Ubuntu 20.04 | PASS | +---------------------+----------------+ | Fedora 41 (Clang) | PASS | +---------------------+----------------+ | RHEL9 | PASS | +---------------------+----------------+ | RHEL8 | PASS | +---------------------+----------------+ | Ubuntu 22.04 | PASS | +---------------------+----------------+ | Windows Server 2022 | PASS | +---------------------+----------------+ Arch Linux Kernel: Depends on container host Compiler: gcc 14.2.1 20240910 CentOS Stream 9 Kernel: Depends on container host Compiler: gcc 11.5.0 20240719 (Red Hat 11.5.0-2) Debian Bullseye Kernel: Depends on container host Compiler: gcc (Debian 10.2.1-6) 10.2.1 20210110 Fedora 41 Kernel: Depends on container host Compiler: gcc 14.2.1 20240912 (Red Hat 14.2.1-3) Fedora 40 Kernel: Depends on container host Compiler: gcc 14.2.1 20240912 (Red Hat 14.2.1-3) Debian 12 Kernel: Depends on container host Compiler: gcc (Debian 12.2.0-14) 12.2.0 Fedora 40 (Clang) Kernel: Depends on container host Compiler: clang 18.1.8 (Fedora 18.1.8-1.fc40) Ubuntu 24.04 Kernel: Depends on container host Compiler: gcc (Ubuntu 13.3.0-6ubuntu2~24.04) 13.3.0 Ubuntu 20.04 Kernel: Depends on container host Compiler: gcc (Ubuntu 9.4.0-1ubuntu1~20.04.2) 9.4.0 Fedora 41 (Clang) Kernel: Depends on container host Compiler: clang 19.1.5 (Fedora 19.1.5-1.fc41) RHEL9 Kernel: Depends on container host Compiler: gcc 11.5.0 20240719 (Red Hat 11.5.0-2) RHEL8 Kernel: Depends on container host Compiler: gcc 8.5.0 20210514 (Red Hat 8.5.0-22) Ubuntu 22.04 Kernel: Depends on container host Compiler: gcc (Ubuntu 11.4.0-1ubuntu1~22.04) 11.4.0 Windows Server 2022 Kernel: 10.0.20348.2031 Compiler: clang 15.0.7, gcc 14.1.0 (MinGW), and MSVC VS 19.39.33521 To view detailed results, visit: https://lab.dpdk.org/results/dashboard/tarballs/32428/ UNH-IOL DPDK Community Lab To manage your email subscriptions, visit: https://lab.dpdk.org/results/dashboard/preferences/subscriptions/