From mboxrd@z Thu Jan 1 00:00:00 1970 Return-Path: Received: from mails.dpdk.org (mails.dpdk.org [217.70.189.124]) by inbox.dpdk.org (Postfix) with ESMTP id BB25046187 for ; Tue, 4 Feb 2025 03:35:35 +0100 (CET) Received: from mails.dpdk.org (localhost [127.0.0.1]) by mails.dpdk.org (Postfix) with ESMTP id B833440A76; Tue, 4 Feb 2025 03:35:35 +0100 (CET) Received: from mail-io1-f97.google.com (mail-io1-f97.google.com [209.85.166.97]) by mails.dpdk.org (Postfix) with ESMTP id 155DE4003C for ; Tue, 4 Feb 2025 03:35:34 +0100 (CET) Received: by mail-io1-f97.google.com with SMTP id ca18e2360f4ac-854a68f5afcso87307839f.0 for ; Mon, 03 Feb 2025 18:35:34 -0800 (PST) DKIM-Signature: v=1; a=rsa-sha256; c=relaxed/relaxed; d=iol.unh.edu; s=unh-iol; t=1738636533; x=1739241333; darn=dpdk.org; h=cc:to:from:subject:message-id:date:from:to:cc:subject:date :message-id:reply-to; bh=tdIqLcpbWaClYc+be0I/bw88KpnNmJ5ueB3vbkPKTLc=; b=caMqUXZDmqlt0eSD5HhjSnBXcd55bAPe3yshcsjX/Xom91D0CZmpoNGrTEe84yhgEv TRXGlMTTB8dtQaI4rDSIAYCzru3r0UJSbjD0dmFEMtchHZX22B5yiJhwJ8rZjSWJUlGZ SAaJTn5xZ22L+5ew5YNKQ4u5Dgb0axd3yVeq8= X-Google-DKIM-Signature: v=1; a=rsa-sha256; c=relaxed/relaxed; d=1e100.net; s=20230601; t=1738636533; x=1739241333; h=cc:to:from:subject:message-id:date:x-gm-message-state:from:to:cc :subject:date:message-id:reply-to; bh=tdIqLcpbWaClYc+be0I/bw88KpnNmJ5ueB3vbkPKTLc=; b=sY62fZE6awAclOYQ5awZaeFEREX8nh1VHS0H3505a8Dwdkkycc9RNVqpyL094tniti U7ghPFyWYuzkQlARiDnKQzBYd1R5KohAHLoO7tn07Ts4c1oT63I+HeZx+e9Wsr6ImKCf jKWY9E52DBVbZSsXPhUJv0B+e8h3mWsQevt82FVJdDnhaGQyrKI6a8UGjEbYUTlozxdU LWbWLY9wNqkviKZWpBlyANSqqBIc6cSUHHDTLmkWop2b6n0M7PbkINv7QyFIA+FtEn73 QdsOjlKPJgZ53WRxPvHWikMDFQ+exO/3Qp3u5xnccyPE9QkA3BwDBmZf0+wfUir2wpJI 846g== X-Gm-Message-State: AOJu0Yyl4cN8acUWcJS3SHDoTv8p+nzcsM/mNJA6Xw2d5sO7uv9aIK4x FK2A/97+L9NIHjakiGwM0J5RHjhRPmIYDlymlbj0iWy5qqwPuqzQGtI1uRQBFt4umw6NAOMq+/6 HCNINq/qezobNzhnBZ0lJ0dSGmskjfm3QL3U5T+Duf93xBOsuXUHMWDnA X-Gm-Gg: ASbGncvgIq355zGHpK3fGZXiU3aSeReYdPfZhzL0nmGmIcuRSNfY0cqJsHqoFlUaP30 5a0n99llhGZOVEPO0zb+yN3YuCWB2wM8En39C3BT3xWDdEbc7TBTzzyhUlTZmOs04+f7OgYjtoz 1AkocytLjgAG7La0NuCnPRRWdZDp/I/dCYnoEMPbTMkQxKGw3Xpyty5mXzTtE7QbarTBWhX+rxm goP0YFAdKhX7lf813PQejUE1XeaSDoD5QJZPlrbsT+BfBL5+s0lco6b7Bx2H6vwVn2R4M2WkZiH DRt4MPLUad0mDFZc/6o11C/kN241I3PHVTxBbe1sgg== X-Google-Smtp-Source: AGHT+IFxfTqqLEl0zARUt7KHOOhMGypS6nF1fWSZymyxX02fB5AACOjCDE549ffX5Pj1gWCIaTPr0t9uOW6X X-Received: by 2002:a05:6602:400a:b0:843:e667:f196 with SMTP id ca18e2360f4ac-85427e04ebemr2959152239f.4.1738636533383; Mon, 03 Feb 2025 18:35:33 -0800 (PST) Received: from postal.iol.unh.edu (postal.iol.unh.edu. [2606:4100:3880:1234::84]) by smtp-relay.gmail.com with ESMTPS id ca18e2360f4ac-854a18400c2sm66444439f.27.2025.02.03.18.35.33 (version=TLS1_2 cipher=ECDHE-ECDSA-AES128-GCM-SHA256 bits=128/128); Mon, 03 Feb 2025 18:35:33 -0800 (PST) X-Relaying-Domain: iol.unh.edu Date: Mon, 03 Feb 2025 18:35:33 -0800 (PST) Message-ID: <67a17cf5.050a0220.18bf84.0730SMTPIN_ADDED_MISSING@mx.google.com> Received: from [172.21.0.5] (unknown [172.18.0.240]) by postal.iol.unh.edu (Postfix) with ESMTP id D2CFE6052471; Mon, 3 Feb 2025 21:35:32 -0500 (EST) Subject: |SUCCESS| [GIT MASTER] dc4ce7c2538b713e16887eb598da309bc7b4d528 From: dpdklab@iol.unh.edu To: Test Report Cc: dpdk-test-reports@iol.unh.edu Content-Type: text/plain X-BeenThere: test-report@dpdk.org X-Mailman-Version: 2.1.29 Precedence: list List-Id: automatic DPDK test reports List-Unsubscribe: , List-Archive: List-Post: List-Help: List-Subscribe: , Errors-To: test-report-bounces@dpdk.org _Testing PASS_ Branch: dpdk dc4ce7c2538b713e16887eb598da309bc7b4d528 --> testing pass Upstream job id: Generic-DPDK-Compile-ABI#114616 Test environment and result as below: +-------------------+----------+ | Environment | abi_test | +===================+==========+ | Debian Bullseye | PASS | +-------------------+----------+ | Debian 12 | PASS | +-------------------+----------+ | CentOS Stream 9 | PASS | +-------------------+----------+ | Fedora 40 | PASS | +-------------------+----------+ | Fedora 41 (Clang) | PASS | +-------------------+----------+ | Arch Linux | PASS | +-------------------+----------+ | Fedora 40 (Clang) | PASS | +-------------------+----------+ | Fedora 41 | PASS | +-------------------+----------+ | Ubuntu 22.04 | PASS | +-------------------+----------+ | openSUSE Leap 15 | PASS | +-------------------+----------+ | RHEL9 | PASS | +-------------------+----------+ | RHEL8 | PASS | +-------------------+----------+ | Ubuntu 24.04 | PASS | +-------------------+----------+ Debian Bullseye Kernel: Depends on container host Compiler: gcc (Debian 10.2.1-6) 10.2.1 20210110 Debian 12 Kernel: Depends on container host Compiler: gcc (Debian 12.2.0-14) 12.2.0 CentOS Stream 9 Kernel: Depends on container host Compiler: gcc 11.5.0 20240719 (Red Hat 11.5.0-2) Fedora 40 Kernel: Depends on container host Compiler: gcc 14.2.1 20240912 (Red Hat 14.2.1-3) Fedora 41 (Clang) Kernel: Depends on container host Compiler: clang 19.1.5 (Fedora 19.1.5-1.fc41) Arch Linux Kernel: Depends on container host Compiler: gcc 14.2.1 20240910 Fedora 40 (Clang) Kernel: Depends on container host Compiler: clang 18.1.8 (Fedora 18.1.8-1.fc40) Fedora 41 Kernel: Depends on container host Compiler: gcc 14.2.1 20240912 (Red Hat 14.2.1-3) Ubuntu 22.04 Kernel: Depends on container host Compiler: gcc (Ubuntu 11.4.0-1ubuntu1~22.04) 11.4.0 openSUSE Leap 15 Kernel: Depends on container host Compiler: gcc (SUSE Linux) 7.5.0 RHEL9 Kernel: Depends on container host Compiler: gcc 11.5.0 20240719 (Red Hat 11.5.0-2) RHEL8 Kernel: Depends on container host Compiler: gcc 8.5.0 20210514 (Red Hat 8.5.0-22) Ubuntu 24.04 Kernel: Depends on container host Compiler: gcc (Ubuntu 13.3.0-6ubuntu2~24.04) 13.3.0 To view detailed results, visit: https://lab.dpdk.org/results/dashboard/tarballs/32428/ UNH-IOL DPDK Community Lab To manage your email subscriptions, visit: https://lab.dpdk.org/results/dashboard/preferences/subscriptions/