From mboxrd@z Thu Jan 1 00:00:00 1970 Return-Path: Received: from mails.dpdk.org (mails.dpdk.org [217.70.189.124]) by inbox.dpdk.org (Postfix) with ESMTP id B623446187 for ; Tue, 4 Feb 2025 03:43:16 +0100 (CET) Received: from mails.dpdk.org (localhost [127.0.0.1]) by mails.dpdk.org (Postfix) with ESMTP id 987F040289; Tue, 4 Feb 2025 03:43:16 +0100 (CET) Received: from mail-qv1-f98.google.com (mail-qv1-f98.google.com [209.85.219.98]) by mails.dpdk.org (Postfix) with ESMTP id F03F54003C for ; Tue, 4 Feb 2025 03:43:14 +0100 (CET) Received: by mail-qv1-f98.google.com with SMTP id 6a1803df08f44-6e2362ea655so39353526d6.3 for ; Mon, 03 Feb 2025 18:43:14 -0800 (PST) DKIM-Signature: v=1; a=rsa-sha256; c=relaxed/relaxed; d=iol.unh.edu; s=unh-iol; t=1738636994; x=1739241794; darn=dpdk.org; h=cc:to:from:subject:message-id:date:from:to:cc:subject:date :message-id:reply-to; bh=abBLYR57nuJ1VU9pyMb6zdaab63RGd/EAi4Hty3i+Tw=; b=fkudr/BqQR27H8ycP9CDwryA7ln67d6DFdr+MojToWByqeNvpCk35JDHDWZ9qwqPij dlj45UkemMsoxl5UVYQ2fPPYr3zt78ycz0AR6oS4jE4Ae0Edl6VgkeyPjr/XlmKWAvv3 1u8QY7oGxifS19XsGT170rIzx0wqNPmHJlFrs= X-Google-DKIM-Signature: v=1; a=rsa-sha256; c=relaxed/relaxed; d=1e100.net; s=20230601; t=1738636994; x=1739241794; h=cc:to:from:subject:message-id:date:x-gm-message-state:from:to:cc :subject:date:message-id:reply-to; bh=abBLYR57nuJ1VU9pyMb6zdaab63RGd/EAi4Hty3i+Tw=; b=xJScxeW3VFH+AojI7yRDEaNF90LbEEZ+4YSpUxj/kFrI6Uv7AD3HmKsjiffU8J839R juR9jUArJPGp/HCDP0rQpz0mEBp3n/FdLorBSCmrSbahtIa9fsSmzXRV6loNBScGtz2b PqwTkzAD4LS5AFVDylnZIPsM9MFIV+xeVjkjjSRhVJD/I2FeHJUggSr5BmKW0RObn5C5 VrNjl+MldWT2+2J/M3wao3S6BE9MlOeoQZjM5q0J2HU3iquE+jShaLVMtkqN6se4p251 6+iI4AyPaEqb46R8s9UPJpovn5CprHQTW6+PDIGTmjCvy+3oudt38rN8kLhetcNC1u8C NmxQ== X-Gm-Message-State: AOJu0YyF/63WVKbJiqqGD1yxprsgB1rsJIQFHShpSylSUbMZo/nYEhRU yasOUetcxWcZeBWpVoSlnlI+2DA6Dhq6KizjprK+K86vIN5wo2DqmGmqMJjiYuixrkYsWazN0nX zxljo2TF+BKbYWgjwu78XvC/TGnh+yeL4ZYRi0aK9 X-Gm-Gg: ASbGncsCbQObNXmjRZXO/0vI3O/X84CbHWmsnHlxtPGGIGGAziXyzdsoZ4KKZ6xuj81 kSkXqelMX35pp5HI5STEqariq4wcgMIRIAKitVqb8NkCILZEWMEpc8YJCL/I2FmyEZAr3CFAN1t vZ0hOr5nGhy1+b3K27pzrIQS0V72dXXIU7A/MoSVPindJVNkSQPDnb9LbRSiXGP1kDh0e7kFr+U +gwtzbPDNToUbLCVsBsqcMTsdjjoEJNv7quDtriN8A3m1eut5Kt1/LVJmAxXtliKi3f3EdqXTCN QordUlTsewqJLjCFiveZXRPnRHV/fQ== X-Google-Smtp-Source: AGHT+IFPF7it638qTB5ty7TIYNMHIf69rVV7vk6jvYRv1Oqh/X1sR2Ga+aw43amE1JWl5ZNbmKFNz8RpnIdg X-Received: by 2002:a05:6214:194a:b0:6d8:9abb:3c28 with SMTP id 6a1803df08f44-6e243c731ebmr299520466d6.29.1738636994414; Mon, 03 Feb 2025 18:43:14 -0800 (PST) Received: from postal.iol.unh.edu (postal.iol.unh.edu. [132.177.123.84]) by smtp-relay.gmail.com with ESMTPS id 6a1803df08f44-6e42216dfd5sm454686d6.48.2025.02.03.18.43.14 (version=TLS1_2 cipher=ECDHE-ECDSA-AES128-GCM-SHA256 bits=128/128); Mon, 03 Feb 2025 18:43:14 -0800 (PST) X-Relaying-Domain: iol.unh.edu Date: Mon, 03 Feb 2025 18:43:14 -0800 (PST) Message-ID: <67a17ec2.050a0220.8ee60.291bSMTPIN_ADDED_MISSING@mx.google.com> Received: from [172.21.0.5] (unknown [172.18.0.240]) by postal.iol.unh.edu (Postfix) with ESMTP id 1BC896052471; Mon, 3 Feb 2025 21:43:14 -0500 (EST) Subject: |SUCCESS| [GIT MASTER] dc4ce7c2538b713e16887eb598da309bc7b4d528 From: dpdklab@iol.unh.edu To: Test Report Cc: dpdk-test-reports@iol.unh.edu Content-Type: text/plain X-BeenThere: test-report@dpdk.org X-Mailman-Version: 2.1.29 Precedence: list List-Id: automatic DPDK test reports List-Unsubscribe: , List-Archive: List-Post: List-Help: List-Subscribe: , Errors-To: test-report-bounces@dpdk.org _Testing PASS_ Branch: dpdk dc4ce7c2538b713e16887eb598da309bc7b4d528 --> testing pass Upstream job id: Generic-Unit-Test-DPDK#311282 Test environment and result as below: +-----------------------------+----------------+------------------------------+--------------+---------------------------+ | Environment | dpdk_unit_test | cryptodev_sw_snow3g_autotest | lpm_autotest | cryptodev_sw_zuc_autotest | +=============================+================+==============================+==============+===========================+ | 32-bit Ubuntu 22.04.4 (ARM) | PASS | SKIPPED | SKIPPED | SKIPPED | +-----------------------------+----------------+------------------------------+--------------+---------------------------+ | CentOS Stream 9 (ARM) | PASS | SKIPPED | SKIPPED | SKIPPED | +-----------------------------+----------------+------------------------------+--------------+---------------------------+ | Fedora 40 (ARM) | PASS | SKIPPED | SKIPPED | SKIPPED | +-----------------------------+----------------+------------------------------+--------------+---------------------------+ | Debian 12 (arm) | PASS | PASS | SKIPPED | PASS | +-----------------------------+----------------+------------------------------+--------------+---------------------------+ | Debian 11 (Buster) (ARM) | PASS | SKIPPED | SKIPPED | SKIPPED | +-----------------------------+----------------+------------------------------+--------------+---------------------------+ | Fedora 41 (ARM Clang) | PASS | SKIPPED | SKIPPED | SKIPPED | +-----------------------------+----------------+------------------------------+--------------+---------------------------+ | RHEL9 (ARM) | PASS | SKIPPED | SKIPPED | SKIPPED | +-----------------------------+----------------+------------------------------+--------------+---------------------------+ | Ubuntu 20.04 (ARM) | PASS | SKIPPED | SKIPPED | SKIPPED | +-----------------------------+----------------+------------------------------+--------------+---------------------------+ | Fedora 41 (ARM) | PASS | SKIPPED | SKIPPED | SKIPPED | +-----------------------------+----------------+------------------------------+--------------+---------------------------+ | Ubuntu 22.04 (ARM) | PASS | SKIPPED | SKIPPED | SKIPPED | +-----------------------------+----------------+------------------------------+--------------+---------------------------+ | Ubuntu 24.04 (ARM) | PASS | SKIPPED | SKIPPED | SKIPPED | +-----------------------------+----------------+------------------------------+--------------+---------------------------+ | Fedora 40 (ARM Clang) | PASS | SKIPPED | SKIPPED | SKIPPED | +-----------------------------+----------------+------------------------------+--------------+---------------------------+ | Ubuntu 20.04 ARM SVE | SKIPPED | SKIPPED | PASS | SKIPPED | +-----------------------------+----------------+------------------------------+--------------+---------------------------+ 32-bit Ubuntu 22.04.4 (ARM) Kernel: 5.15.83+ aarch64 Compiler: gcc (Ubuntu 11.4.0-1ubuntu1~22.04) 11.4.0 CentOS Stream 9 (ARM) Kernel: Depends on container host Compiler: gcc 11.5.0 20240719 (Red Hat 11.5.0-2) Fedora 40 (ARM) Kernel: Depends on container host Compiler: gcc 14.2.1 20240912 (Red Hat 14.2.1-3) Debian 12 (arm) Kernel: Depends on container host Compiler: gcc (Debian 12.2.0-14) 12.2.0 Debian 11 (Buster) (ARM) Kernel: Depends on container host Compiler: gcc (Debian 10.2.1-6) 10.2.1 20210110 Fedora 41 (ARM Clang) Kernel: Depends on container host Compiler: clang 19.1.5 (Fedora 19.1.5-1.fc41) RHEL9 (ARM) Kernel: Depends on container host Compiler: gcc 11.5.0 20240719 (Red Hat 11.5.0-2) Ubuntu 20.04 (ARM) Kernel: Depends on container host Compiler: gcc (Ubuntu 9.4.0-1ubuntu1~20.04.2) 9.4.0 Fedora 41 (ARM) Kernel: Depends on container host Compiler: gcc 14.2.1 20240912 (Red Hat 14.2.1-3) Ubuntu 22.04 (ARM) Kernel: Depends on container host Compiler: gcc (Ubuntu 11.4.0-1ubuntu1~22.04) 11.4.0 Ubuntu 24.04 (ARM) Kernel: Depends on container host Compiler: gcc (Ubuntu 13.3.0-6ubuntu2~24.04) 13.3.0 Fedora 40 (ARM Clang) Kernel: Depends on container host Compiler: clang 18.1.8 (Fedora 18.1.8-1.fc40) Ubuntu 20.04 ARM SVE Kernel: Depends on container host Compiler: gcc (Ubuntu 10.5.0-1ubuntu1~20.04) 10.5.0 To view detailed results, visit: https://lab.dpdk.org/results/dashboard/tarballs/32428/ UNH-IOL DPDK Community Lab To manage your email subscriptions, visit: https://lab.dpdk.org/results/dashboard/preferences/subscriptions/