From: dpdklab@iol.unh.edu
To: Test Report <test-report@dpdk.org>
Cc: dpdk-test-reports@iol.unh.edu
Subject: |SUCCESS| [GIT MASTER] dc4ce7c2538b713e16887eb598da309bc7b4d528
Date: Mon, 03 Feb 2025 19:44:46 -0800 (PST) [thread overview]
Message-ID: <67a18d2e.050a0220.2f89e3.f320SMTPIN_ADDED_MISSING@mx.google.com> (raw)
_Testing PASS_
Branch: dpdk
dc4ce7c2538b713e16887eb598da309bc7b4d528 --> testing pass
Upstream job id: Generic-DPDK-Compile-Meson#357403
Test environment and result as below:
+---------------------+--------------------+------------------+-------------------+-------------------+----------------------+
| Environment | dpdk_meson_compile | dpdk_compile_ovs | dpdk_compile_spdk | dpdk_msvc_compile | dpdk_mingw64_compile |
+=====================+====================+==================+===================+===================+======================+
| CentOS Stream 9 | PASS | PASS | PASS | SKIPPED | SKIPPED |
+---------------------+--------------------+------------------+-------------------+-------------------+----------------------+
| Debian 12 | PASS | PASS | PASS | SKIPPED | SKIPPED |
+---------------------+--------------------+------------------+-------------------+-------------------+----------------------+
| Debian Bullseye | PASS | PASS | PASS | SKIPPED | SKIPPED |
+---------------------+--------------------+------------------+-------------------+-------------------+----------------------+
| Fedora 40 (Clang) | PASS | PASS | PASS | SKIPPED | SKIPPED |
+---------------------+--------------------+------------------+-------------------+-------------------+----------------------+
| Fedora 40 | PASS | PASS | PASS | SKIPPED | SKIPPED |
+---------------------+--------------------+------------------+-------------------+-------------------+----------------------+
| Fedora 41 (Clang) | PASS | PASS | PASS | SKIPPED | SKIPPED |
+---------------------+--------------------+------------------+-------------------+-------------------+----------------------+
| RHEL8 | PASS | PASS | SKIPPED | SKIPPED | SKIPPED |
+---------------------+--------------------+------------------+-------------------+-------------------+----------------------+
| Fedora 41 | PASS | PASS | PASS | SKIPPED | SKIPPED |
+---------------------+--------------------+------------------+-------------------+-------------------+----------------------+
| openSUSE Leap 15 | PASS | SKIPPED | SKIPPED | SKIPPED | SKIPPED |
+---------------------+--------------------+------------------+-------------------+-------------------+----------------------+
| Ubuntu 22.04 | PASS | PASS | PASS | SKIPPED | SKIPPED |
+---------------------+--------------------+------------------+-------------------+-------------------+----------------------+
| Ubuntu 24.04 | PASS | PASS | PASS | SKIPPED | SKIPPED |
+---------------------+--------------------+------------------+-------------------+-------------------+----------------------+
| RHEL9 | PASS | PASS | SKIPPED | SKIPPED | SKIPPED |
+---------------------+--------------------+------------------+-------------------+-------------------+----------------------+
| Ubuntu 20.04 | PASS | SKIPPED | SKIPPED | SKIPPED | SKIPPED |
+---------------------+--------------------+------------------+-------------------+-------------------+----------------------+
| Alpine | PASS | PASS | SKIPPED | SKIPPED | SKIPPED |
+---------------------+--------------------+------------------+-------------------+-------------------+----------------------+
| Arch Linux | PASS | PASS | SKIPPED | SKIPPED | SKIPPED |
+---------------------+--------------------+------------------+-------------------+-------------------+----------------------+
| FreeBSD 13.4 | PASS | SKIPPED | SKIPPED | SKIPPED | SKIPPED |
+---------------------+--------------------+------------------+-------------------+-------------------+----------------------+
| FreeBSD 14.2 | PASS | SKIPPED | SKIPPED | SKIPPED | SKIPPED |
+---------------------+--------------------+------------------+-------------------+-------------------+----------------------+
| Windows Server 2022 | SKIPPED | SKIPPED | SKIPPED | PASS | PASS |
+---------------------+--------------------+------------------+-------------------+-------------------+----------------------+
CentOS Stream 9
Kernel: Depends on container host
Compiler: gcc 11.5.0 20240719 (Red Hat 11.5.0-2)
Debian 12
Kernel: Depends on container host
Compiler: gcc (Debian 12.2.0-14) 12.2.0
Debian Bullseye
Kernel: Depends on container host
Compiler: gcc (Debian 10.2.1-6) 10.2.1 20210110
Fedora 40 (Clang)
Kernel: Depends on container host
Compiler: clang 18.1.8 (Fedora 18.1.8-1.fc40)
Fedora 40
Kernel: Depends on container host
Compiler: gcc 14.2.1 20240912 (Red Hat 14.2.1-3)
Fedora 41 (Clang)
Kernel: Depends on container host
Compiler: clang 19.1.5 (Fedora 19.1.5-1.fc41)
RHEL8
Kernel: Depends on container host
Compiler: gcc 8.5.0 20210514 (Red Hat 8.5.0-22)
Fedora 41
Kernel: Depends on container host
Compiler: gcc 14.2.1 20240912 (Red Hat 14.2.1-3)
openSUSE Leap 15
Kernel: Depends on container host
Compiler: gcc (SUSE Linux) 7.5.0
Ubuntu 22.04
Kernel: Depends on container host
Compiler: gcc (Ubuntu 11.4.0-1ubuntu1~22.04) 11.4.0
Ubuntu 24.04
Kernel: Depends on container host
Compiler: gcc (Ubuntu 13.3.0-6ubuntu2~24.04) 13.3.0
RHEL9
Kernel: Depends on container host
Compiler: gcc 11.5.0 20240719 (Red Hat 11.5.0-2)
Ubuntu 20.04
Kernel: Depends on container host
Compiler: gcc (Ubuntu 9.4.0-1ubuntu1~20.04.2) 9.4.0
Alpine
Kernel: Depends on container host
Compiler: gcc (Alpine 14.2.0) 14.2.0
Arch Linux
Kernel: Depends on container host
Compiler: gcc 14.2.1 20240910
FreeBSD 13.4
Kernel: 13.4-RELEASE-p1
Compiler: clang 18.1.6
FreeBSD 14.2
Kernel: 14.2-RELEASE
Compiler: clang 18.1.6
Windows Server 2022
Kernel: 10.0.20348.2031
Compiler: clang 15.0.7, gcc 14.1.0 (MinGW), and MSVC VS 19.39.33521
To view detailed results, visit:
https://lab.dpdk.org/results/dashboard/tarballs/32428/
UNH-IOL DPDK Community Lab
To manage your email subscriptions, visit:
https://lab.dpdk.org/results/dashboard/preferences/subscriptions/
next reply other threads:[~2025-02-04 3:44 UTC|newest]
Thread overview: 22+ messages / expand[flat|nested] mbox.gz Atom feed top
2025-02-04 3:44 dpdklab [this message]
-- strict thread matches above, loose matches on Subject: below --
2025-02-04 4:51 dpdklab
2025-02-04 3:35 dpdklab
2025-02-04 2:43 dpdklab
2025-02-04 2:35 dpdklab
2025-02-04 2:26 dpdklab
2025-02-04 2:09 dpdklab
2025-02-04 1:52 dpdklab
2025-02-03 21:59 dpdklab
2025-02-03 18:17 dpdklab
2025-02-02 4:30 dpdklab
2025-02-02 3:04 dpdklab
2025-02-02 2:46 dpdklab
2025-02-02 2:11 dpdklab
2025-02-02 1:55 dpdklab
2025-02-02 1:39 dpdklab
2025-02-01 4:47 dpdklab
2025-02-01 4:09 dpdklab
2025-02-01 2:24 dpdklab
2025-02-01 2:08 dpdklab
2025-02-01 1:56 dpdklab
2025-02-01 1:39 dpdklab
Reply instructions:
You may reply publicly to this message via plain-text email
using any one of the following methods:
* Save the following mbox file, import it into your mail client,
and reply-to-all from there: mbox
Avoid top-posting and favor interleaved quoting:
https://en.wikipedia.org/wiki/Posting_style#Interleaved_style
* Reply using the --to, --cc, and --in-reply-to
switches of git-send-email(1):
git send-email \
--in-reply-to=67a18d2e.050a0220.2f89e3.f320SMTPIN_ADDED_MISSING@mx.google.com \
--to=dpdklab@iol.unh.edu \
--cc=dpdk-test-reports@iol.unh.edu \
--cc=test-report@dpdk.org \
/path/to/YOUR_REPLY
https://kernel.org/pub/software/scm/git/docs/git-send-email.html
* If your mail client supports setting the In-Reply-To header
via mailto: links, try the mailto: link
Be sure your reply has a Subject: header at the top and a blank line
before the message body.
This is a public inbox, see mirroring instructions
for how to clone and mirror all data and code used for this inbox;
as well as URLs for NNTP newsgroup(s).