From mboxrd@z Thu Jan 1 00:00:00 1970 Return-Path: Received: from mails.dpdk.org (mails.dpdk.org [217.70.189.124]) by inbox.dpdk.org (Postfix) with ESMTP id 4B08546189 for ; Tue, 4 Feb 2025 04:44:47 +0100 (CET) Received: from mails.dpdk.org (localhost [127.0.0.1]) by mails.dpdk.org (Postfix) with ESMTP id 3255F40289; Tue, 4 Feb 2025 04:44:47 +0100 (CET) Received: from mail-io1-f97.google.com (mail-io1-f97.google.com [209.85.166.97]) by mails.dpdk.org (Postfix) with ESMTP id CF6F74003C for ; Tue, 4 Feb 2025 04:44:46 +0100 (CET) Received: by mail-io1-f97.google.com with SMTP id ca18e2360f4ac-854a68f5aeeso90193839f.0 for ; Mon, 03 Feb 2025 19:44:46 -0800 (PST) DKIM-Signature: v=1; a=rsa-sha256; c=relaxed/relaxed; d=iol.unh.edu; s=unh-iol; t=1738640686; x=1739245486; darn=dpdk.org; h=cc:to:from:subject:message-id:date:from:to:cc:subject:date :message-id:reply-to; bh=k5W545BHN2w9BfJUZksOEk4SH58x3opjA4GuhqOU2N4=; b=QYo/HbfjWOa7D283Pp9gmXFncQIEkPW3LcVYMwvchB0y/7y7BmKxkx02nICfkFkSud 9tRG0oew4ZOT1rJqXRDT4qipbYxL+qIzBFjicWasZifJKvfAIaKoFC0o1bsxmi9Q08+C Zib2KuXxmfkrW0vOyso5OzA/f/JkBMaIwm8oc= X-Google-DKIM-Signature: v=1; a=rsa-sha256; c=relaxed/relaxed; d=1e100.net; s=20230601; t=1738640686; x=1739245486; h=cc:to:from:subject:message-id:date:x-gm-message-state:from:to:cc :subject:date:message-id:reply-to; bh=k5W545BHN2w9BfJUZksOEk4SH58x3opjA4GuhqOU2N4=; b=jsBloISoyUX/EnX3JhyaGBEdEVwcIOsA+OyMh/1+ZzQ3bfJSa5gCeks5zu3t7nslaH jiompbVfIncIiooTX0wuXTb5doaZBuFp3DHcZsC3u1D/BQxY098Fc6LCYAHfmTY19HZI ZGl82UEAzQs5eH4X+wxs+sHJbnoqgcBLShcMr/iLnAygQZKKqYcrZTGvyGJLbcKiotXO 94C7Hex2g7U3leo0kxCMsu9sz3/qkos7C9Bvs0zzG9F6VmIXYZWTHQClJq+YBbeVx6Bv WwLrhx3s+/RwXbcuZ8DrkvxLfXGAx8jnxCKst+3cnRDk8bomyEvSJXyZuucIfzuc8Hpv XJuQ== X-Gm-Message-State: AOJu0Yyzbki/EsPJL9xH5W3CBk74nUJItmtceyN63HktjLJC83nEW0/C 3N9iPEVvB0bKcRsuCfmPg4zPDY05V+Nn5BTYNi7gjSwkCVc8+0qbIicOBNrudYkrhweKgLVSZ/B mhan17qXtcNi2diKBz00uVAgrOdWGgtRH1HxTl1Ult2giL0baKC/y8ztR X-Gm-Gg: ASbGncs/ZeCa+8ZuMbFnquNJLrTAkRGZ4iTnNUDtnHPrXEeywGGwUCEY3ekYU7G6X8+ w8gs2j+Ai01cgwHG90XH0qorTtXFTJMGAEy/7kT5X8S1UdXP4kyB8njVnScCBZiPdp3EfTEvRfG 5VG3QW6UpHg6Le0mQ+OlORizvDB2i176ngKrqww6x+d5ILePE7cIKdOnDJdJLh4fewvX89yId/y 5rVAkd6aUhOzQkJGN+vmPXQ2khrtz2PIex+ssOElMJYlSQ5TCSUa0DhnIKjx3b1ttjQzEZvuN/z IFezUcUp0qXo5l2yL6ZIFvoHDDjZznHf704+MzXpIA== X-Google-Smtp-Source: AGHT+IEDRl6QmSgVQaLsPRByrBPwdjPf6/zjnTowQmCAD0tiKAAT6aVJaFBOyu/wTC6Oqb4X/PaCVRkfqbME X-Received: by 2002:a05:6602:358e:b0:847:5b61:63b2 with SMTP id ca18e2360f4ac-85427e0a829mr2372206339f.12.1738640686180; Mon, 03 Feb 2025 19:44:46 -0800 (PST) Received: from postal.iol.unh.edu (postal.iol.unh.edu. [2606:4100:3880:1234::84]) by smtp-relay.gmail.com with ESMTPS id 8926c6da1cb9f-4ec746bff11sm657550173.65.2025.02.03.19.44.46 (version=TLS1_2 cipher=ECDHE-ECDSA-AES128-GCM-SHA256 bits=128/128); Mon, 03 Feb 2025 19:44:46 -0800 (PST) X-Relaying-Domain: iol.unh.edu Date: Mon, 03 Feb 2025 19:44:46 -0800 (PST) Message-ID: <67a18d2e.050a0220.2f89e3.f320SMTPIN_ADDED_MISSING@mx.google.com> Received: from [172.21.0.6] (unknown [172.18.0.240]) by postal.iol.unh.edu (Postfix) with ESMTP id A18226052471; Mon, 3 Feb 2025 22:44:45 -0500 (EST) Subject: |SUCCESS| [GIT MASTER] dc4ce7c2538b713e16887eb598da309bc7b4d528 From: dpdklab@iol.unh.edu To: Test Report Cc: dpdk-test-reports@iol.unh.edu Content-Type: text/plain X-BeenThere: test-report@dpdk.org X-Mailman-Version: 2.1.29 Precedence: list List-Id: automatic DPDK test reports List-Unsubscribe: , List-Archive: List-Post: List-Help: List-Subscribe: , Errors-To: test-report-bounces@dpdk.org _Testing PASS_ Branch: dpdk dc4ce7c2538b713e16887eb598da309bc7b4d528 --> testing pass Upstream job id: Generic-DPDK-Compile-Meson#357403 Test environment and result as below: +---------------------+--------------------+------------------+-------------------+-------------------+----------------------+ | Environment | dpdk_meson_compile | dpdk_compile_ovs | dpdk_compile_spdk | dpdk_msvc_compile | dpdk_mingw64_compile | +=====================+====================+==================+===================+===================+======================+ | CentOS Stream 9 | PASS | PASS | PASS | SKIPPED | SKIPPED | +---------------------+--------------------+------------------+-------------------+-------------------+----------------------+ | Debian 12 | PASS | PASS | PASS | SKIPPED | SKIPPED | +---------------------+--------------------+------------------+-------------------+-------------------+----------------------+ | Debian Bullseye | PASS | PASS | PASS | SKIPPED | SKIPPED | +---------------------+--------------------+------------------+-------------------+-------------------+----------------------+ | Fedora 40 (Clang) | PASS | PASS | PASS | SKIPPED | SKIPPED | +---------------------+--------------------+------------------+-------------------+-------------------+----------------------+ | Fedora 40 | PASS | PASS | PASS | SKIPPED | SKIPPED | +---------------------+--------------------+------------------+-------------------+-------------------+----------------------+ | Fedora 41 (Clang) | PASS | PASS | PASS | SKIPPED | SKIPPED | +---------------------+--------------------+------------------+-------------------+-------------------+----------------------+ | RHEL8 | PASS | PASS | SKIPPED | SKIPPED | SKIPPED | +---------------------+--------------------+------------------+-------------------+-------------------+----------------------+ | Fedora 41 | PASS | PASS | PASS | SKIPPED | SKIPPED | +---------------------+--------------------+------------------+-------------------+-------------------+----------------------+ | openSUSE Leap 15 | PASS | SKIPPED | SKIPPED | SKIPPED | SKIPPED | +---------------------+--------------------+------------------+-------------------+-------------------+----------------------+ | Ubuntu 22.04 | PASS | PASS | PASS | SKIPPED | SKIPPED | +---------------------+--------------------+------------------+-------------------+-------------------+----------------------+ | Ubuntu 24.04 | PASS | PASS | PASS | SKIPPED | SKIPPED | +---------------------+--------------------+------------------+-------------------+-------------------+----------------------+ | RHEL9 | PASS | PASS | SKIPPED | SKIPPED | SKIPPED | +---------------------+--------------------+------------------+-------------------+-------------------+----------------------+ | Ubuntu 20.04 | PASS | SKIPPED | SKIPPED | SKIPPED | SKIPPED | +---------------------+--------------------+------------------+-------------------+-------------------+----------------------+ | Alpine | PASS | PASS | SKIPPED | SKIPPED | SKIPPED | +---------------------+--------------------+------------------+-------------------+-------------------+----------------------+ | Arch Linux | PASS | PASS | SKIPPED | SKIPPED | SKIPPED | +---------------------+--------------------+------------------+-------------------+-------------------+----------------------+ | FreeBSD 13.4 | PASS | SKIPPED | SKIPPED | SKIPPED | SKIPPED | +---------------------+--------------------+------------------+-------------------+-------------------+----------------------+ | FreeBSD 14.2 | PASS | SKIPPED | SKIPPED | SKIPPED | SKIPPED | +---------------------+--------------------+------------------+-------------------+-------------------+----------------------+ | Windows Server 2022 | SKIPPED | SKIPPED | SKIPPED | PASS | PASS | +---------------------+--------------------+------------------+-------------------+-------------------+----------------------+ CentOS Stream 9 Kernel: Depends on container host Compiler: gcc 11.5.0 20240719 (Red Hat 11.5.0-2) Debian 12 Kernel: Depends on container host Compiler: gcc (Debian 12.2.0-14) 12.2.0 Debian Bullseye Kernel: Depends on container host Compiler: gcc (Debian 10.2.1-6) 10.2.1 20210110 Fedora 40 (Clang) Kernel: Depends on container host Compiler: clang 18.1.8 (Fedora 18.1.8-1.fc40) Fedora 40 Kernel: Depends on container host Compiler: gcc 14.2.1 20240912 (Red Hat 14.2.1-3) Fedora 41 (Clang) Kernel: Depends on container host Compiler: clang 19.1.5 (Fedora 19.1.5-1.fc41) RHEL8 Kernel: Depends on container host Compiler: gcc 8.5.0 20210514 (Red Hat 8.5.0-22) Fedora 41 Kernel: Depends on container host Compiler: gcc 14.2.1 20240912 (Red Hat 14.2.1-3) openSUSE Leap 15 Kernel: Depends on container host Compiler: gcc (SUSE Linux) 7.5.0 Ubuntu 22.04 Kernel: Depends on container host Compiler: gcc (Ubuntu 11.4.0-1ubuntu1~22.04) 11.4.0 Ubuntu 24.04 Kernel: Depends on container host Compiler: gcc (Ubuntu 13.3.0-6ubuntu2~24.04) 13.3.0 RHEL9 Kernel: Depends on container host Compiler: gcc 11.5.0 20240719 (Red Hat 11.5.0-2) Ubuntu 20.04 Kernel: Depends on container host Compiler: gcc (Ubuntu 9.4.0-1ubuntu1~20.04.2) 9.4.0 Alpine Kernel: Depends on container host Compiler: gcc (Alpine 14.2.0) 14.2.0 Arch Linux Kernel: Depends on container host Compiler: gcc 14.2.1 20240910 FreeBSD 13.4 Kernel: 13.4-RELEASE-p1 Compiler: clang 18.1.6 FreeBSD 14.2 Kernel: 14.2-RELEASE Compiler: clang 18.1.6 Windows Server 2022 Kernel: 10.0.20348.2031 Compiler: clang 15.0.7, gcc 14.1.0 (MinGW), and MSVC VS 19.39.33521 To view detailed results, visit: https://lab.dpdk.org/results/dashboard/tarballs/32428/ UNH-IOL DPDK Community Lab To manage your email subscriptions, visit: https://lab.dpdk.org/results/dashboard/preferences/subscriptions/