From mboxrd@z Thu Jan 1 00:00:00 1970 Return-Path: Received: from mails.dpdk.org (mails.dpdk.org [217.70.189.124]) by inbox.dpdk.org (Postfix) with ESMTP id D9EF346189 for ; Tue, 4 Feb 2025 04:48:24 +0100 (CET) Received: from mails.dpdk.org (localhost [127.0.0.1]) by mails.dpdk.org (Postfix) with ESMTP id 8A14040289; Tue, 4 Feb 2025 04:48:24 +0100 (CET) Received: from mail-pl1-f228.google.com (mail-pl1-f228.google.com [209.85.214.228]) by mails.dpdk.org (Postfix) with ESMTP id 8512B4003C for ; Tue, 4 Feb 2025 04:48:23 +0100 (CET) Received: by mail-pl1-f228.google.com with SMTP id d9443c01a7336-21670dce0a7so105548355ad.1 for ; Mon, 03 Feb 2025 19:48:23 -0800 (PST) DKIM-Signature: v=1; a=rsa-sha256; c=relaxed/relaxed; d=iol.unh.edu; s=unh-iol; t=1738640902; x=1739245702; darn=dpdk.org; h=references:in-reply-to:cc:to:from:subject:message-id:date:from:to :cc:subject:date:message-id:reply-to; bh=c6YFwbfElhxsa2y/NNsufR/Z2K/au+/nnxOx/ymQR8c=; b=VPygGQv0+dj9bqIkCZNGqzaU9Ss6e4HdPynRhSaL7LFYH+sBWDfk7qrqH9VrdVx7aP Z5DVMViLAfxguLSJgLaCqu2vsRe+1RML+L1qeKbnZh9/YJC/SmQgMEjDDx55HTxIBD8H xpp2DiPTxQunmrbf5BhurgXYtY6DH7qFHlceg= X-Google-DKIM-Signature: v=1; a=rsa-sha256; c=relaxed/relaxed; d=1e100.net; s=20230601; t=1738640902; x=1739245702; h=references:in-reply-to:cc:to:from:subject:message-id:date :x-gm-message-state:from:to:cc:subject:date:message-id:reply-to; bh=c6YFwbfElhxsa2y/NNsufR/Z2K/au+/nnxOx/ymQR8c=; b=j6xe8dBD3lXAED/Du8ZECIBxkPzoZTk6XJMggQupnSXTDEKLYe4PSJGR8CdUxTQpGn Mo/1VFV1HTMjDa5C0XI6NVFfFtpSsWnJSHkjtej9aYB+MNmQmoSDAYSWKyplyfna6yTV vC0vDQAuIhsNKPzeYl0Ole98IsVxNz7K5cE+WC/3VLpsu8ip1CgnlJxm05EDlEwyvchY 1qVZYWxqX4Ks65zlmN40pVF80icUdFRLTGAcELEB1GhFzpUm2RFIaWf0T/E5mLE0JJOM /czs5T5mK/0TQ83NVfFlSXbqn3nu5IEzpaQxwFN4+qkrVcPx91mjD3b2lTz0zLM3Z+Cp eEOA== X-Gm-Message-State: AOJu0Yz1tjli9bZdQ221zYqVzmlw4oM9Tnqqr3QF+S90spEBymWPiFpe S4lupD7O1gMho3kBpzwscdbfs1EVefLC4aNTmcJZ6Bi5QiOWRoKWHSFQqCQ8VAKYsZO+9R4PC9M /DfAH8CL9hc0b3ADDh7CncljrRfQdE1YmIssApBvipY3NDjAqqsShvdGI X-Gm-Gg: ASbGnct/wDvO7GY0328BVNpHyLWVmRUsAjunZ5cs4NvQEPNOlxzqDtvaUBM6rA7txWd rZjxHXZDU1v1mIgrSpJW+Bnpf+Ealc7lAd6Bf0vPVkk8LWz1P+T/O2qKHTf3F6820rotfRXLiLW Gkh2PjXIOIAn2QcSWAEKvEwsKyVTCYMXtwxXTYPZLnenkxBD65aWxdyROomLcPHdhV301yqJM+6 5lJnVHgE8jXhlx+67iAAzotviBf3sFpon3/sDtdWCV7P7UeCdCBlxPjH1qyGaSM69xsnYV20BHc lq82BEoOLFEZUZAR7G8m/PjTt3cxUfXOrusWEEKPVQ== X-Google-Smtp-Source: AGHT+IEvrnueqehe7Bj74LsWoqm2a5A7s+ZxY6xiEPfMXCLGIMYtzBG9Zt9m0ogTpMeRehuBGBwFIYHe5h99 X-Received: by 2002:a17:902:ec81:b0:21d:ccb9:e2b9 with SMTP id d9443c01a7336-21dd7dd8601mr399926285ad.41.1738640902408; Mon, 03 Feb 2025 19:48:22 -0800 (PST) Received: from postal.iol.unh.edu (postal.iol.unh.edu. [2606:4100:3880:1234::84]) by smtp-relay.gmail.com with ESMTPS id 98e67ed59e1d1-2f83bcf3106sm777550a91.4.2025.02.03.19.48.22 (version=TLS1_2 cipher=ECDHE-ECDSA-AES128-GCM-SHA256 bits=128/128); Mon, 03 Feb 2025 19:48:22 -0800 (PST) X-Relaying-Domain: iol.unh.edu Date: Mon, 03 Feb 2025 19:48:22 -0800 (PST) Message-ID: <67a18e06.170a0220.d9d74.80f6SMTPIN_ADDED_MISSING@mx.google.com> Received: from [172.17.0.5] (unknown [172.18.0.217]) by postal.iol.unh.edu (Postfix) with ESMTP id A93796052471; Mon, 3 Feb 2025 22:48:20 -0500 (EST) Subject: |SUCCESS| pw150807 [PATCH] stack: occasional crash due to uninitiali From: dpdklab@iol.unh.edu To: Test Report Cc: dpdk-test-reports@iol.unh.edu In-Reply-To: <1738632218-5796-1-git-send-email-andremue@linux.microsoft.com> References: <1738632218-5796-1-git-send-email-andremue@linux.microsoft.com> Content-Type: text/plain X-BeenThere: test-report@dpdk.org X-Mailman-Version: 2.1.29 Precedence: list List-Id: automatic DPDK test reports List-Unsubscribe: , List-Archive: List-Post: List-Help: List-Subscribe: , Errors-To: test-report-bounces@dpdk.org Test-Label: iol-abi-testing Test-Status: SUCCESS http://dpdk.org/patch/150807 _Testing PASS_ Submitter: Andre Muezerie Date: Tuesday, February 04 2025 01:23:37 DPDK git baseline: Repo:dpdk Branch: master CommitID:dc4ce7c2538b713e16887eb598da309bc7b4d528 150807 --> testing pass Upstream job id: Generic-DPDK-Compile-ABI#114629 Test environment and result as below: +-------------------+----------+ | Environment | abi_test | +===================+==========+ | Debian Bullseye | PASS | +-------------------+----------+ | Debian 12 | PASS | +-------------------+----------+ | CentOS Stream 9 | PASS | +-------------------+----------+ | Fedora 40 | PASS | +-------------------+----------+ | Fedora 41 (Clang) | PASS | +-------------------+----------+ | Fedora 40 (Clang) | PASS | +-------------------+----------+ | Fedora 41 | PASS | +-------------------+----------+ | openSUSE Leap 15 | PASS | +-------------------+----------+ | Ubuntu 24.04 | PASS | +-------------------+----------+ | Ubuntu 22.04 | PASS | +-------------------+----------+ | RHEL8 | PASS | +-------------------+----------+ | RHEL9 | PASS | +-------------------+----------+ Debian Bullseye Kernel: Depends on container host Compiler: gcc (Debian 10.2.1-6) 10.2.1 20210110 Debian 12 Kernel: Depends on container host Compiler: gcc (Debian 12.2.0-14) 12.2.0 CentOS Stream 9 Kernel: Depends on container host Compiler: gcc 11.5.0 20240719 (Red Hat 11.5.0-2) Fedora 40 Kernel: Depends on container host Compiler: gcc 14.2.1 20240912 (Red Hat 14.2.1-3) Fedora 41 (Clang) Kernel: Depends on container host Compiler: clang 19.1.5 (Fedora 19.1.5-1.fc41) Fedora 40 (Clang) Kernel: Depends on container host Compiler: clang 18.1.8 (Fedora 18.1.8-1.fc40) Fedora 41 Kernel: Depends on container host Compiler: gcc 14.2.1 20240912 (Red Hat 14.2.1-3) openSUSE Leap 15 Kernel: Depends on container host Compiler: gcc (SUSE Linux) 7.5.0 Ubuntu 24.04 Kernel: Depends on container host Compiler: gcc (Ubuntu 13.3.0-6ubuntu2~24.04) 13.3.0 Ubuntu 22.04 Kernel: Depends on container host Compiler: gcc (Ubuntu 11.4.0-1ubuntu1~22.04) 11.4.0 RHEL8 Kernel: Depends on container host Compiler: gcc 8.5.0 20210514 (Red Hat 8.5.0-22) RHEL9 Kernel: Depends on container host Compiler: gcc 11.5.0 20240719 (Red Hat 11.5.0-2) To view detailed results, visit: https://lab.dpdk.org/results/dashboard/patchsets/32484/ UNH-IOL DPDK Community Lab To manage your email subscriptions, visit: https://lab.dpdk.org/results/dashboard/preferences/subscriptions/