From mboxrd@z Thu Jan 1 00:00:00 1970 Return-Path: Received: from mails.dpdk.org (mails.dpdk.org [217.70.189.124]) by inbox.dpdk.org (Postfix) with ESMTP id C5E7C46189 for ; Tue, 4 Feb 2025 04:49:27 +0100 (CET) Received: from mails.dpdk.org (localhost [127.0.0.1]) by mails.dpdk.org (Postfix) with ESMTP id C0D5040289; Tue, 4 Feb 2025 04:49:27 +0100 (CET) Received: from mail-io1-f100.google.com (mail-io1-f100.google.com [209.85.166.100]) by mails.dpdk.org (Postfix) with ESMTP id 388974003C for ; Tue, 4 Feb 2025 04:49:27 +0100 (CET) Received: by mail-io1-f100.google.com with SMTP id ca18e2360f4ac-844e7409f8aso124489939f.1 for ; Mon, 03 Feb 2025 19:49:27 -0800 (PST) DKIM-Signature: v=1; a=rsa-sha256; c=relaxed/relaxed; d=iol.unh.edu; s=unh-iol; t=1738640966; x=1739245766; darn=dpdk.org; h=references:in-reply-to:cc:to:from:subject:message-id:date:from:to :cc:subject:date:message-id:reply-to; bh=Q8OdiJIzwFmbyjv1J6D3bMrckd3d85A0DQypKzuF4+4=; b=OkGPM48Xqnh6sf2akv1SYCl87TNM3cfb8ddfD8kyypMn189Veb5f4JC8RyLPtD/6Ct aCnEX5/lMzXAKIVVjBEx/c/+sS8wKm8+vu5Ki6eQVlrIYFU9nD1pWCn7lQDCQHnVI6fl VEuDkEH7A4t2Gvx7EXX3fMuqnpQWBkhvifL30= X-Google-DKIM-Signature: v=1; a=rsa-sha256; c=relaxed/relaxed; d=1e100.net; s=20230601; t=1738640966; x=1739245766; h=references:in-reply-to:cc:to:from:subject:message-id:date :x-gm-message-state:from:to:cc:subject:date:message-id:reply-to; bh=Q8OdiJIzwFmbyjv1J6D3bMrckd3d85A0DQypKzuF4+4=; b=GZjWY6iOXqR1OVVpaE0sNu64yPCrFBNK65zwoxIPnSGjDf8ipZDp8rSPu3hEHzRXvF Eio0DccBH7YHCDgnS73jUV3Yn2KGga9BAvRSU6ob1rZJEOJe5NBtAFNrT9KXAVDx4dSd hXrxPFz1CJGywiNLiOmNEq9dmKaY07a+uF/WgOxpsdPpuzk3jS8FHZIDogni4jXQL+KN g0pik/36CfR25j5kHzkTxfHmZI5bbEESuFWL9DyU9OApNFb46N0jXAycBbxTgCBA5vc9 /4oVac1PNaC60wqHY9XVIhOlNkdpWokPGPkOm0n+SUernQhZiN+zKGtLgIfC4Abet6iQ C8og== X-Gm-Message-State: AOJu0Yzs6y4qlqKOb2geieQ2ul6jeXG/4ifYZeZp6mAV65WlpKuS1F0G lKulQAgEL42UmWntFIQV7qf7A7kogVs9/fk0d0upHvvHFZ/jwv0up+Qz00ST9UFVTdDlvYsjGXY /HHuWwSQtHk41wbhKc+j/I0TIJDDL1GbtTBZnfMj0RWfWYhxOxnCbBRJa X-Gm-Gg: ASbGncsliSiJfHoZA90yFTD9eYQu1nCRAJ00VEvHm6ebb42TnI5DRcV2UaB42bgWP5x u/PVzjP6ahW5NE0eDhu1VF0bCcKutwKKQH/Wtt+HZTPuQ4T0ZbhGE0G84N0wtIOJPj9g5OJ6g7g 9Aj4N5zHUVIj3fGnwsi+TujdGwj7WD0I5Hp9+7EnfzL9E2RFgja5JjBqiqUe23rMaq8h3vEYS1H EmZwGcWMZDBNo830jMfvsVIDXcy0CPb+LcZjkpnWa9WuUyhhHlihEN1k5Qg4sNR8WtQ+xgmHvZA 6ecAzPNjxOnFcOaNIPMqbWVEXwOZ4NYxJTI7U976TA== X-Google-Smtp-Source: AGHT+IFilPohxXXJe42bdU/0ieB6BcxQzgM0jcf0UYIXnI//ys11GKjqLXfRJjzDw2DjkpzwZBaXiUVdDhHM X-Received: by 2002:a05:6602:4013:b0:844:e21a:e805 with SMTP id ca18e2360f4ac-85439f92b64mr2236590239f.9.1738640966572; Mon, 03 Feb 2025 19:49:26 -0800 (PST) Received: from postal.iol.unh.edu (postal.iol.unh.edu. [2606:4100:3880:1234::84]) by smtp-relay.gmail.com with ESMTPS id 8926c6da1cb9f-4ec745ccf73sm636261173.32.2025.02.03.19.49.26 (version=TLS1_2 cipher=ECDHE-ECDSA-AES128-GCM-SHA256 bits=128/128); Mon, 03 Feb 2025 19:49:26 -0800 (PST) X-Relaying-Domain: iol.unh.edu Date: Mon, 03 Feb 2025 19:49:26 -0800 (PST) Message-ID: <67a18e46.050a0220.1c6647.db22SMTPIN_ADDED_MISSING@mx.google.com> Received: from [172.17.0.5] (unknown [172.18.0.217]) by postal.iol.unh.edu (Postfix) with ESMTP id 159EF6052471; Mon, 3 Feb 2025 22:49:26 -0500 (EST) Subject: |SUCCESS| pw150807 [PATCH] stack: occasional crash due to uninitiali From: dpdklab@iol.unh.edu To: Test Report Cc: dpdk-test-reports@iol.unh.edu In-Reply-To: <1738632218-5796-1-git-send-email-andremue@linux.microsoft.com> References: <1738632218-5796-1-git-send-email-andremue@linux.microsoft.com> Content-Type: text/plain X-BeenThere: test-report@dpdk.org X-Mailman-Version: 2.1.29 Precedence: list List-Id: automatic DPDK test reports List-Unsubscribe: , List-Archive: List-Post: List-Help: List-Subscribe: , Errors-To: test-report-bounces@dpdk.org Test-Label: iol-unit-amd64-testing Test-Status: SUCCESS http://dpdk.org/patch/150807 _Testing PASS_ Submitter: Andre Muezerie Date: Tuesday, February 04 2025 01:23:37 DPDK git baseline: Repo:dpdk Branch: master CommitID:dc4ce7c2538b713e16887eb598da309bc7b4d528 150807 --> testing pass Upstream job id: Generic-Unit-Test-DPDK#311303 Test environment and result as below: +---------------------+----------------+ | Environment | dpdk_unit_test | +=====================+================+ | CentOS Stream 9 | PASS | +---------------------+----------------+ | RHEL9 | PASS | +---------------------+----------------+ | Fedora 41 | PASS | +---------------------+----------------+ | Debian Bullseye | PASS | +---------------------+----------------+ | Fedora 40 | PASS | +---------------------+----------------+ | Fedora 41 (Clang) | PASS | +---------------------+----------------+ | Debian 12 | PASS | +---------------------+----------------+ | RHEL8 | PASS | +---------------------+----------------+ | Ubuntu 22.04 | PASS | +---------------------+----------------+ | Ubuntu 20.04 | PASS | +---------------------+----------------+ | Fedora 40 (Clang) | PASS | +---------------------+----------------+ | Ubuntu 24.04 | PASS | +---------------------+----------------+ | Windows Server 2022 | PASS | +---------------------+----------------+ CentOS Stream 9 Kernel: Depends on container host Compiler: gcc 11.5.0 20240719 (Red Hat 11.5.0-2) RHEL9 Kernel: Depends on container host Compiler: gcc 11.5.0 20240719 (Red Hat 11.5.0-2) Fedora 41 Kernel: Depends on container host Compiler: gcc 14.2.1 20240912 (Red Hat 14.2.1-3) Debian Bullseye Kernel: Depends on container host Compiler: gcc (Debian 10.2.1-6) 10.2.1 20210110 Fedora 40 Kernel: Depends on container host Compiler: gcc 14.2.1 20240912 (Red Hat 14.2.1-3) Fedora 41 (Clang) Kernel: Depends on container host Compiler: clang 19.1.5 (Fedora 19.1.5-1.fc41) Debian 12 Kernel: Depends on container host Compiler: gcc (Debian 12.2.0-14) 12.2.0 RHEL8 Kernel: Depends on container host Compiler: gcc 8.5.0 20210514 (Red Hat 8.5.0-22) Ubuntu 22.04 Kernel: Depends on container host Compiler: gcc (Ubuntu 11.4.0-1ubuntu1~22.04) 11.4.0 Ubuntu 20.04 Kernel: Depends on container host Compiler: gcc (Ubuntu 9.4.0-1ubuntu1~20.04.2) 9.4.0 Fedora 40 (Clang) Kernel: Depends on container host Compiler: clang 18.1.8 (Fedora 18.1.8-1.fc40) Ubuntu 24.04 Kernel: Depends on container host Compiler: gcc (Ubuntu 13.3.0-6ubuntu2~24.04) 13.3.0 Windows Server 2022 Kernel: 10.0.20348.2031 Compiler: clang 15.0.7, gcc 14.1.0 (MinGW), and MSVC VS 19.39.33521 To view detailed results, visit: https://lab.dpdk.org/results/dashboard/patchsets/32484/ UNH-IOL DPDK Community Lab To manage your email subscriptions, visit: https://lab.dpdk.org/results/dashboard/preferences/subscriptions/