From mboxrd@z Thu Jan 1 00:00:00 1970 Return-Path: Received: from mails.dpdk.org (mails.dpdk.org [217.70.189.124]) by inbox.dpdk.org (Postfix) with ESMTP id A81C846189 for ; Tue, 4 Feb 2025 04:57:03 +0100 (CET) Received: from mails.dpdk.org (localhost [127.0.0.1]) by mails.dpdk.org (Postfix) with ESMTP id 81CEB40289; Tue, 4 Feb 2025 04:57:03 +0100 (CET) Received: from mail-io1-f99.google.com (mail-io1-f99.google.com [209.85.166.99]) by mails.dpdk.org (Postfix) with ESMTP id 99A774003C for ; Tue, 4 Feb 2025 04:57:02 +0100 (CET) Received: by mail-io1-f99.google.com with SMTP id ca18e2360f4ac-844e7bc6d84so157264839f.0 for ; Mon, 03 Feb 2025 19:57:02 -0800 (PST) DKIM-Signature: v=1; a=rsa-sha256; c=relaxed/relaxed; d=iol.unh.edu; s=unh-iol; t=1738641422; x=1739246222; darn=dpdk.org; h=references:in-reply-to:cc:to:from:subject:message-id:date:from:to :cc:subject:date:message-id:reply-to; bh=TjgIISdtc2HFKGk7JajFfrbs5NGuoxRAz2bEd/k6cgY=; b=RPILc/cRNAKr4gz4mB1gTd1zr5TcL3IU5tOVVtrn792iaDGdALfpmqS3sNEqytCei8 WgabIz7lxA+dfV4OrEgCDCxTBwJyU7lYY4RUWkO9j2Nx5HlTajzDdZSYhqL0/wzFZwW+ dBk1FufDCk10SFejuc70E4WbYfqB+Z0GzbMAU= X-Google-DKIM-Signature: v=1; a=rsa-sha256; c=relaxed/relaxed; d=1e100.net; s=20230601; t=1738641422; x=1739246222; h=references:in-reply-to:cc:to:from:subject:message-id:date :x-gm-message-state:from:to:cc:subject:date:message-id:reply-to; bh=TjgIISdtc2HFKGk7JajFfrbs5NGuoxRAz2bEd/k6cgY=; b=vF1ycHPP2qoFZ5gFZNhgHZ6Aa+lCyHuBtmJlZbSR4AnAXwQXeCvNdqIi42PHM7EgqT IG9YdbhaypuDYMYC2ccRpmHUWeRjNCtsjUEGXO1UszFbBMItx0B8mA+CeDhsHYpYIjNU Es9evHwjD3lzPdvbewiWOzzkdaidMjtis/1/a0B/2+C1eCeBwvP8BcWzParKWmO9mczt 7FGi8PPt4CXj6yHJVAO+uakOrtbo3xcBp4abRfmplp+tlnuJzRTjyI9V8P3J2xykTaMW viuu5P0/VDfAHCV3ZWmxwZvMTPLSaLIHwSqOZaLXP3ucZzRfQ6Jy7q1Josg7l99L2+1h C+2g== X-Gm-Message-State: AOJu0YyfikkBqeEWdVjth25pSQv0QUHmfHC7H7yqM9z5FW3zbGqb+0Ah SnV0eyorXGlh8HBXQmx9a4czKCipDUZRoOLEiDWPnQqbN2FK1aXzF2Ti0zy7rKcWH5FByC/F2Fz /voklQ3cNnfLDtWaHf/oPisbKu6s4Ry32OVBUQiqe X-Gm-Gg: ASbGncsdqatVHLOhQyNg+wmJvwIvMgNvqRNZrNaqX5Bs1wj7Dc8NAeooYX66a1E4GWz g/cSFa+58LEef/NaL7NKCRmf3QunQTtXPK2b8OwZAogs1v2v7cj+B5mg3V9rFOEoouBZRuiFwu0 fdrieNIpAxCtJCGsIIBfI+9qPCJTks6O5P6Zur85PfbESESeXNDaBSwmhxULpAMnBYRcYcqHrfs 7ATAkXI9h4TWdiroi3TzfVEiieIGyuBwFPCz56edjtOFutu/CtcvyscRIJTpVgW4/ISQzxChIx5 yd+xdIWjCh80UEKTt/5dq2P++8zd1A== X-Google-Smtp-Source: AGHT+IFa3XTFkKPx59POxB2M93ivm/U/1Myhx4Hafl4aBNlk4IVAzONMNEw1IGq1oFDZBJDyCcEtoDqnUfMm X-Received: by 2002:a6b:f118:0:b0:841:99cb:776f with SMTP id ca18e2360f4ac-854de09280emr164434039f.6.1738641421918; Mon, 03 Feb 2025 19:57:01 -0800 (PST) Received: from postal.iol.unh.edu (postal.iol.unh.edu. [132.177.123.84]) by smtp-relay.gmail.com with ESMTPS id 8926c6da1cb9f-4ec745ccf73sm636810173.32.2025.02.03.19.57.01 (version=TLS1_2 cipher=ECDHE-ECDSA-AES128-GCM-SHA256 bits=128/128); Mon, 03 Feb 2025 19:57:01 -0800 (PST) X-Relaying-Domain: iol.unh.edu Date: Mon, 03 Feb 2025 19:57:01 -0800 (PST) Message-ID: <67a1900d.050a0220.1c6647.db82SMTPIN_ADDED_MISSING@mx.google.com> Received: from [172.17.0.4] (unknown [172.18.0.217]) by postal.iol.unh.edu (Postfix) with ESMTP id 62C6A6052471; Mon, 3 Feb 2025 22:57:01 -0500 (EST) Subject: |SUCCESS| pw150807 [PATCH] stack: occasional crash due to uninitiali From: dpdklab@iol.unh.edu To: Test Report Cc: dpdk-test-reports@iol.unh.edu In-Reply-To: <1738632218-5796-1-git-send-email-andremue@linux.microsoft.com> References: <1738632218-5796-1-git-send-email-andremue@linux.microsoft.com> Content-Type: text/plain X-BeenThere: test-report@dpdk.org X-Mailman-Version: 2.1.29 Precedence: list List-Id: automatic DPDK test reports List-Unsubscribe: , List-Archive: List-Post: List-Help: List-Subscribe: , Errors-To: test-report-bounces@dpdk.org Test-Label: iol-sample-apps-testing Test-Status: SUCCESS http://dpdk.org/patch/150807 _Testing PASS_ Submitter: Andre Muezerie Date: Tuesday, February 04 2025 01:23:37 DPDK git baseline: Repo:dpdk Branch: master CommitID:dc4ce7c2538b713e16887eb598da309bc7b4d528 150807 --> testing pass Upstream job id: ACVP-FIPS-testing#8769 Test environment and result as below: +--------------------+----------------------+----------------------+ | Environment | compressdev_zlib_pmd | dpdk_fips_validation | +====================+======================+======================+ | Ubuntu 22.04 (ARM) | PASS | SKIPPED | +--------------------+----------------------+----------------------+ | Ubuntu 22.04 | PASS | SKIPPED | +--------------------+----------------------+----------------------+ | Ubuntu 20.04 | SKIPPED | PASS | +--------------------+----------------------+----------------------+ Ubuntu 22.04 (ARM) Kernel: 5.15.0-97-generic Compiler: gcc gcc (Ubuntu 11.4.0-1ubuntu1~22.04) 11.4.0 Ubuntu 22.04 Kernel: 5.15.0-100-generic Compiler: gcc gcc (Ubuntu 11.4.0-1ubuntu1~22.04) 11.4.0 Ubuntu 20.04 Kernel: Depends on container host Compiler: gcc (Ubuntu 9.4.0-1ubuntu1~20.04.2) 9.4.0 To view detailed results, visit: https://lab.dpdk.org/results/dashboard/patchsets/32484/ UNH-IOL DPDK Community Lab To manage your email subscriptions, visit: https://lab.dpdk.org/results/dashboard/preferences/subscriptions/