From mboxrd@z Thu Jan 1 00:00:00 1970 Return-Path: Received: from mails.dpdk.org (mails.dpdk.org [217.70.189.124]) by inbox.dpdk.org (Postfix) with ESMTP id AFCAF46189 for ; Tue, 4 Feb 2025 04:57:58 +0100 (CET) Received: from mails.dpdk.org (localhost [127.0.0.1]) by mails.dpdk.org (Postfix) with ESMTP id AA12140289; Tue, 4 Feb 2025 04:57:58 +0100 (CET) Received: from mail-oa1-f100.google.com (mail-oa1-f100.google.com [209.85.160.100]) by mails.dpdk.org (Postfix) with ESMTP id 281984003C for ; Tue, 4 Feb 2025 04:57:58 +0100 (CET) Received: by mail-oa1-f100.google.com with SMTP id 586e51a60fabf-29e5aedbebdso2454517fac.0 for ; Mon, 03 Feb 2025 19:57:58 -0800 (PST) DKIM-Signature: v=1; a=rsa-sha256; c=relaxed/relaxed; d=iol.unh.edu; s=unh-iol; t=1738641477; x=1739246277; darn=dpdk.org; h=references:in-reply-to:cc:to:from:subject:message-id:date:from:to :cc:subject:date:message-id:reply-to; bh=qQmujCEX1VjLzdFvX2S9bCXNaK3Kg9Sgo4Yr4QplOPQ=; b=h9OjtPVT/G5jISlziYu0R1PDhcJmbQwFBbJL02oleh2REkYZvKy8VPyCwB72ZYtZCY t0tBvBS/rw05NTy0mM27GAtF9leTjhTAalhf+o+z3+PyA3JILRwpJRlpi2UwTmmnZLdP u3JV6XcCZOmsgbA4qLtbEXtIlVLFarXtuWu0I= X-Google-DKIM-Signature: v=1; a=rsa-sha256; c=relaxed/relaxed; d=1e100.net; s=20230601; t=1738641477; x=1739246277; h=references:in-reply-to:cc:to:from:subject:message-id:date :x-gm-message-state:from:to:cc:subject:date:message-id:reply-to; bh=qQmujCEX1VjLzdFvX2S9bCXNaK3Kg9Sgo4Yr4QplOPQ=; b=CajKChpgEx5uO0kcJBxOaI4uXvGCrScb/hvNYx1UwuZ1VIURBAVsOOYnuunobanU5s dOFOqvsxGQUKwq2yXP/lLMCVucmHLGTbawTR4X7WRqB/WwPNytEx25+iYpWrsZxiKFKl x3R5FD+5y1PSMOtVJ+cYzsQyeUnpmhtiMVSMOfDaEdOBN8zm4L6F9TE44rh6QnvdBbfP qOdcMJwfi2FF2s6rZ21SV7dTL4GdIlmOYYR2cVH2z8zOkZSZyddiE7Gvl77uDg9ey+Wq 7d2Eu+75GPlKHLCq/E5fJyMYM3mJ91M94GINtG1NSpTivB1ZmI0rNKFghrp/RvJzJjjd 7LFQ== X-Gm-Message-State: AOJu0YwWjyTdlAfccRUFf46g6uK0rZvxo3Vk9T8xZXCzBjv6q5EtFw6e 0T9tTDOBEJC1/GZ73YW6QQYIqJAI2QWxUquCnUG4F7tYyWuivj79c7Sw7HiLciSmkkOQVfG/BaN zYdY0aXwew6m2Eol1uf5lCM5OaE4rkuFKOH+XqKWA3JAlIa4SHVmQKoAV X-Gm-Gg: ASbGncuIK79tiZSFa27jPRngG6/3St5bhrheYL3zrLvOlPcSopj3n7c1FOWF+TvX5SF R4XIszXcfHeDYENgNgWAAxI5BhuPSWfkLGhtou5QbuATcExOsJtuvE04FP51VERVh8er9xk9CCc zLeORZWEPEkU09wafx5gra4WWFXRj1fkGLx9banfQD8YI7y6ptsctCNROQGrdiFlUicZVcF+7j2 73SNRDqhE5IZHcAe394jJ3EpCuSHT6OrI+BtaPmq19mPx7W1Nez9mVvlqOqqe8a8uht8mHDgWid vQUfY1KjaNwmVVTkubEhkzTIeL02oAbJbxBPuu34Tg== X-Google-Smtp-Source: AGHT+IGTPOixQrNfh8lLe5+GiB77bThD3Li/kQU3Ab0fL8t70F1ebpV14N/r8DhPg5Rd4DVm4xf2W9X/xM5H X-Received: by 2002:a05:6871:a50d:b0:29f:9c80:c8a1 with SMTP id 586e51a60fabf-2b32f02408fmr14006931fac.16.1738641477357; Mon, 03 Feb 2025 19:57:57 -0800 (PST) Received: from postal.iol.unh.edu (postal.iol.unh.edu. [2606:4100:3880:1234::84]) by smtp-relay.gmail.com with ESMTPS id 586e51a60fabf-2b3561a84fbsm782088fac.14.2025.02.03.19.57.57 (version=TLS1_2 cipher=ECDHE-ECDSA-AES128-GCM-SHA256 bits=128/128); Mon, 03 Feb 2025 19:57:57 -0800 (PST) X-Relaying-Domain: iol.unh.edu Date: Mon, 03 Feb 2025 19:57:57 -0800 (PST) Message-ID: <67a19045.050a0220.9d5e6.68a8SMTPIN_ADDED_MISSING@mx.google.com> Received: from [172.17.0.4] (unknown [172.18.0.217]) by postal.iol.unh.edu (Postfix) with ESMTP id CFF676052471; Mon, 3 Feb 2025 22:57:56 -0500 (EST) Subject: |SUCCESS| pw150807 [PATCH] stack: occasional crash due to uninitiali From: dpdklab@iol.unh.edu To: Test Report Cc: dpdk-test-reports@iol.unh.edu In-Reply-To: <1738632218-5796-1-git-send-email-andremue@linux.microsoft.com> References: <1738632218-5796-1-git-send-email-andremue@linux.microsoft.com> Content-Type: text/plain X-BeenThere: test-report@dpdk.org X-Mailman-Version: 2.1.29 Precedence: list List-Id: automatic DPDK test reports List-Unsubscribe: , List-Archive: List-Post: List-Help: List-Subscribe: , Errors-To: test-report-bounces@dpdk.org Test-Label: iol-unit-arm64-testing Test-Status: SUCCESS http://dpdk.org/patch/150807 _Testing PASS_ Submitter: Andre Muezerie Date: Tuesday, February 04 2025 01:23:37 DPDK git baseline: Repo:dpdk Branch: master CommitID:dc4ce7c2538b713e16887eb598da309bc7b4d528 150807 --> testing pass Upstream job id: Generic-Unit-Test-DPDK#311317 Test environment and result as below: +-----------------------------+----------------+--------------+------------------------------+---------------------------+ | Environment | dpdk_unit_test | lpm_autotest | cryptodev_sw_snow3g_autotest | cryptodev_sw_zuc_autotest | +=============================+================+==============+==============================+===========================+ | 32-bit Ubuntu 22.04.4 (ARM) | PASS | SKIPPED | SKIPPED | SKIPPED | +-----------------------------+----------------+--------------+------------------------------+---------------------------+ | Fedora 41 (ARM Clang) | PASS | SKIPPED | SKIPPED | SKIPPED | +-----------------------------+----------------+--------------+------------------------------+---------------------------+ | RHEL9 (ARM) | PASS | SKIPPED | SKIPPED | SKIPPED | +-----------------------------+----------------+--------------+------------------------------+---------------------------+ | Debian 12 (arm) | PASS | SKIPPED | PASS | PASS | +-----------------------------+----------------+--------------+------------------------------+---------------------------+ | CentOS Stream 9 (ARM) | PASS | SKIPPED | SKIPPED | SKIPPED | +-----------------------------+----------------+--------------+------------------------------+---------------------------+ | Debian 11 (Buster) (ARM) | PASS | SKIPPED | SKIPPED | SKIPPED | +-----------------------------+----------------+--------------+------------------------------+---------------------------+ | Fedora 40 (ARM) | PASS | SKIPPED | SKIPPED | SKIPPED | +-----------------------------+----------------+--------------+------------------------------+---------------------------+ | Fedora 41 (ARM) | PASS | SKIPPED | SKIPPED | SKIPPED | +-----------------------------+----------------+--------------+------------------------------+---------------------------+ | Fedora 40 (ARM Clang) | PASS | SKIPPED | SKIPPED | SKIPPED | +-----------------------------+----------------+--------------+------------------------------+---------------------------+ | Ubuntu 22.04 (ARM) | PASS | SKIPPED | SKIPPED | SKIPPED | +-----------------------------+----------------+--------------+------------------------------+---------------------------+ | Ubuntu 20.04 (ARM) | PASS | SKIPPED | SKIPPED | SKIPPED | +-----------------------------+----------------+--------------+------------------------------+---------------------------+ | Ubuntu 24.04 (ARM) | PASS | SKIPPED | SKIPPED | SKIPPED | +-----------------------------+----------------+--------------+------------------------------+---------------------------+ | Ubuntu 20.04 ARM SVE | SKIPPED | PASS | SKIPPED | SKIPPED | +-----------------------------+----------------+--------------+------------------------------+---------------------------+ 32-bit Ubuntu 22.04.4 (ARM) Kernel: 5.15.83+ aarch64 Compiler: gcc (Ubuntu 11.4.0-1ubuntu1~22.04) 11.4.0 Fedora 41 (ARM Clang) Kernel: Depends on container host Compiler: clang 19.1.5 (Fedora 19.1.5-1.fc41) RHEL9 (ARM) Kernel: Depends on container host Compiler: gcc 11.5.0 20240719 (Red Hat 11.5.0-2) Debian 12 (arm) Kernel: Depends on container host Compiler: gcc (Debian 12.2.0-14) 12.2.0 CentOS Stream 9 (ARM) Kernel: Depends on container host Compiler: gcc 11.5.0 20240719 (Red Hat 11.5.0-2) Debian 11 (Buster) (ARM) Kernel: Depends on container host Compiler: gcc (Debian 10.2.1-6) 10.2.1 20210110 Fedora 40 (ARM) Kernel: Depends on container host Compiler: gcc 14.2.1 20240912 (Red Hat 14.2.1-3) Fedora 41 (ARM) Kernel: Depends on container host Compiler: gcc 14.2.1 20240912 (Red Hat 14.2.1-3) Fedora 40 (ARM Clang) Kernel: Depends on container host Compiler: clang 18.1.8 (Fedora 18.1.8-1.fc40) Ubuntu 22.04 (ARM) Kernel: Depends on container host Compiler: gcc (Ubuntu 11.4.0-1ubuntu1~22.04) 11.4.0 Ubuntu 20.04 (ARM) Kernel: Depends on container host Compiler: gcc (Ubuntu 9.4.0-1ubuntu1~20.04.2) 9.4.0 Ubuntu 24.04 (ARM) Kernel: Depends on container host Compiler: gcc (Ubuntu 13.3.0-6ubuntu2~24.04) 13.3.0 Ubuntu 20.04 ARM SVE Kernel: Depends on container host Compiler: gcc (Ubuntu 10.5.0-1ubuntu1~20.04) 10.5.0 To view detailed results, visit: https://lab.dpdk.org/results/dashboard/patchsets/32484/ UNH-IOL DPDK Community Lab To manage your email subscriptions, visit: https://lab.dpdk.org/results/dashboard/preferences/subscriptions/