From mboxrd@z Thu Jan 1 00:00:00 1970 Return-Path: Received: from mails.dpdk.org (mails.dpdk.org [217.70.189.124]) by inbox.dpdk.org (Postfix) with ESMTP id 157CA46189 for ; Tue, 4 Feb 2025 05:12:10 +0100 (CET) Received: from mails.dpdk.org (localhost [127.0.0.1]) by mails.dpdk.org (Postfix) with ESMTP id 0D04040289; Tue, 4 Feb 2025 05:12:10 +0100 (CET) Received: from mail-qv1-f99.google.com (mail-qv1-f99.google.com [209.85.219.99]) by mails.dpdk.org (Postfix) with ESMTP id 9811A4003C for ; Tue, 4 Feb 2025 05:12:08 +0100 (CET) Received: by mail-qv1-f99.google.com with SMTP id 6a1803df08f44-6e1a36b3684so60515916d6.1 for ; Mon, 03 Feb 2025 20:12:08 -0800 (PST) DKIM-Signature: v=1; a=rsa-sha256; c=relaxed/relaxed; d=iol.unh.edu; s=unh-iol; t=1738642328; x=1739247128; darn=dpdk.org; h=references:in-reply-to:cc:to:from:subject:message-id:date:from:to :cc:subject:date:message-id:reply-to; bh=VPxsNZwphaDpk7Odts37ks5vkHDL9ayEM3QbOBZelL4=; b=Lm3hth+S7JSVWsamhGhMuMWnqgUYEN6UDGPsee9Ji0jaM44Ddew4apUQwDH8b4UAFb +HGjAFPPsqIZYxQeomKKdUtA2Ht/XfFf+UdZ1tHNrqX/1crDsCxs916TmQdSP0JAk0PN rBlmHgzCRaJcSpraZwDXPh7g0tWSDI4DveOkg= X-Google-DKIM-Signature: v=1; a=rsa-sha256; c=relaxed/relaxed; d=1e100.net; s=20230601; t=1738642328; x=1739247128; h=references:in-reply-to:cc:to:from:subject:message-id:date :x-gm-message-state:from:to:cc:subject:date:message-id:reply-to; bh=VPxsNZwphaDpk7Odts37ks5vkHDL9ayEM3QbOBZelL4=; b=vS318y/3cngJwvvDB8ipba8Vy01KvMtELqyQv+aTWjjmcQd9fNyPVMauNxLvSzwghd XP+VbRlaabAd9KkKpJjPVNitDsuNXMD+8AZ0ph7g6QHxbb6dtLHSPEZjxVgnrDj9XaK5 DmYi6kGwyaoMETyVeqtQX6Jo+eTRCn1y9MwAbrS5XPMuG3hVeJr6HT88SCYgKEz78Uzg EbZ/RvAk6e2VWHeoC3lS5QKJnSg2wGfMXOZi/nav3PbfXlml/NHy0SSg0DBDkOoWmkXZ XIr92XE6vVmqLbsSiZHIu7B5vWBhVYmoGrV03F0FdNjwqZgSSk9r8V4Tt+4VFvZDMRmj t+zA== X-Gm-Message-State: AOJu0YzBRuLegVmPlWnVDbhEXpl5i0I/zbvUa/CwYVcDyYkb+17+jBw2 BS3PH6c0wOaQh+Bp0P9ctuCOHBngaQWyCxVRekx+p9sdAgg5wyt82T9UtZXrCBlcqCtTDtQjFvl BcNlr1LeGBjw2LQspp0YeoaYkOgRtfEO4QWbssX4Wnh4tSX9KswXPLZ4d X-Gm-Gg: ASbGncsxesUdBXZZnQOXZBsSBPRtSV1QMLp70Ft6VJTOUn+pOMeyLBSxE6VkeACocg8 8Gy4IuQODaw01axR4UeRi5MArfPZpl8Cl9ga2OzQOvw1lXM2CtPUPmNmK/4RLEFKHY+C5imXVUF OfZE6pDKUIA5haHXSnyBEZ4Bs4ThJuVbIMbTr4N50mkOMWtDIfvEIlrCdQtaUZGzBWnSHINeRO4 j49UDxwD/lRVu6Dx7cRMjlaqQgL3D6k8VXDycSuXHlGhbo/rHdJAvaOXNfrpd/UYBymlunIvqDA sSLOscZ03o9mVgDL1+uFELSGFKwO6BuuxeR5vm6zKA== X-Google-Smtp-Source: AGHT+IGhbj+DUcYq07SQS6eH9JHeROCr87OTitdUrX1YF8dWW0TgqkHvIUdVbYspuDsOL2Kd85Sa75wfnLTl X-Received: by 2002:a05:6214:3b88:b0:6d8:a730:110c with SMTP id 6a1803df08f44-6e243c77b68mr409693816d6.38.1738642328003; Mon, 03 Feb 2025 20:12:08 -0800 (PST) Received: from postal.iol.unh.edu (postal.iol.unh.edu. [2606:4100:3880:1234::84]) by smtp-relay.gmail.com with ESMTPS id 6a1803df08f44-6e254952438sm7789666d6.65.2025.02.03.20.12.07 (version=TLS1_2 cipher=ECDHE-ECDSA-AES128-GCM-SHA256 bits=128/128); Mon, 03 Feb 2025 20:12:07 -0800 (PST) X-Relaying-Domain: iol.unh.edu Date: Mon, 03 Feb 2025 20:12:07 -0800 (PST) Message-ID: <67a19397.050a0220.1fe4a2.4635SMTPIN_ADDED_MISSING@mx.google.com> Received: from [172.17.0.4] (unknown [172.18.0.217]) by postal.iol.unh.edu (Postfix) with ESMTP id B14C66052471; Mon, 3 Feb 2025 23:12:07 -0500 (EST) Subject: |SUCCESS| pw150807 [PATCH] stack: occasional crash due to uninitiali From: dpdklab@iol.unh.edu To: Test Report Cc: dpdk-test-reports@iol.unh.edu In-Reply-To: <1738632218-5796-1-git-send-email-andremue@linux.microsoft.com> References: <1738632218-5796-1-git-send-email-andremue@linux.microsoft.com> Content-Type: text/plain X-BeenThere: test-report@dpdk.org X-Mailman-Version: 2.1.29 Precedence: list List-Id: automatic DPDK test reports List-Unsubscribe: , List-Archive: List-Post: List-Help: List-Subscribe: , Errors-To: test-report-bounces@dpdk.org Test-Label: iol-compile-amd64-testing Test-Status: SUCCESS http://dpdk.org/patch/150807 _Testing PASS_ Submitter: Andre Muezerie Date: Tuesday, February 04 2025 01:23:37 DPDK git baseline: Repo:dpdk Branch: master CommitID:dc4ce7c2538b713e16887eb598da309bc7b4d528 150807 --> testing pass Upstream job id: Generic-DPDK-Compile-Meson#357433 Test environment and result as below: +---------------------+--------------------+------------------+-------------------+-------------------+----------------------+ | Environment | dpdk_meson_compile | dpdk_compile_ovs | dpdk_compile_spdk | dpdk_msvc_compile | dpdk_mingw64_compile | +=====================+====================+==================+===================+===================+======================+ | CentOS Stream 9 | PASS | PASS | PASS | SKIPPED | SKIPPED | +---------------------+--------------------+------------------+-------------------+-------------------+----------------------+ | Debian 12 | PASS | PASS | PASS | SKIPPED | SKIPPED | +---------------------+--------------------+------------------+-------------------+-------------------+----------------------+ | Fedora 40 (Clang) | PASS | PASS | PASS | SKIPPED | SKIPPED | +---------------------+--------------------+------------------+-------------------+-------------------+----------------------+ | Fedora 40 | PASS | PASS | PASS | SKIPPED | SKIPPED | +---------------------+--------------------+------------------+-------------------+-------------------+----------------------+ | Fedora 41 (Clang) | PASS | PASS | PASS | SKIPPED | SKIPPED | +---------------------+--------------------+------------------+-------------------+-------------------+----------------------+ | Fedora 41 | PASS | PASS | PASS | SKIPPED | SKIPPED | +---------------------+--------------------+------------------+-------------------+-------------------+----------------------+ | openSUSE Leap 15 | PASS | SKIPPED | SKIPPED | SKIPPED | SKIPPED | +---------------------+--------------------+------------------+-------------------+-------------------+----------------------+ | RHEL9 | PASS | PASS | SKIPPED | SKIPPED | SKIPPED | +---------------------+--------------------+------------------+-------------------+-------------------+----------------------+ | RHEL8 | PASS | PASS | SKIPPED | SKIPPED | SKIPPED | +---------------------+--------------------+------------------+-------------------+-------------------+----------------------+ | Ubuntu 20.04 | PASS | SKIPPED | SKIPPED | SKIPPED | SKIPPED | +---------------------+--------------------+------------------+-------------------+-------------------+----------------------+ | Ubuntu 24.04 | PASS | PASS | PASS | SKIPPED | SKIPPED | +---------------------+--------------------+------------------+-------------------+-------------------+----------------------+ | Alpine | PASS | PASS | SKIPPED | SKIPPED | SKIPPED | +---------------------+--------------------+------------------+-------------------+-------------------+----------------------+ | FreeBSD 13.4 | PASS | SKIPPED | SKIPPED | SKIPPED | SKIPPED | +---------------------+--------------------+------------------+-------------------+-------------------+----------------------+ | FreeBSD 14.2 | PASS | SKIPPED | SKIPPED | SKIPPED | SKIPPED | +---------------------+--------------------+------------------+-------------------+-------------------+----------------------+ | Debian Bullseye | PASS | PASS | PASS | SKIPPED | SKIPPED | +---------------------+--------------------+------------------+-------------------+-------------------+----------------------+ | Ubuntu 22.04 | PASS | PASS | PASS | SKIPPED | SKIPPED | +---------------------+--------------------+------------------+-------------------+-------------------+----------------------+ | Windows Server 2022 | SKIPPED | SKIPPED | SKIPPED | PASS | PASS | +---------------------+--------------------+------------------+-------------------+-------------------+----------------------+ CentOS Stream 9 Kernel: Depends on container host Compiler: gcc 11.5.0 20240719 (Red Hat 11.5.0-2) Debian 12 Kernel: Depends on container host Compiler: gcc (Debian 12.2.0-14) 12.2.0 Fedora 40 (Clang) Kernel: Depends on container host Compiler: clang 18.1.8 (Fedora 18.1.8-1.fc40) Fedora 40 Kernel: Depends on container host Compiler: gcc 14.2.1 20240912 (Red Hat 14.2.1-3) Fedora 41 (Clang) Kernel: Depends on container host Compiler: clang 19.1.5 (Fedora 19.1.5-1.fc41) Fedora 41 Kernel: Depends on container host Compiler: gcc 14.2.1 20240912 (Red Hat 14.2.1-3) openSUSE Leap 15 Kernel: Depends on container host Compiler: gcc (SUSE Linux) 7.5.0 RHEL9 Kernel: Depends on container host Compiler: gcc 11.5.0 20240719 (Red Hat 11.5.0-2) RHEL8 Kernel: Depends on container host Compiler: gcc 8.5.0 20210514 (Red Hat 8.5.0-22) Ubuntu 20.04 Kernel: Depends on container host Compiler: gcc (Ubuntu 9.4.0-1ubuntu1~20.04.2) 9.4.0 Ubuntu 24.04 Kernel: Depends on container host Compiler: gcc (Ubuntu 13.3.0-6ubuntu2~24.04) 13.3.0 Alpine Kernel: Depends on container host Compiler: gcc (Alpine 14.2.0) 14.2.0 FreeBSD 13.4 Kernel: 13.4-RELEASE-p1 Compiler: clang 18.1.6 FreeBSD 14.2 Kernel: 14.2-RELEASE Compiler: clang 18.1.6 Debian Bullseye Kernel: Depends on container host Compiler: gcc (Debian 10.2.1-6) 10.2.1 20210110 Ubuntu 22.04 Kernel: Depends on container host Compiler: gcc (Ubuntu 11.4.0-1ubuntu1~22.04) 11.4.0 Windows Server 2022 Kernel: 10.0.20348.2031 Compiler: clang 15.0.7, gcc 14.1.0 (MinGW), and MSVC VS 19.39.33521 To view detailed results, visit: https://lab.dpdk.org/results/dashboard/patchsets/32484/ UNH-IOL DPDK Community Lab To manage your email subscriptions, visit: https://lab.dpdk.org/results/dashboard/preferences/subscriptions/