From mboxrd@z Thu Jan 1 00:00:00 1970 Return-Path: Received: from mails.dpdk.org (mails.dpdk.org [217.70.189.124]) by inbox.dpdk.org (Postfix) with ESMTP id F31464618A for ; Tue, 4 Feb 2025 06:54:27 +0100 (CET) Received: from mails.dpdk.org (localhost [127.0.0.1]) by mails.dpdk.org (Postfix) with ESMTP id EC8CE40289; Tue, 4 Feb 2025 06:54:27 +0100 (CET) Received: from mail-yb1-f227.google.com (mail-yb1-f227.google.com [209.85.219.227]) by mails.dpdk.org (Postfix) with ESMTP id C3FF44003C for ; Tue, 4 Feb 2025 06:54:25 +0100 (CET) Received: by mail-yb1-f227.google.com with SMTP id 3f1490d57ef6-e3978c00a5aso4726762276.1 for ; Mon, 03 Feb 2025 21:54:25 -0800 (PST) DKIM-Signature: v=1; a=rsa-sha256; c=relaxed/relaxed; d=iol.unh.edu; s=unh-iol; t=1738648465; x=1739253265; darn=dpdk.org; h=references:in-reply-to:cc:to:from:subject:message-id:date:from:to :cc:subject:date:message-id:reply-to; bh=Kp1sOvfSFaTXrtmKd7jDR6hX6/BF5cbXnqM8OGB9LhE=; b=aB0bAdQNr6E3SiwwAm7PDpeijoDVnSFYbUlm+ga5+VR53UTtawfwTSm3AlqT5nK9zr e69xef8F4L2bDb775mEF8Q5SFeEcpnCn3gUI7u3x3C8mMP2o6tpw4wSx+gxbBQ04tDXT TYAkoNYeXs+kICYGS6MlV5mXO0Hilh51mQcyc= X-Google-DKIM-Signature: v=1; a=rsa-sha256; c=relaxed/relaxed; d=1e100.net; s=20230601; t=1738648465; x=1739253265; h=references:in-reply-to:cc:to:from:subject:message-id:date :x-gm-message-state:from:to:cc:subject:date:message-id:reply-to; bh=Kp1sOvfSFaTXrtmKd7jDR6hX6/BF5cbXnqM8OGB9LhE=; b=kHLHypi2/nuLuu7XrH/PCBQMTV97eqesLOXgbb7OWzkkNUvbiOWlJxwf/7NwxADBNJ d0tTkjszUw0hVD0ZO5/rgwSq6qbiDdlz48B3U7s6FE38sz0tDegoY1CtJ5YQBuuL6k6R v/E2A7jN6f2nf1lrvqp1jmmdIeIa8v+ncjCdbTbrF1WH4drcWnSSL2CYYon9K6/rRDVc zfco5uflwry4MyaiHOMsJOL+3oxZJ75BXVthDVhCMnTLelxI0TiYN49i7IwIPwtwvivs rrzNPSkSBD+kHHn51hcCsixMbL23Nn7KLOc2xOXYxuPG97D+nCXcSwqRv7pNOB0jg8/3 FxJg== X-Gm-Message-State: AOJu0Yy+ljQY1+Z4PXM5oAHnn0Q7dr66j0kUuZLDS1rgj8ZPkh4168Ek 8MlUv+0BCOTYQq5yyOVQV1w9KGEBVSOfK66MkbF3aoEnwJKELaAZdYoCzeBDhf/6Ih9O2N6I5Z/ dUlxoYWL9jbQQ6z6neuTe+/oShVDmuixa438CDwKt X-Gm-Gg: ASbGncsoJvm8NnChLZRyABSpIJgBrz75OyPMRruSCOw/D//0IIPn0MUvtFqH4t95Ywf fJhvVH2BgtEOWyqlIGwG1Y6GXXxZMNgMlvqXJAQAHDFtS1nrd+SxMSV07abxFRPUcPPJ1XWsOPt vwwWzw3hFhdAYTYxhJ/gPTKsLa48FI370Es3XaBgu7CzrTLpPjWGZAoK+75UjCIJwzgYGs4CEXx 61YIJzgqMzEtQBB2tY/p3NBY/RdoYNVfFt/Owu/OGYw8EdE7FfeKDEkm5WcNgG/bpzDQZUfLyOE mMQjdGqGlwpuy9YpBjtVRyVqoiizDg== X-Google-Smtp-Source: AGHT+IFSelBxnZVCZM28w4xFyAlsdBeRoEKF8Mn2gRiZK+vOT3XI7mHn/qL++hdnJsF3w3tn7piE+68aysKf X-Received: by 2002:a05:6902:11c1:b0:e5b:791:18d6 with SMTP id 3f1490d57ef6-e5b079119ecmr5593372276.28.1738648465097; Mon, 03 Feb 2025 21:54:25 -0800 (PST) Received: from postal.iol.unh.edu (postal.iol.unh.edu. [132.177.123.84]) by smtp-relay.gmail.com with ESMTPS id 3f1490d57ef6-e5acb3db1fbsm669114276.20.2025.02.03.21.54.25 (version=TLS1_2 cipher=ECDHE-ECDSA-AES128-GCM-SHA256 bits=128/128); Mon, 03 Feb 2025 21:54:25 -0800 (PST) X-Relaying-Domain: iol.unh.edu Date: Mon, 03 Feb 2025 21:54:25 -0800 (PST) Message-ID: <67a1ab91.250a0220.194c10.01a1SMTPIN_ADDED_MISSING@mx.google.com> Received: from [172.21.0.8] (unknown [172.18.0.240]) by postal.iol.unh.edu (Postfix) with ESMTP id B9DA66052471; Tue, 4 Feb 2025 00:54:24 -0500 (EST) Subject: |SUCCESS| pw150807 [PATCH] stack: occasional crash due to uninitiali From: dpdklab@iol.unh.edu To: Test Report Cc: dpdk-test-reports@iol.unh.edu In-Reply-To: <1738632218-5796-1-git-send-email-andremue@linux.microsoft.com> References: <1738632218-5796-1-git-send-email-andremue@linux.microsoft.com> Content-Type: text/plain X-BeenThere: test-report@dpdk.org X-Mailman-Version: 2.1.29 Precedence: list List-Id: automatic DPDK test reports List-Unsubscribe: , List-Archive: List-Post: List-Help: List-Subscribe: , Errors-To: test-report-bounces@dpdk.org Test-Label: iol-compile-arm64-testing Test-Status: SUCCESS http://dpdk.org/patch/150807 _Testing PASS_ Submitter: Andre Muezerie Date: Tuesday, February 04 2025 01:23:37 DPDK git baseline: Repo:dpdk Branch: master CommitID:dc4ce7c2538b713e16887eb598da309bc7b4d528 150807 --> testing pass Upstream job id: Generic-DPDK-Compile-Meson#357440 Test environment and result as below: +----------------------------------------+--------------------+ | Environment | dpdk_meson_compile | +========================================+====================+ | RHEL9 (ARM) | PASS | +----------------------------------------+--------------------+ | Ubuntu 20.04 ARM GCC Cross Compile | PASS | +----------------------------------------+--------------------+ | Ubuntu 20.04 ARM SVE | PASS | +----------------------------------------+--------------------+ | Debian 12 with MUSDK | PASS | +----------------------------------------+--------------------+ | Fedora 41 (ARM Clang) | PASS | +----------------------------------------+--------------------+ | Fedora 40 (ARM) | PASS | +----------------------------------------+--------------------+ | Fedora 40 (ARM Clang) | PASS | +----------------------------------------+--------------------+ | Fedora 41 (ARM) | PASS | +----------------------------------------+--------------------+ | Ubuntu 20.04 (ARM) | PASS | +----------------------------------------+--------------------+ | Debian 12 (arm) | PASS | +----------------------------------------+--------------------+ | Ubuntu 22.04 (ARM) | PASS | +----------------------------------------+--------------------+ | CentOS Stream 9 (ARM) | PASS | +----------------------------------------+--------------------+ | Ubuntu 20.04 ARM Clang Cross Compile | PASS | +----------------------------------------+--------------------+ | Ubuntu 24.04 (ARM) | PASS | +----------------------------------------+--------------------+ | Ubuntu 20.04 aarch32 GCC Cross Compile | PASS | +----------------------------------------+--------------------+ | Debian 11 (Buster) (ARM) | PASS | +----------------------------------------+--------------------+ RHEL9 (ARM) Kernel: Depends on container host Compiler: gcc 11.5.0 20240719 (Red Hat 11.5.0-2) Ubuntu 20.04 ARM GCC Cross Compile Kernel: Depends on container host Compiler: aarch64-linux-gnu-gcc (Ubuntu 9.4.0-1ubuntu1~20.04.2) 9.4.0 Ubuntu 20.04 ARM SVE Kernel: Depends on container host Compiler: gcc (Ubuntu 10.5.0-1ubuntu1~20.04) 10.5.0 Debian 12 with MUSDK Kernel: Depends on container host Compiler: gcc (Debian 12.2.0-14) 12.2.0 Fedora 41 (ARM Clang) Kernel: Depends on container host Compiler: clang 19.1.5 (Fedora 19.1.5-1.fc41) Fedora 40 (ARM) Kernel: Depends on container host Compiler: gcc 14.2.1 20240912 (Red Hat 14.2.1-3) Fedora 40 (ARM Clang) Kernel: Depends on container host Compiler: clang 18.1.8 (Fedora 18.1.8-1.fc40) Fedora 41 (ARM) Kernel: Depends on container host Compiler: gcc 14.2.1 20240912 (Red Hat 14.2.1-3) Ubuntu 20.04 (ARM) Kernel: Depends on container host Compiler: gcc (Ubuntu 9.4.0-1ubuntu1~20.04.2) 9.4.0 Debian 12 (arm) Kernel: Depends on container host Compiler: gcc (Debian 12.2.0-14) 12.2.0 Ubuntu 22.04 (ARM) Kernel: Depends on container host Compiler: gcc (Ubuntu 11.4.0-1ubuntu1~22.04) 11.4.0 CentOS Stream 9 (ARM) Kernel: Depends on container host Compiler: gcc 11.5.0 20240719 (Red Hat 11.5.0-2) Ubuntu 20.04 ARM Clang Cross Compile Kernel: Depends on container host Compiler: clang 10.0.0-4ubuntu1 Ubuntu 24.04 (ARM) Kernel: Depends on container host Compiler: gcc (Ubuntu 13.3.0-6ubuntu2~24.04) 13.3.0 Ubuntu 20.04 aarch32 GCC Cross Compile Kernel: Depends on container host Compiler: gcc 9.4.0 Debian 11 (Buster) (ARM) Kernel: Depends on container host Compiler: gcc (Debian 10.2.1-6) 10.2.1 20210110 To view detailed results, visit: https://lab.dpdk.org/results/dashboard/patchsets/32484/ UNH-IOL DPDK Community Lab To manage your email subscriptions, visit: https://lab.dpdk.org/results/dashboard/preferences/subscriptions/