From mboxrd@z Thu Jan 1 00:00:00 1970 Return-Path: Received: from mails.dpdk.org (mails.dpdk.org [217.70.189.124]) by inbox.dpdk.org (Postfix) with ESMTP id CFB494618A for ; Tue, 4 Feb 2025 07:11:58 +0100 (CET) Received: from mails.dpdk.org (localhost [127.0.0.1]) by mails.dpdk.org (Postfix) with ESMTP id A06B240289; Tue, 4 Feb 2025 07:11:58 +0100 (CET) Received: from mail-yw1-f226.google.com (mail-yw1-f226.google.com [209.85.128.226]) by mails.dpdk.org (Postfix) with ESMTP id 7C30F4003C for ; Tue, 4 Feb 2025 07:11:57 +0100 (CET) Received: by mail-yw1-f226.google.com with SMTP id 00721157ae682-6f6c90b51c3so31002017b3.2 for ; Mon, 03 Feb 2025 22:11:57 -0800 (PST) DKIM-Signature: v=1; a=rsa-sha256; c=relaxed/relaxed; d=iol.unh.edu; s=unh-iol; t=1738649517; x=1739254317; darn=dpdk.org; h=cc:to:from:subject:message-id:date:from:to:cc:subject:date :message-id:reply-to; bh=lh7NOqxS5+ch9EfMUMpLomTVFgbHH8Zxh884u0rvWfE=; b=eLBfxTPFrvYclbSzlRTubJF9dGKVxV5VjtLZ9uS0LS2zKRc9AAgrvXdMegKZgTuKdd zdZy+fWAuaTGalurRZ3r9ya4o4OmFL1Li08l2yKg9YOMDjcw/IljkV90gRHUraYRhsz8 APfV23Gla+Dj0llEE+hbX1+Kt2tSVmlW2Elq0= X-Google-DKIM-Signature: v=1; a=rsa-sha256; c=relaxed/relaxed; d=1e100.net; s=20230601; t=1738649517; x=1739254317; h=cc:to:from:subject:message-id:date:x-gm-message-state:from:to:cc :subject:date:message-id:reply-to; bh=lh7NOqxS5+ch9EfMUMpLomTVFgbHH8Zxh884u0rvWfE=; b=ldp+p/EiFCcDLJkKXCF78kKIQkzsZ7grfMrdqOtHukfbu0y6JZpTbLhVjP1IeS2DOW xNfZ3m1T0CRk2g1EpQqN9jrdYrjxOywmMqqZFW6fyxwNY07cT6hq+sfRTFMge1rQ/LOq EqjTGmNNv5jw1QWS4alaCMv4BAT+xxzIxTnpgBApN8qNW4R74i+ZPCoUdRD4gaD+ezpX TxVjmZPn6N+3kUmtT04AJAuUCufz3ng8v2JPF1bKfT+eu5CoPIDd0eLdSeIwCVhA1uHl aGfhyxZvnnlRXIeR61/NYnKf3efrqUgmEzqcd/nfT2Wx+h914wlrr4+6wuAHx03LkGWz m+Mg== X-Gm-Message-State: AOJu0YyFGBOvyiHORkWjrt/2S7JuVDOlk8kHcJVjDV61dotX2pB+qX+B pOqIhmDialDglFhYrpTGdQ+zVzkY62/vR6T+/ZOaJd5yISUDLi3DSFSrFIuV0ppcvSoUi4GOnrs d4Lq0uev8OE2HIBGin9zLIlIoRk9TJcHUuHDIUFpGGnAjSzYz X-Gm-Gg: ASbGncvG8ydoEqWge+R1TCoDhU8G4kmEUZFb4Pak9H8lmWNxJ64cSq9dwQSVzZ8jXFI 3IZxF5kbH6hTWrI7c5xfZ08jt+n7fKjzrYl/RYCpx5jwerItXd4GRtCemz40LO7BrU+G4YTcrTn jjGj7p6XX2JKMnYV+3YSbWyB89vNK2Ac72RksF0m8+C8I/YrR+pK7COj3cYck4CvxDHkEySuf7I RsctjY3ap5uJjQ39pITVt1HdvhojQccuzOE+O0n1wMcdtZrzoO/9JjeoN/UmoLdLE7uqT8xROLD iCprAz/SAgaFoKrC/PNHR+npZKXFmAk+o2+jvbIHlA== X-Google-Smtp-Source: AGHT+IEdx8i0+akAsItFhXEqtRT2WwdLm7jfMamDUmoCvTEPCzshDN+fU9gI/onAWF/w9NMp6XyLgT3MnC2g X-Received: by 2002:a05:690c:690f:b0:6f9:753a:519c with SMTP id 00721157ae682-6f9753a53d1mr34211567b3.19.1738649516723; Mon, 03 Feb 2025 22:11:56 -0800 (PST) Received: from postal.iol.unh.edu (postal.iol.unh.edu. [2606:4100:3880:1234::84]) by smtp-relay.gmail.com with ESMTPS id 00721157ae682-6f975396756sm832307b3.23.2025.02.03.22.11.56 (version=TLS1_2 cipher=ECDHE-ECDSA-AES128-GCM-SHA256 bits=128/128); Mon, 03 Feb 2025 22:11:56 -0800 (PST) X-Relaying-Domain: iol.unh.edu Date: Mon, 03 Feb 2025 22:11:56 -0800 (PST) Message-ID: <67a1afac.050a0220.108d4d.41c8SMTPIN_ADDED_MISSING@mx.google.com> Received: from [172.21.0.5] (unknown [172.18.0.240]) by postal.iol.unh.edu (Postfix) with ESMTP id 5C0316052471; Tue, 4 Feb 2025 01:11:56 -0500 (EST) Subject: |SUCCESS| [GIT MASTER] f2eea2f37a82bb73fb01d56350708f7d70e21379 From: dpdklab@iol.unh.edu To: Test Report Cc: dpdk-test-reports@iol.unh.edu, Xueming Li , Christian Ehrhardt , Kevin Traynor , Luca Boccassi Content-Type: text/plain X-BeenThere: test-report@dpdk.org X-Mailman-Version: 2.1.29 Precedence: list List-Id: automatic DPDK test reports List-Unsubscribe: , List-Archive: List-Post: List-Help: List-Subscribe: , Errors-To: test-report-bounces@dpdk.org _Testing PASS_ Branch: tags/v24.11 f2eea2f37a82bb73fb01d56350708f7d70e21379 --> testing pass Upstream job id: Generic-Unit-Test-DPDK#311336 Test environment and result as below: +---------------------+----------------+ | Environment | dpdk_unit_test | +=====================+================+ | Fedora 40 | PASS | +---------------------+----------------+ | Debian 12 | PASS | +---------------------+----------------+ | CentOS Stream 9 | PASS | +---------------------+----------------+ | Debian Bullseye | PASS | +---------------------+----------------+ | Fedora 40 (Clang) | PASS | +---------------------+----------------+ | Fedora 41 (Clang) | PASS | +---------------------+----------------+ | RHEL9 | PASS | +---------------------+----------------+ | Ubuntu 20.04 | PASS | +---------------------+----------------+ | Fedora 41 | PASS | +---------------------+----------------+ | Ubuntu 22.04 | PASS | +---------------------+----------------+ | RHEL8 | PASS | +---------------------+----------------+ | Ubuntu 24.04 | PASS | +---------------------+----------------+ | Windows Server 2022 | PASS | +---------------------+----------------+ Fedora 40 Kernel: Depends on container host Compiler: gcc 14.2.1 20240912 (Red Hat 14.2.1-3) Debian 12 Kernel: Depends on container host Compiler: gcc (Debian 12.2.0-14) 12.2.0 CentOS Stream 9 Kernel: Depends on container host Compiler: gcc 11.5.0 20240719 (Red Hat 11.5.0-2) Debian Bullseye Kernel: Depends on container host Compiler: gcc (Debian 10.2.1-6) 10.2.1 20210110 Fedora 40 (Clang) Kernel: Depends on container host Compiler: clang 18.1.8 (Fedora 18.1.8-1.fc40) Fedora 41 (Clang) Kernel: Depends on container host Compiler: clang 19.1.5 (Fedora 19.1.5-1.fc41) RHEL9 Kernel: Depends on container host Compiler: gcc 11.5.0 20240719 (Red Hat 11.5.0-2) Ubuntu 20.04 Kernel: Depends on container host Compiler: gcc (Ubuntu 9.4.0-1ubuntu1~20.04.2) 9.4.0 Fedora 41 Kernel: Depends on container host Compiler: gcc 14.2.1 20240912 (Red Hat 14.2.1-3) Ubuntu 22.04 Kernel: Depends on container host Compiler: gcc (Ubuntu 11.4.0-1ubuntu1~22.04) 11.4.0 RHEL8 Kernel: Depends on container host Compiler: gcc 8.5.0 20210514 (Red Hat 8.5.0-22) Ubuntu 24.04 Kernel: Depends on container host Compiler: gcc (Ubuntu 13.3.0-6ubuntu2~24.04) 13.3.0 Windows Server 2022 Kernel: 10.0.20348.2031 Compiler: clang 15.0.7, gcc 14.1.0 (MinGW), and MSVC VS 19.39.33521 To view detailed results, visit: https://lab.dpdk.org/results/dashboard/tarballs/32430/ UNH-IOL DPDK Community Lab To manage your email subscriptions, visit: https://lab.dpdk.org/results/dashboard/preferences/subscriptions/