From mboxrd@z Thu Jan 1 00:00:00 1970 Return-Path: Received: from mails.dpdk.org (mails.dpdk.org [217.70.189.124]) by inbox.dpdk.org (Postfix) with ESMTP id 6404745F6A for ; Tue, 4 Feb 2025 07:17:29 +0100 (CET) Received: from mails.dpdk.org (localhost [127.0.0.1]) by mails.dpdk.org (Postfix) with ESMTP id 2F06A40289; Tue, 4 Feb 2025 07:17:29 +0100 (CET) Received: from mail-il1-f228.google.com (mail-il1-f228.google.com [209.85.166.228]) by mails.dpdk.org (Postfix) with ESMTP id 210B64003C for ; Tue, 4 Feb 2025 07:17:28 +0100 (CET) Received: by mail-il1-f228.google.com with SMTP id e9e14a558f8ab-3a813899384so13551145ab.1 for ; Mon, 03 Feb 2025 22:17:28 -0800 (PST) DKIM-Signature: v=1; a=rsa-sha256; c=relaxed/relaxed; d=iol.unh.edu; s=unh-iol; t=1738649847; x=1739254647; darn=dpdk.org; h=cc:to:from:subject:message-id:date:from:to:cc:subject:date :message-id:reply-to; bh=zBFaTt8Pgvk536Cre0+qF/8JeL2YkA8bP5UzP1cf7+A=; b=YTbiYP9WzuCv4qgaR8TqvSDWb9xSghclUiPEkcMzImCe307V7dlhAZOK/WgfNfmL0/ Zn794QDmcyb5oB/otyFHvzymei7NZDEbG1lVEXzKbqXJgNxs7e5b8wp35RUfb3lpMdBM D12aHf0MoqTB04Bs6+HxJ3/KVquNTebEuGoDc= X-Google-DKIM-Signature: v=1; a=rsa-sha256; c=relaxed/relaxed; d=1e100.net; s=20230601; t=1738649847; x=1739254647; h=cc:to:from:subject:message-id:date:x-gm-message-state:from:to:cc :subject:date:message-id:reply-to; bh=zBFaTt8Pgvk536Cre0+qF/8JeL2YkA8bP5UzP1cf7+A=; b=o7vm7WG5yNuF0752FKof7+uxV07SMv+fHwVdL091Sj/Nv3HfwTbvOkIc6kKmMshq2p HLhb9ywniJ7jpuyFCamF4iWyjCNJw3+qvby66BLfE4iixRPS0ZScERh368VeDK+KAEaZ +A7+DZRgThOfC3rgz5jZE9dhq+/Pd68CS2MpkrGS5qCa2nQ0Nd/h6LrYFJKMeiz7ZgRS ft/VnGRABz7BeyzhbyKCS72NosXEW78e3CegL51jEyZLuSt6cJnzaUsHOfliEq2XYxak 5WujhOLhpFIcyfuXvcAq94NaWlkRNnjeyX4mvpmQic36/86Z9hF/uCPhfZ4N116yYlw/ uSmA== X-Gm-Message-State: AOJu0YzQYFHBZGu1C/Gp2Np6Fm4NlikCGwPLuRlwfyqwh6bEqGUKunXK FaZQT7J+9fb1faAqoZAsQ8S5tPGdC/LAEYGLVpoim3yRUyRbxqqUamqJjcvw0FBIvcryq1OahNa cnnofXmxgeYnSh0Y5SedyzpuTlCpg124R X-Gm-Gg: ASbGncskk7/+L0A3fj9LKQzGmYS8lWFSaBfwhdx/yldmxm8ww6rLwSoNz6md8MFQOGe IVry1Qtpm2eDdyOUV3UyXvJ2nXaxmqyHVOxx0N48cTAP4N/i1tc6f1ftFo4Rc2GcAEYf5B861u5 JR0hEexK/+/LLyoJuO08jrKhtXBeYLTV6R70v5lZdqY5nQPDFbe2BzdIGHJBqZ4ujKALmwMO5ZD t2yhn+kYpJzkc+1s2XHwNUzeTnNnH+3WOHvUowCtCwYArBTJHtc1HTinY0I3UbIhIdbcAFEZzi8 ms1OFzjGbcuEjTQuhvVGZI8YtpiIpQ== X-Google-Smtp-Source: AGHT+IHXkXzlgoXG0st5w4pPFdCBdbvu9CXf1TW6PVGc0cENNgLmWROPWij8i13rkjhYvhdvZkdA+JQAy8Mw X-Received: by 2002:a05:6e02:1fc3:b0:3cf:c17d:5cba with SMTP id e9e14a558f8ab-3cffe3a68a5mr200438065ab.9.1738649847387; Mon, 03 Feb 2025 22:17:27 -0800 (PST) Received: from postal.iol.unh.edu (postal.iol.unh.edu. [132.177.123.84]) by smtp-relay.gmail.com with ESMTPS id e9e14a558f8ab-3d00a4f74ebsm7805265ab.2.2025.02.03.22.17.27 (version=TLS1_2 cipher=ECDHE-ECDSA-AES128-GCM-SHA256 bits=128/128); Mon, 03 Feb 2025 22:17:27 -0800 (PST) X-Relaying-Domain: iol.unh.edu Date: Mon, 03 Feb 2025 22:17:27 -0800 (PST) Message-ID: <67a1b0f7.920a0220.2b3a46.32a0SMTPIN_ADDED_MISSING@mx.google.com> Received: from [172.21.0.7] (unknown [172.18.0.240]) by postal.iol.unh.edu (Postfix) with ESMTP id C849F6052471; Tue, 4 Feb 2025 01:17:26 -0500 (EST) Subject: |SUCCESS| [GIT MASTER] f2eea2f37a82bb73fb01d56350708f7d70e21379 From: dpdklab@iol.unh.edu To: Test Report Cc: dpdk-test-reports@iol.unh.edu, Xueming Li , Christian Ehrhardt , Kevin Traynor , Luca Boccassi Content-Type: text/plain X-BeenThere: test-report@dpdk.org X-Mailman-Version: 2.1.29 Precedence: list List-Id: automatic DPDK test reports List-Unsubscribe: , List-Archive: List-Post: List-Help: List-Subscribe: , Errors-To: test-report-bounces@dpdk.org _Testing PASS_ Branch: tags/v24.11 f2eea2f37a82bb73fb01d56350708f7d70e21379 --> testing pass Upstream job id: Generic-DPDK-Compile-ABI#114643 Test environment and result as below: +-------------------+----------+ | Environment | abi_test | +===================+==========+ | CentOS Stream 9 | PASS | +-------------------+----------+ | Debian Bullseye | PASS | +-------------------+----------+ | Debian 12 | PASS | +-------------------+----------+ | Fedora 41 (Clang) | PASS | +-------------------+----------+ | Fedora 40 | PASS | +-------------------+----------+ | Fedora 40 (Clang) | PASS | +-------------------+----------+ | RHEL8 | PASS | +-------------------+----------+ | Fedora 41 | PASS | +-------------------+----------+ | openSUSE Leap 15 | PASS | +-------------------+----------+ | RHEL9 | PASS | +-------------------+----------+ | Ubuntu 24.04 | PASS | +-------------------+----------+ | Ubuntu 22.04 | PASS | +-------------------+----------+ CentOS Stream 9 Kernel: Depends on container host Compiler: gcc 11.5.0 20240719 (Red Hat 11.5.0-2) Debian Bullseye Kernel: Depends on container host Compiler: gcc (Debian 10.2.1-6) 10.2.1 20210110 Debian 12 Kernel: Depends on container host Compiler: gcc (Debian 12.2.0-14) 12.2.0 Fedora 41 (Clang) Kernel: Depends on container host Compiler: clang 19.1.5 (Fedora 19.1.5-1.fc41) Fedora 40 Kernel: Depends on container host Compiler: gcc 14.2.1 20240912 (Red Hat 14.2.1-3) Fedora 40 (Clang) Kernel: Depends on container host Compiler: clang 18.1.8 (Fedora 18.1.8-1.fc40) RHEL8 Kernel: Depends on container host Compiler: gcc 8.5.0 20210514 (Red Hat 8.5.0-22) Fedora 41 Kernel: Depends on container host Compiler: gcc 14.2.1 20240912 (Red Hat 14.2.1-3) openSUSE Leap 15 Kernel: Depends on container host Compiler: gcc (SUSE Linux) 7.5.0 RHEL9 Kernel: Depends on container host Compiler: gcc 11.5.0 20240719 (Red Hat 11.5.0-2) Ubuntu 24.04 Kernel: Depends on container host Compiler: gcc (Ubuntu 13.3.0-6ubuntu2~24.04) 13.3.0 Ubuntu 22.04 Kernel: Depends on container host Compiler: gcc (Ubuntu 11.4.0-1ubuntu1~22.04) 11.4.0 To view detailed results, visit: https://lab.dpdk.org/results/dashboard/tarballs/32430/ UNH-IOL DPDK Community Lab To manage your email subscriptions, visit: https://lab.dpdk.org/results/dashboard/preferences/subscriptions/