From mboxrd@z Thu Jan 1 00:00:00 1970 Return-Path: Received: from mails.dpdk.org (mails.dpdk.org [217.70.189.124]) by inbox.dpdk.org (Postfix) with ESMTP id 70A7A45F6A for ; Tue, 4 Feb 2025 07:18:18 +0100 (CET) Received: from mails.dpdk.org (localhost [127.0.0.1]) by mails.dpdk.org (Postfix) with ESMTP id 6BDC340A76; Tue, 4 Feb 2025 07:18:18 +0100 (CET) Received: from mail-qv1-f97.google.com (mail-qv1-f97.google.com [209.85.219.97]) by mails.dpdk.org (Postfix) with ESMTP id 9BB5E40289 for ; Tue, 4 Feb 2025 07:18:17 +0100 (CET) Received: by mail-qv1-f97.google.com with SMTP id 6a1803df08f44-6dd43b08674so41684616d6.3 for ; Mon, 03 Feb 2025 22:18:17 -0800 (PST) DKIM-Signature: v=1; a=rsa-sha256; c=relaxed/relaxed; d=iol.unh.edu; s=unh-iol; t=1738649897; x=1739254697; darn=dpdk.org; h=cc:to:from:subject:message-id:date:from:to:cc:subject:date :message-id:reply-to; bh=qflqTLx1zvJ1EfS55O7qJFDDq5ThWEoQoehs7+ZOrJE=; b=Dl1ED2sA36yWo5tOyGBtK7Puxe/zqseUFoaqnbBodOoVZ91UJmhlEWTwV3gCaazJTq LJpkNaZHgeW+Qbabldg40yZFNDdpNJbxEwF8DPzi/PpwGMI8hgcGUotMlStspDdWFmto OlZZqdGHEBlUeXcSgp2EDQckoo9topXbuzCkQ= X-Google-DKIM-Signature: v=1; a=rsa-sha256; c=relaxed/relaxed; d=1e100.net; s=20230601; t=1738649897; x=1739254697; h=cc:to:from:subject:message-id:date:x-gm-message-state:from:to:cc :subject:date:message-id:reply-to; bh=qflqTLx1zvJ1EfS55O7qJFDDq5ThWEoQoehs7+ZOrJE=; b=BuFsbK9D5gVsU0S7PolAlWtwbfhDvruUBlb+PngRrHuR17EONmNBvBi9K0v3CVDNLy rrXHtGShva3AItBFTk+gPzGz/2zddVU8Sxpa5GhXAox5IMaZ05+KBLtSfTQpJ0ndd4eh c4wvCzlHmArdfpVYxUenJkryu1ffyXwsPSFbK+a+XrvTjue+H1h/DzpCYawfkZi40IxI /FBlyo8G1lnwexEwW9eR+TQ0GFwuXBGQBj8k5gUGmgsgN13cSHL/CGap/19jWIQDyUwO 2JyymQlrovpWMk8prCa+cvRoXJ4pWbfJugb1nuJWJ5vdQ9jd2P2ff2uhHlwMbg9r/wQB CCcQ== X-Gm-Message-State: AOJu0YwYla+2CCiX1TmwxAQWWeCJxwJgyhrUjowjFnfPtikMdYq14WnV 3yXn1nis6XD86V2okRtIuIqdwYI6+ugrL3aLGu0lmuC3IxXc1n/yIV7nF1ou0tU0pZxPwVR3w8K 8zigdt9zjTn8FvZ6p6F8WsVmlreAcDEYn X-Gm-Gg: ASbGncv9l8ekmdMCnwjMpTGVMs8kGWK/LM31/pbrUhSicXxpNjXzoqxNRcdWwENsX0I FCfJZMDB4dj4EB18Lrd/B5ZraltbulsRDSIfIG7iQ5fLHSUWcVKebnwGujdr7MzQLPM5RHf/Gvg OTomujY4QpQdKJJBW6h9S6xgYXBqkEfxJ0L1dxHSIlvRD7d0g8Qr8L+1hoUeCEwOCF9H3cAvUsq EygFxDNsHbGD/hEmUEBS1YGHjUhYwFu+Bi7YfftXiH6BhkRKEDvZz1Mos0qCr8O93WRQ8oRt4Tl TLygc7nnXP73HnzZXqNjU6XT6clvKg== X-Google-Smtp-Source: AGHT+IEQEjvEqM2eUpstPTTswsMQ8w6/MG3yESgkM2CnPObS2RpyNHTLtUqoik//NBLbcebJacRVD0n8rpPS X-Received: by 2002:a0c:e344:0:b0:6e4:242b:932 with SMTP id 6a1803df08f44-6e4242b0b61mr12414476d6.2.1738649897011; Mon, 03 Feb 2025 22:18:17 -0800 (PST) Received: from postal.iol.unh.edu (postal.iol.unh.edu. [132.177.123.84]) by smtp-relay.gmail.com with ESMTPS id 6a1803df08f44-6e25495020csm7405666d6.58.2025.02.03.22.18.16 (version=TLS1_2 cipher=ECDHE-ECDSA-AES128-GCM-SHA256 bits=128/128); Mon, 03 Feb 2025 22:18:17 -0800 (PST) X-Relaying-Domain: iol.unh.edu Date: Mon, 03 Feb 2025 22:18:17 -0800 (PST) Message-ID: <67a1b129.050a0220.305b55.1dddSMTPIN_ADDED_MISSING@mx.google.com> Received: from [172.21.0.6] (unknown [172.18.0.240]) by postal.iol.unh.edu (Postfix) with ESMTP id B2F5A6052471; Tue, 4 Feb 2025 01:18:16 -0500 (EST) Subject: |SUCCESS| [GIT MASTER] f2eea2f37a82bb73fb01d56350708f7d70e21379 From: dpdklab@iol.unh.edu To: Test Report Cc: dpdk-test-reports@iol.unh.edu, Xueming Li , Christian Ehrhardt , Kevin Traynor , Luca Boccassi Content-Type: text/plain X-BeenThere: test-report@dpdk.org X-Mailman-Version: 2.1.29 Precedence: list List-Id: automatic DPDK test reports List-Unsubscribe: , List-Archive: List-Post: List-Help: List-Subscribe: , Errors-To: test-report-bounces@dpdk.org _Testing PASS_ Branch: tags/v24.11 f2eea2f37a82bb73fb01d56350708f7d70e21379 --> testing pass Upstream job id: Generic-DPDK-Compile-ABI#114639 Test environment and result as below: +-------------------+----------+ | Environment | abi_test | +===================+==========+ | CentOS Stream 9 | PASS | +-------------------+----------+ | Debian Bullseye | PASS | +-------------------+----------+ | Debian 12 | PASS | +-------------------+----------+ | Fedora 41 (Clang) | PASS | +-------------------+----------+ | Fedora 40 | PASS | +-------------------+----------+ | Fedora 40 (Clang) | PASS | +-------------------+----------+ | RHEL8 | PASS | +-------------------+----------+ | Fedora 41 | PASS | +-------------------+----------+ | openSUSE Leap 15 | PASS | +-------------------+----------+ | RHEL9 | PASS | +-------------------+----------+ | Ubuntu 24.04 | PASS | +-------------------+----------+ | Ubuntu 22.04 | PASS | +-------------------+----------+ CentOS Stream 9 Kernel: Depends on container host Compiler: gcc 11.5.0 20240719 (Red Hat 11.5.0-2) Debian Bullseye Kernel: Depends on container host Compiler: gcc (Debian 10.2.1-6) 10.2.1 20210110 Debian 12 Kernel: Depends on container host Compiler: gcc (Debian 12.2.0-14) 12.2.0 Fedora 41 (Clang) Kernel: Depends on container host Compiler: clang 19.1.5 (Fedora 19.1.5-1.fc41) Fedora 40 Kernel: Depends on container host Compiler: gcc 14.2.1 20240912 (Red Hat 14.2.1-3) Fedora 40 (Clang) Kernel: Depends on container host Compiler: clang 18.1.8 (Fedora 18.1.8-1.fc40) RHEL8 Kernel: Depends on container host Compiler: gcc 8.5.0 20210514 (Red Hat 8.5.0-22) Fedora 41 Kernel: Depends on container host Compiler: gcc 14.2.1 20240912 (Red Hat 14.2.1-3) openSUSE Leap 15 Kernel: Depends on container host Compiler: gcc (SUSE Linux) 7.5.0 RHEL9 Kernel: Depends on container host Compiler: gcc 11.5.0 20240719 (Red Hat 11.5.0-2) Ubuntu 24.04 Kernel: Depends on container host Compiler: gcc (Ubuntu 13.3.0-6ubuntu2~24.04) 13.3.0 Ubuntu 22.04 Kernel: Depends on container host Compiler: gcc (Ubuntu 11.4.0-1ubuntu1~22.04) 11.4.0 To view detailed results, visit: https://lab.dpdk.org/results/dashboard/tarballs/32430/ UNH-IOL DPDK Community Lab To manage your email subscriptions, visit: https://lab.dpdk.org/results/dashboard/preferences/subscriptions/