From mboxrd@z Thu Jan 1 00:00:00 1970 Return-Path: Received: from mails.dpdk.org (mails.dpdk.org [217.70.189.124]) by inbox.dpdk.org (Postfix) with ESMTP id 17D5045F6A for ; Tue, 4 Feb 2025 07:33:16 +0100 (CET) Received: from mails.dpdk.org (localhost [127.0.0.1]) by mails.dpdk.org (Postfix) with ESMTP id E8E8D40289; Tue, 4 Feb 2025 07:33:15 +0100 (CET) Received: from mail-io1-f100.google.com (mail-io1-f100.google.com [209.85.166.100]) by mails.dpdk.org (Postfix) with ESMTP id 089F14003C for ; Tue, 4 Feb 2025 07:33:15 +0100 (CET) Received: by mail-io1-f100.google.com with SMTP id ca18e2360f4ac-851c4f1fb18so127974339f.2 for ; Mon, 03 Feb 2025 22:33:14 -0800 (PST) DKIM-Signature: v=1; a=rsa-sha256; c=relaxed/relaxed; d=iol.unh.edu; s=unh-iol; t=1738650794; x=1739255594; darn=dpdk.org; h=cc:to:from:subject:message-id:date:from:to:cc:subject:date :message-id:reply-to; bh=2Sq3S0Wg4WfPjFKOI20SKcPlmLtxozt97DYtEOJPbzk=; b=iu9HwDY+j9fbch/tlbsqAuohK1j+RHWDfePp0akAfJasBRLcAAnFDzWXllNAXGizpe 3WGtXIXvOxYhKXD09GV7Px0u80X3GzrljqOPNf9mzGU2PYMgPxSKfoUpzhcyWMPdt2FY MCuhYglB5zIdEeaILqQunxsL5YbU5kgS0cZac= X-Google-DKIM-Signature: v=1; a=rsa-sha256; c=relaxed/relaxed; d=1e100.net; s=20230601; t=1738650794; x=1739255594; h=cc:to:from:subject:message-id:date:x-gm-message-state:from:to:cc :subject:date:message-id:reply-to; bh=2Sq3S0Wg4WfPjFKOI20SKcPlmLtxozt97DYtEOJPbzk=; b=UEDBLxzMRc1IbB5NBBxBZTll8N9F4qxk1lObSWRoAOZokMEu0CbXihYUIdqScTAmNO ot6NnlgKMpshNIzmVdpm5nrwyxl//pf3xtBKs59QESyOzTeFCLYlZmczbCqUnJ7T3RIF 6+TIgAGpHAU3Yl/f6uqNggg2RvO47i0LYAD2BjB9QzMLQFcC4BuEP+Au8/WYeO9qe7np QZHXcptuQdaVIQd3CiCeaEYzjXmDVmMdvpa68wP0gNCDSP03VPQk3SpZK4fCS0WMp8oz Z2gRZEJjCi6w+OBStT5SS+adyhMMPjZPR7Obn6G4fuhbv88PN2F7i+mRJZ6aJiuquANr bdug== X-Gm-Message-State: AOJu0YxU7gPkojNDaAYznPr15A4YgXyYNNGsCT9glQPaTcGZRKM8xaX8 cT5LWZqYrplKDWLIo5lRZshpCksSHx6LxgmHMuV5ZArwrdH1p339rOL5mPvf1MF9Zx3Y/KDPEAx 7x/tM/td2nCHl/byRKSLsrtnoNApzPrjlNKSvCYHgrQlc4lqh X-Gm-Gg: ASbGncsG3GfAey4C8l+PRXDR/YTlIqpTfAM6DCf1Bho7tQ3ijEsI3E2C1Rstf/qppt1 wgAQjxxlJKcf4kAhDDpWA5VEVn+UTT/yoV83Dq4yFI5eziq7oEg62H7y4saxs+HosQnDWl+B0ZK 2RZNcn3K6eYjrxnHbynPon1nRvtWkvqyx81+Z6oxi1rnNwZXVI8H9+Ws1/Yql1R+epgj5Yy1HYg bUEv/TjmmWAIoJk7hcY6RdXKaVnI+WOaGpUZ5dw0tutnJitPT/Rp4FdBBcAEtuSzypBFCjUUWIh TohiOlx48bcFg0wZo/BILKdMCXDtfNRq+L/oRGlaPw== X-Google-Smtp-Source: AGHT+IHr+A8NYu7pGKMt6blZClUp00tLjaXwUgV5w+6jJl0MWRjeC9QgneHFkjqUHmseOvhD0beVtyVWhVLo X-Received: by 2002:a05:6602:3685:b0:843:e9c1:930b with SMTP id ca18e2360f4ac-85427e11a29mr2580901239f.14.1738650794330; Mon, 03 Feb 2025 22:33:14 -0800 (PST) Received: from postal.iol.unh.edu (postal.iol.unh.edu. [2606:4100:3880:1234::84]) by smtp-relay.gmail.com with ESMTPS id 8926c6da1cb9f-4ec74591ab6sm668849173.7.2025.02.03.22.33.14 (version=TLS1_2 cipher=ECDHE-ECDSA-AES128-GCM-SHA256 bits=128/128); Mon, 03 Feb 2025 22:33:14 -0800 (PST) X-Relaying-Domain: iol.unh.edu Date: Mon, 03 Feb 2025 22:33:14 -0800 (PST) Message-ID: <67a1b4aa.050a0220.26343f.f3acSMTPIN_ADDED_MISSING@mx.google.com> Received: from [172.21.0.5] (unknown [172.18.0.240]) by postal.iol.unh.edu (Postfix) with ESMTP id A8CEF6052471; Tue, 4 Feb 2025 01:33:13 -0500 (EST) Subject: |SUCCESS| [GIT MASTER] f2eea2f37a82bb73fb01d56350708f7d70e21379 From: dpdklab@iol.unh.edu To: Test Report Cc: dpdk-test-reports@iol.unh.edu, Xueming Li , Christian Ehrhardt , Kevin Traynor , Luca Boccassi Content-Type: text/plain X-BeenThere: test-report@dpdk.org X-Mailman-Version: 2.1.29 Precedence: list List-Id: automatic DPDK test reports List-Unsubscribe: , List-Archive: List-Post: List-Help: List-Subscribe: , Errors-To: test-report-bounces@dpdk.org _Testing PASS_ Branch: tags/v24.11 f2eea2f37a82bb73fb01d56350708f7d70e21379 --> testing pass Upstream job id: Generic-Unit-Test-DPDK#311337 Test environment and result as below: +-----------------------------+----------------+---------------------------+--------------+------------------------------+ | Environment | dpdk_unit_test | cryptodev_sw_zuc_autotest | lpm_autotest | cryptodev_sw_snow3g_autotest | +=============================+================+===========================+==============+==============================+ | 32-bit Ubuntu 22.04.4 (ARM) | PASS | SKIPPED | SKIPPED | SKIPPED | +-----------------------------+----------------+---------------------------+--------------+------------------------------+ | Debian 11 (Buster) (ARM) | PASS | SKIPPED | SKIPPED | SKIPPED | +-----------------------------+----------------+---------------------------+--------------+------------------------------+ | Debian 12 (arm) | PASS | PASS | SKIPPED | PASS | +-----------------------------+----------------+---------------------------+--------------+------------------------------+ | CentOS Stream 9 (ARM) | PASS | SKIPPED | SKIPPED | SKIPPED | +-----------------------------+----------------+---------------------------+--------------+------------------------------+ | Fedora 40 (ARM) | PASS | SKIPPED | SKIPPED | SKIPPED | +-----------------------------+----------------+---------------------------+--------------+------------------------------+ | Fedora 40 (ARM Clang) | PASS | SKIPPED | SKIPPED | SKIPPED | +-----------------------------+----------------+---------------------------+--------------+------------------------------+ | Ubuntu 20.04 (ARM) | PASS | SKIPPED | SKIPPED | SKIPPED | +-----------------------------+----------------+---------------------------+--------------+------------------------------+ | Fedora 41 (ARM) | PASS | SKIPPED | SKIPPED | SKIPPED | +-----------------------------+----------------+---------------------------+--------------+------------------------------+ | Fedora 41 (ARM Clang) | PASS | SKIPPED | SKIPPED | SKIPPED | +-----------------------------+----------------+---------------------------+--------------+------------------------------+ | Ubuntu 22.04 (ARM) | PASS | SKIPPED | SKIPPED | SKIPPED | +-----------------------------+----------------+---------------------------+--------------+------------------------------+ | Ubuntu 24.04 (ARM) | PASS | SKIPPED | SKIPPED | SKIPPED | +-----------------------------+----------------+---------------------------+--------------+------------------------------+ | RHEL9 (ARM) | PASS | SKIPPED | SKIPPED | SKIPPED | +-----------------------------+----------------+---------------------------+--------------+------------------------------+ | Ubuntu 20.04 ARM SVE | SKIPPED | SKIPPED | PASS | SKIPPED | +-----------------------------+----------------+---------------------------+--------------+------------------------------+ 32-bit Ubuntu 22.04.4 (ARM) Kernel: 5.15.83+ aarch64 Compiler: gcc (Ubuntu 11.4.0-1ubuntu1~22.04) 11.4.0 Debian 11 (Buster) (ARM) Kernel: Depends on container host Compiler: gcc (Debian 10.2.1-6) 10.2.1 20210110 Debian 12 (arm) Kernel: Depends on container host Compiler: gcc (Debian 12.2.0-14) 12.2.0 CentOS Stream 9 (ARM) Kernel: Depends on container host Compiler: gcc 11.5.0 20240719 (Red Hat 11.5.0-2) Fedora 40 (ARM) Kernel: Depends on container host Compiler: gcc 14.2.1 20240912 (Red Hat 14.2.1-3) Fedora 40 (ARM Clang) Kernel: Depends on container host Compiler: clang 18.1.8 (Fedora 18.1.8-1.fc40) Ubuntu 20.04 (ARM) Kernel: Depends on container host Compiler: gcc (Ubuntu 9.4.0-1ubuntu1~20.04.2) 9.4.0 Fedora 41 (ARM) Kernel: Depends on container host Compiler: gcc 14.2.1 20240912 (Red Hat 14.2.1-3) Fedora 41 (ARM Clang) Kernel: Depends on container host Compiler: clang 19.1.5 (Fedora 19.1.5-1.fc41) Ubuntu 22.04 (ARM) Kernel: Depends on container host Compiler: gcc (Ubuntu 11.4.0-1ubuntu1~22.04) 11.4.0 Ubuntu 24.04 (ARM) Kernel: Depends on container host Compiler: gcc (Ubuntu 13.3.0-6ubuntu2~24.04) 13.3.0 RHEL9 (ARM) Kernel: Depends on container host Compiler: gcc 11.5.0 20240719 (Red Hat 11.5.0-2) Ubuntu 20.04 ARM SVE Kernel: Depends on container host Compiler: gcc (Ubuntu 10.5.0-1ubuntu1~20.04) 10.5.0 To view detailed results, visit: https://lab.dpdk.org/results/dashboard/tarballs/32430/ UNH-IOL DPDK Community Lab To manage your email subscriptions, visit: https://lab.dpdk.org/results/dashboard/preferences/subscriptions/