From mboxrd@z Thu Jan 1 00:00:00 1970 Return-Path: Received: from mails.dpdk.org (mails.dpdk.org [217.70.189.124]) by inbox.dpdk.org (Postfix) with ESMTP id 9EED94618A for ; Tue, 4 Feb 2025 08:22:36 +0100 (CET) Received: from mails.dpdk.org (localhost [127.0.0.1]) by mails.dpdk.org (Postfix) with ESMTP id 9782A400D6; Tue, 4 Feb 2025 08:22:36 +0100 (CET) Received: from mail-pl1-f226.google.com (mail-pl1-f226.google.com [209.85.214.226]) by mails.dpdk.org (Postfix) with ESMTP id 751294003C for ; Tue, 4 Feb 2025 08:22:35 +0100 (CET) Received: by mail-pl1-f226.google.com with SMTP id d9443c01a7336-21634338cfdso29591955ad.2 for ; Mon, 03 Feb 2025 23:22:35 -0800 (PST) DKIM-Signature: v=1; a=rsa-sha256; c=relaxed/relaxed; d=iol.unh.edu; s=unh-iol; t=1738653754; x=1739258554; darn=dpdk.org; h=cc:to:from:subject:message-id:date:from:to:cc:subject:date :message-id:reply-to; bh=Nsap+gBrk+23dWQTyCjktWwrYprOb8rIJ4cMR4+/2do=; b=BaDjSVZYGl0rbdzyFx0fUDaVLPoDjS3NLDIH3MhUQCoAyYrOsXwTArM6wkD4eo4hnb aTcO1q6WBIXhAAhFOLgvauf7+GokWYpT32mmzLqP/kW5V9eKj6ASKHkjKlBimvUEZPx7 yB/N4cvEvpoBOLVkpVqVhomR9TKNQ0UGpDxew= X-Google-DKIM-Signature: v=1; a=rsa-sha256; c=relaxed/relaxed; d=1e100.net; s=20230601; t=1738653754; x=1739258554; h=cc:to:from:subject:message-id:date:x-gm-message-state:from:to:cc :subject:date:message-id:reply-to; bh=Nsap+gBrk+23dWQTyCjktWwrYprOb8rIJ4cMR4+/2do=; b=MB5OvxDknBqGUIPp+d1pdBAUmdZUp0V7XZRUzV2a+7A+1q2PYR7cu7PFhEucVsjj/T 2QlQ1kz5muI9WytR+3rVtxeepHwW0paAJDTEAmCp7yXFPyZKW1v1RWg9VNXeEtfq/GDe 9GMCcV9L6j++hNPJ5HMT1B/JV9g1o1p/uCYkZUawlEBPRU2nn6ATfAbL2gCnnNyUH83T 7qAf41PNTd4xPXY3/nDlQH7BOwSJT11Wk0J5htvI+v3WqpuRNjpvDKvoYFQ1vL/OQopZ yKNZyw6By6cu8f6iPpM8dsi/cNDB2OrRz5oEZUp9TylqXj2oI0U4OdAJ00tnAfnSz/nM 4jLw== X-Gm-Message-State: AOJu0YxyUqdQJfW8HfhmUj+IUYso9jTWtAsDSSMmKcd5SETBDvgnQvlg UqEt44rWMZFOJi7zTCIaJ1oonKYoRVn6lo2MLMeXnniS1myQl5oOax1Wk3rNgEyPGdo1eoOpx25 ms7sZZqU8u7aVarskVCU5wb7nFKYZ3u7T X-Gm-Gg: ASbGncuq6RhkN/KM/gE0kk8Sd/Xlv2+5v73XxThJYBU3YWa7jk0RHtGAgv4an3DHJjt IfHRGmoEd1f3y+FwzErNjVZrbsx4InH3e/Lh8Ut6DUJkn2sGIyUwIJ8Ll1PnF+IK2qvBLSaplXk 0MJS2SVu3RZfsEnYK3J57y9/VmdL5SGC2EPpaWy1hWtS+sv0tU0LgHqFJfFjf4za6oaja86o6nM Fou1NRwobTUsBED1XyiBp0HQGAkxy3bZ3SXvkcSeKF5CAKYAVD9S8W3xDiAxR2MlqnuusTR1AlT FmR0OpLMvj8jGd+MgucxD7lE/pDdpA== X-Google-Smtp-Source: AGHT+IF/2zmLcu2V2nqTIwgwJHQe2l50Ik+IUfsGhpw5aEFG2Zcik+9F2m9gXgpVdHaqCveeEuQgYj5wt/dW X-Received: by 2002:a17:902:ee53:b0:217:89da:fd54 with SMTP id d9443c01a7336-21dd7dccf9emr301060065ad.33.1738653753220; Mon, 03 Feb 2025 23:22:33 -0800 (PST) Received: from postal.iol.unh.edu (postal.iol.unh.edu. [132.177.123.84]) by smtp-relay.gmail.com with ESMTPS id 41be03b00d2f7-acebe856459sm630300a12.16.2025.02.03.23.22.33 (version=TLS1_2 cipher=ECDHE-ECDSA-AES128-GCM-SHA256 bits=128/128); Mon, 03 Feb 2025 23:22:33 -0800 (PST) X-Relaying-Domain: iol.unh.edu Date: Mon, 03 Feb 2025 23:22:33 -0800 (PST) Message-ID: <67a1c039.630a0220.1acf86.e5e8SMTPIN_ADDED_MISSING@mx.google.com> Received: from [172.21.0.5] (unknown [172.18.0.240]) by postal.iol.unh.edu (Postfix) with ESMTP id 5DB306052471; Tue, 4 Feb 2025 02:22:32 -0500 (EST) Subject: |SUCCESS| [GIT MASTER] 7ce7d3341d7e21c2a81f2fea8e451681d7306d77 From: dpdklab@iol.unh.edu To: Test Report Cc: dpdk-test-reports@iol.unh.edu, Xueming Li , Christian Ehrhardt , Kevin Traynor , Luca Boccassi Content-Type: text/plain X-BeenThere: test-report@dpdk.org X-Mailman-Version: 2.1.29 Precedence: list List-Id: automatic DPDK test reports List-Unsubscribe: , List-Archive: List-Post: List-Help: List-Subscribe: , Errors-To: test-report-bounces@dpdk.org _Testing PASS_ Branch: tags/v22.11 7ce7d3341d7e21c2a81f2fea8e451681d7306d77 --> testing pass Upstream job id: Generic-Unit-Test-DPDK#311347 Test environment and result as below: +-----------------------------+--------------+------------------------------+---------------------------+----------------+ | Environment | lpm_autotest | cryptodev_sw_snow3g_autotest | cryptodev_sw_zuc_autotest | dpdk_unit_test | +=============================+==============+==============================+===========================+================+ | Ubuntu 20.04 ARM SVE | PASS | SKIPPED | SKIPPED | SKIPPED | +-----------------------------+--------------+------------------------------+---------------------------+----------------+ | Debian 12 (arm) | SKIPPED | PASS | PASS | SKIPPED | +-----------------------------+--------------+------------------------------+---------------------------+----------------+ | 32-bit Ubuntu 22.04.4 (ARM) | SKIPPED | SKIPPED | SKIPPED | PASS | +-----------------------------+--------------+------------------------------+---------------------------+----------------+ Ubuntu 20.04 ARM SVE Kernel: Depends on container host Compiler: gcc (Ubuntu 10.5.0-1ubuntu1~20.04) 10.5.0 Debian 12 (arm) Kernel: Depends on container host Compiler: gcc (Debian 12.2.0-14) 12.2.0 32-bit Ubuntu 22.04.4 (ARM) Kernel: 5.15.83+ aarch64 Compiler: gcc (Ubuntu 11.4.0-1ubuntu1~22.04) 11.4.0 To view detailed results, visit: https://lab.dpdk.org/results/dashboard/tarballs/32432/ UNH-IOL DPDK Community Lab To manage your email subscriptions, visit: https://lab.dpdk.org/results/dashboard/preferences/subscriptions/