From mboxrd@z Thu Jan 1 00:00:00 1970 Return-Path: Received: from mails.dpdk.org (mails.dpdk.org [217.70.189.124]) by inbox.dpdk.org (Postfix) with ESMTP id DFD094618A for ; Tue, 4 Feb 2025 08:33:55 +0100 (CET) Received: from mails.dpdk.org (localhost [127.0.0.1]) by mails.dpdk.org (Postfix) with ESMTP id AAAE5400D6; Tue, 4 Feb 2025 08:33:55 +0100 (CET) Received: from mail-il1-f227.google.com (mail-il1-f227.google.com [209.85.166.227]) by mails.dpdk.org (Postfix) with ESMTP id 1FD364003C for ; Tue, 4 Feb 2025 08:33:54 +0100 (CET) Received: by mail-il1-f227.google.com with SMTP id e9e14a558f8ab-3cffbcd520aso15939655ab.0 for ; Mon, 03 Feb 2025 23:33:54 -0800 (PST) DKIM-Signature: v=1; a=rsa-sha256; c=relaxed/relaxed; d=iol.unh.edu; s=unh-iol; t=1738654433; x=1739259233; darn=dpdk.org; h=cc:to:from:subject:message-id:date:from:to:cc:subject:date :message-id:reply-to; bh=1lQ2DucFe5V94aq8ySunR+hX4X5HvjSGkWwtTEvTfIU=; b=eIEy4X60U41trT6wXbLM03+PB27x/Ta2xYaUML+B4XoeLUZaub4TnwBcmOrzF1pt+k WG9s78MQ1EtM6D8TAxhA0ea+yVJZXEZA4H5GLPTkezeHPKnF5HvdmJfm01P56/dh5Kz6 vEhlvsCUabWXiLV/etnAagmh/0frnJB4xrlow= X-Google-DKIM-Signature: v=1; a=rsa-sha256; c=relaxed/relaxed; d=1e100.net; s=20230601; t=1738654433; x=1739259233; h=cc:to:from:subject:message-id:date:x-gm-message-state:from:to:cc :subject:date:message-id:reply-to; bh=1lQ2DucFe5V94aq8ySunR+hX4X5HvjSGkWwtTEvTfIU=; b=BCx5yG/G+D6wqXv1siChpLbF5EAkoJbcgUcPiVM1ox83P40n9e61iSySHpsVR/Pvi3 TvgWHsn3UpNAWwTks9yLpWEGy8gq5DolAtTCAS4mE8yoO8TQa7Tj9bryd5qwR8JUAe69 eQ0IAM05vqrPKwZsSted0kP+6JKy3PHmbVxsECPdQsqMQE8c1+Zn5UzL/kTYRtgzIZwM +HayNn9SSEbDi30c3Pc7vtT8XdhuWEzs7zUMPx3o3AbkowiRa+5D7P7KSxPp6palCxgK kKK1alVajDTYqt2PgjxxzwhIigWMkBtWQX/gbNU1tq5xL9XfL1LkwU0SJ9613L9Mi2tH MLSA== X-Gm-Message-State: AOJu0YwkEvEVmxNdXmphy6Ux2KeIiVsRx72rOjoqnU/DNYrfumWPdT2C HLJ/oVoMxfXhUh1wpjz/nlDghBZKYlc2J5iyXX6oWSP3SHlwc0avCnw81GtpXsQWydF35WPZSZx jkZTwjFD2dI2sHwCkUSSEab8hnfLb65CF/xCHEvhrZjLx5/Sg X-Gm-Gg: ASbGnctvWTAoLq4vxB/U/gwQHrGjyvmehfIjMlefhpZkDRl/2jIDese5+nU6lyofea1 Z67lyZJ2uSCmC53TzZFL3P+KOV+grhR2HCigMh+j3ti4Fn7n9P5qVqo27HxLiYYn/ZbEzzPDecw CKYb7dThGA06gHtF3KceqLKU7SC9q+t6AMj0ZNxw0lVX0akGtxx5s8VV+ZsBBgOzizqDoHqJnRo y/crset3+CToPXVsBY7B9ipv4WMKncOD28GwWHLuuWQ1XCk8Mg/CrY7IXMnYuoP/pBwL9f/GyMH OSW0FBHe/BnEy+r7rwKSsDSOCzDNYob3akVdX0OQOA== X-Google-Smtp-Source: AGHT+IHiwNnJSpSV21oqy2M9U2fz5oaQlfyi+cbAH64me+EioxDDiukauY+nftF01BGo3QkiaZguEviAMCrZ X-Received: by 2002:a05:6e02:32c7:b0:3a9:cc7f:2bc5 with SMTP id e9e14a558f8ab-3d03f4af54bmr26901845ab.3.1738654432921; Mon, 03 Feb 2025 23:33:52 -0800 (PST) Received: from postal.iol.unh.edu (postal.iol.unh.edu. [2606:4100:3880:1234::84]) by smtp-relay.gmail.com with ESMTPS id 8926c6da1cb9f-4ec745b66a4sm687116173.28.2025.02.03.23.33.52 (version=TLS1_2 cipher=ECDHE-ECDSA-AES128-GCM-SHA256 bits=128/128); Mon, 03 Feb 2025 23:33:52 -0800 (PST) X-Relaying-Domain: iol.unh.edu Date: Mon, 03 Feb 2025 23:33:52 -0800 (PST) Message-ID: <67a1c2e0.050a0220.369c7f.0dd0SMTPIN_ADDED_MISSING@mx.google.com> Received: from [172.21.0.6] (unknown [172.18.0.240]) by postal.iol.unh.edu (Postfix) with ESMTP id 6C06E6052471; Tue, 4 Feb 2025 02:33:52 -0500 (EST) Subject: |SUCCESS| [GIT MASTER] c66daa12e76d7b4912cfb7109a761856a7a873ab From: dpdklab@iol.unh.edu To: Test Report Cc: dpdk-test-reports@iol.unh.edu, Xueming Li , Christian Ehrhardt , Kevin Traynor , Luca Boccassi Content-Type: text/plain X-BeenThere: test-report@dpdk.org X-Mailman-Version: 2.1.29 Precedence: list List-Id: automatic DPDK test reports List-Unsubscribe: , List-Archive: List-Post: List-Help: List-Subscribe: , Errors-To: test-report-bounces@dpdk.org _Testing PASS_ Branch: tags/v23.11 c66daa12e76d7b4912cfb7109a761856a7a873ab --> testing pass Upstream job id: ACVP-FIPS-testing#8771 Test environment and result as below: +--------------------+----------------------+----------------------+ | Environment | compressdev_zlib_pmd | dpdk_fips_validation | +====================+======================+======================+ | Ubuntu 22.04 (ARM) | PASS | SKIPPED | +--------------------+----------------------+----------------------+ | Ubuntu 22.04 | PASS | SKIPPED | +--------------------+----------------------+----------------------+ | Ubuntu 20.04 | SKIPPED | PASS | +--------------------+----------------------+----------------------+ Ubuntu 22.04 (ARM) Kernel: 5.15.0-97-generic Compiler: gcc gcc (Ubuntu 11.4.0-1ubuntu1~22.04) 11.4.0 Ubuntu 22.04 Kernel: 5.15.0-100-generic Compiler: gcc gcc (Ubuntu 11.4.0-1ubuntu1~22.04) 11.4.0 Ubuntu 20.04 Kernel: Depends on container host Compiler: gcc (Ubuntu 9.4.0-1ubuntu1~20.04.2) 9.4.0 To view detailed results, visit: https://lab.dpdk.org/results/dashboard/tarballs/32431/ UNH-IOL DPDK Community Lab To manage your email subscriptions, visit: https://lab.dpdk.org/results/dashboard/preferences/subscriptions/