From mboxrd@z Thu Jan 1 00:00:00 1970 Return-Path: Received: from mails.dpdk.org (mails.dpdk.org [217.70.189.124]) by inbox.dpdk.org (Postfix) with ESMTP id A303A4618A for ; Tue, 4 Feb 2025 08:42:24 +0100 (CET) Received: from mails.dpdk.org (localhost [127.0.0.1]) by mails.dpdk.org (Postfix) with ESMTP id 7E899400D6; Tue, 4 Feb 2025 08:42:24 +0100 (CET) Received: from mail-il1-f225.google.com (mail-il1-f225.google.com [209.85.166.225]) by mails.dpdk.org (Postfix) with ESMTP id D6B6E4003C for ; Tue, 4 Feb 2025 08:42:22 +0100 (CET) Received: by mail-il1-f225.google.com with SMTP id e9e14a558f8ab-3cf880d90bdso17893645ab.3 for ; Mon, 03 Feb 2025 23:42:22 -0800 (PST) DKIM-Signature: v=1; a=rsa-sha256; c=relaxed/relaxed; d=iol.unh.edu; s=unh-iol; t=1738654942; x=1739259742; darn=dpdk.org; h=cc:to:from:subject:message-id:date:from:to:cc:subject:date :message-id:reply-to; bh=d9hycTsHDFYtNCAQjG0w3kvFyVcSoCW3TFokcenfuFs=; b=J31Z5pNwecYCHp/ADpK9x0885gAn6FfURawDXMKRUVwOeegev1tGPbQtavD7g1dEjm k0dbfcEhQx7GpdgdVfaJ3nZH+7RhOPf4awYbiPdoKuzVKuVw3qQ5T3/KNMGqyGX49Eif AIWFpD3tX7hq+p+6Wg36wBXwUm00z9cl29Tvw= X-Google-DKIM-Signature: v=1; a=rsa-sha256; c=relaxed/relaxed; d=1e100.net; s=20230601; t=1738654942; x=1739259742; h=cc:to:from:subject:message-id:date:x-gm-message-state:from:to:cc :subject:date:message-id:reply-to; bh=d9hycTsHDFYtNCAQjG0w3kvFyVcSoCW3TFokcenfuFs=; b=ZB3d3OfUa5z79QApcy5a0Z2P4udKCJ8+g+PF/oWwnRq5roBsVGpnu3lY94AcpfuoLn dVTPQp4smT1y82IamdSaPk/4Hed3dLVI1ljRxsak3c4wHodU6kkfJ8X1imaUA7kE4TQc 4xAVUxA53Wodgfuy1wUcx3GPYK3w+oEVjfDaZQUQFLwfSWvfU5eGwo8sVQPBnUP14GIW ASa6gh95MRx5TLn0ggOaLZc30QlG/gJzwStXeTHiXFV6G9xKkm3kaxYkerOZ+rGeHX2Y M0oz7NbQFRdJNLCJuPeUF31XWEcoF1ViflPtwFAl+z2ajVB6h7oLErxqUQv4c+NWCDm1 +utg== X-Gm-Message-State: AOJu0Yz16wR+iStXHR+xXkX5o8SNk/9MlwryDD2qMJxnWpLouLQCEpL6 JoZwKiMX64b09xraCEISW59P/8hHNr55yYWySr5y8OZIz+uIzgynU9ok+Zz3kzzeo3o5EeLoDv9 c4EeqJP4QLf1Thayv85w7dWIpRxssXs0enoKJ9ZfT8LurIkYj X-Gm-Gg: ASbGncvFuH28CYf2GKCGZuVNckFHl32mjD6wUP21garOvsjemNkrCCXtCvStbrKgXzr XRtDWtysxx2UQVE8D+88DAaUUlj6l0bd+76FueCZqfzal84sMdIB2T+4RQ+1kpyCRbWT52fg9V6 JBnTWLR7KVet2MNBx50ujK3qnpQhZjyPUpAlDGjhck9QyF2E83LvD8jJgeHFKrF9G1tuLbMDSr6 iQ2h0qxH1hXKuP4JWhYqYxgWz1WQNbfz3zw49vdfHGuIzq9DDoSGwokC99t7M2qEZ2bDhRcylOk MVikGgQLBL5yzwJ1NoaXEEepUEVWaMa8syD17QMfBQ== X-Google-Smtp-Source: AGHT+IEg1lDkj+EP4wTL0VoAU0qkI2JEUVefTxFy0wHbFNfJS/8El4PXy+oxP5rrLk6tssN4aDIcjwmpVmNf X-Received: by 2002:a05:6e02:1a08:b0:3d0:101e:4609 with SMTP id e9e14a558f8ab-3d0101e478amr156291775ab.15.1738654942089; Mon, 03 Feb 2025 23:42:22 -0800 (PST) Received: from postal.iol.unh.edu (postal.iol.unh.edu. [2606:4100:3880:1234::84]) by smtp-relay.gmail.com with ESMTPS id e9e14a558f8ab-3d00a4f71fesm8096675ab.6.2025.02.03.23.42.22 (version=TLS1_2 cipher=ECDHE-ECDSA-AES128-GCM-SHA256 bits=128/128); Mon, 03 Feb 2025 23:42:22 -0800 (PST) X-Relaying-Domain: iol.unh.edu Date: Mon, 03 Feb 2025 23:42:22 -0800 (PST) Message-ID: <67a1c4de.050a0220.1c5c24.5970SMTPIN_ADDED_MISSING@mx.google.com> Received: from [172.21.0.5] (unknown [172.18.0.240]) by postal.iol.unh.edu (Postfix) with ESMTP id 915076052471; Tue, 4 Feb 2025 02:42:21 -0500 (EST) Subject: |SUCCESS| [GIT MASTER] c66daa12e76d7b4912cfb7109a761856a7a873ab From: dpdklab@iol.unh.edu To: Test Report Cc: dpdk-test-reports@iol.unh.edu, Xueming Li , Christian Ehrhardt , Kevin Traynor , Luca Boccassi Content-Type: text/plain X-BeenThere: test-report@dpdk.org X-Mailman-Version: 2.1.29 Precedence: list List-Id: automatic DPDK test reports List-Unsubscribe: , List-Archive: List-Post: List-Help: List-Subscribe: , Errors-To: test-report-bounces@dpdk.org _Testing PASS_ Branch: tags/v23.11 c66daa12e76d7b4912cfb7109a761856a7a873ab --> testing pass Upstream job id: Generic-DPDK-Compile-ABI#114653 Test environment and result as below: +-------------------+----------+ | Environment | abi_test | +===================+==========+ | Debian Bullseye | PASS | +-------------------+----------+ | Debian 12 | PASS | +-------------------+----------+ | CentOS Stream 9 | PASS | +-------------------+----------+ | Ubuntu 24.04 | PASS | +-------------------+----------+ | Fedora 40 (Clang) | PASS | +-------------------+----------+ | Fedora 40 | PASS | +-------------------+----------+ | Fedora 41 (Clang) | PASS | +-------------------+----------+ | Ubuntu 22.04 | PASS | +-------------------+----------+ | Fedora 41 | PASS | +-------------------+----------+ | RHEL8 | PASS | +-------------------+----------+ | RHEL9 | PASS | +-------------------+----------+ | openSUSE Leap 15 | PASS | +-------------------+----------+ Debian Bullseye Kernel: Depends on container host Compiler: gcc (Debian 10.2.1-6) 10.2.1 20210110 Debian 12 Kernel: Depends on container host Compiler: gcc (Debian 12.2.0-14) 12.2.0 CentOS Stream 9 Kernel: Depends on container host Compiler: gcc 11.5.0 20240719 (Red Hat 11.5.0-2) Ubuntu 24.04 Kernel: Depends on container host Compiler: gcc (Ubuntu 13.3.0-6ubuntu2~24.04) 13.3.0 Fedora 40 (Clang) Kernel: Depends on container host Compiler: clang 18.1.8 (Fedora 18.1.8-1.fc40) Fedora 40 Kernel: Depends on container host Compiler: gcc 14.2.1 20240912 (Red Hat 14.2.1-3) Fedora 41 (Clang) Kernel: Depends on container host Compiler: clang 19.1.5 (Fedora 19.1.5-1.fc41) Ubuntu 22.04 Kernel: Depends on container host Compiler: gcc (Ubuntu 11.4.0-1ubuntu1~22.04) 11.4.0 Fedora 41 Kernel: Depends on container host Compiler: gcc 14.2.1 20240912 (Red Hat 14.2.1-3) RHEL8 Kernel: Depends on container host Compiler: gcc 8.5.0 20210514 (Red Hat 8.5.0-22) RHEL9 Kernel: Depends on container host Compiler: gcc 11.5.0 20240719 (Red Hat 11.5.0-2) openSUSE Leap 15 Kernel: Depends on container host Compiler: gcc (SUSE Linux) 7.5.0 To view detailed results, visit: https://lab.dpdk.org/results/dashboard/tarballs/32431/ UNH-IOL DPDK Community Lab To manage your email subscriptions, visit: https://lab.dpdk.org/results/dashboard/preferences/subscriptions/