From mboxrd@z Thu Jan 1 00:00:00 1970 Return-Path: Received: from mails.dpdk.org (mails.dpdk.org [217.70.189.124]) by inbox.dpdk.org (Postfix) with ESMTP id A45B14618A for ; Tue, 4 Feb 2025 08:43:03 +0100 (CET) Received: from mails.dpdk.org (localhost [127.0.0.1]) by mails.dpdk.org (Postfix) with ESMTP id A0229400D6; Tue, 4 Feb 2025 08:43:03 +0100 (CET) Received: from mail-pl1-f227.google.com (mail-pl1-f227.google.com [209.85.214.227]) by mails.dpdk.org (Postfix) with ESMTP id 885604003C for ; Tue, 4 Feb 2025 08:43:02 +0100 (CET) Received: by mail-pl1-f227.google.com with SMTP id d9443c01a7336-2163dc5155fso92577105ad.0 for ; Mon, 03 Feb 2025 23:43:02 -0800 (PST) DKIM-Signature: v=1; a=rsa-sha256; c=relaxed/relaxed; d=iol.unh.edu; s=unh-iol; t=1738654981; x=1739259781; darn=dpdk.org; h=cc:to:from:subject:message-id:date:from:to:cc:subject:date :message-id:reply-to; bh=mF2vksw7UBv32y6ikbSOo+KXe0kfpCO2qlwkM7pdbU8=; b=a7egnQTjb5i+gIXweWHzh4V6fD5yvGV4caJAH5WaJnarc7Hj8Ihi9vYKXz21mv5PZS +rcIaDib+v0NwBlxtJyC/DZec9na+gXV7dHnR96s8nPjiieuwq2jxENlkfX+HJh7L0VS qONYt7BRPoqh2J5NrgV/vg7j6bGYOnQZ9ZP/I= X-Google-DKIM-Signature: v=1; a=rsa-sha256; c=relaxed/relaxed; d=1e100.net; s=20230601; t=1738654981; x=1739259781; h=cc:to:from:subject:message-id:date:x-gm-message-state:from:to:cc :subject:date:message-id:reply-to; bh=mF2vksw7UBv32y6ikbSOo+KXe0kfpCO2qlwkM7pdbU8=; b=u+D4iH4iUhMfZPTZPF6pe8+mGdvu8ucW8wM8mxSSL4y1JvNKPW8r7vUGn/0OJFAIU3 hKxxZzGr/NNUoDeLjz66AsBp7JQ7rM46bVoLn0imBYMoVOlOVdQpG6Mrh0YMEHpSXpNC XLC/O31XNCNl6j8+XsOo7CX3xZsxnxyB4+Cpj1Q57N9+1QFy1CemBx9xcRCv+QDJrDEk o1kqpvzTjuSIpptEQ+OLbJ+H2oqYszAi/yDM3frdHU1OA3eTBZoa6xxhbARuPTt+2TSE Rc6Dy/pD5C1eVMScyjVYg5+MTmtIxGS7KOx4Wa/5xfwVJgoRg1T3M+bJNgpCfIED93Le WQNw== X-Gm-Message-State: AOJu0YwEWB1N2AWRHkKqRTaI6gBG3yxpyXGpWVq031krMWNTbCgbQmXe pIZwmeQlPcVZu9eHqCXUEBzZHa/vHdx863NPMCC1rwRCeDAvpou71NgMGWm01tzpLKFYWz0pXyP E5B6sHS0FSIubH0NgNWiQY5mV/swVk7pRPSxKhhwgQjs+gbHo X-Gm-Gg: ASbGnctMSc+00//kLvgbHk+kjXN+qqDozMPfVL+5PIrNg7K84gLRcqHkdVBhGz0Qkp3 qDT9ANq3ZbR3naGEmxGHE5v5marJGhjb4PIL0hzxEHS0xO+SbxLwm/Ip7Hh7OUGQn3KiJ/fQbgZ ht9udDgAl2eaG+edPVnftjyVHOof6Ceejj1WWFeC4a0/XP+3qxooUFtK3C9h5M3N2p+AM9w68vv VdERnmVaOxj0faAIw2w7w9BCxITATfOY9BF+ZheTNQ926jnvJ6W9ZvuAitKiyYZWFp5/Vve/e/n MjytUK4teGwqK3qQf3syc/0KdOwKUDswph1RX2ew3w== X-Google-Smtp-Source: AGHT+IEQllzPqM9xn/DyGK4/RA5u+4BZoJqFtGUCbTgldNP+cAAxqIngLcLfS9aih8j5O9ycuw37qF1YjVLr X-Received: by 2002:a17:902:fb0d:b0:215:6816:632e with SMTP id d9443c01a7336-21dd7e0759amr306849455ad.48.1738654981626; Mon, 03 Feb 2025 23:43:01 -0800 (PST) Received: from postal.iol.unh.edu (postal.iol.unh.edu. [2606:4100:3880:1234::84]) by smtp-relay.gmail.com with ESMTPS id d9443c01a7336-21de326f177sm4923325ad.64.2025.02.03.23.43.01 (version=TLS1_2 cipher=ECDHE-ECDSA-AES128-GCM-SHA256 bits=128/128); Mon, 03 Feb 2025 23:43:01 -0800 (PST) X-Relaying-Domain: iol.unh.edu Date: Mon, 03 Feb 2025 23:43:01 -0800 (PST) Message-ID: <67a1c505.170a0220.31cd55.7798SMTPIN_ADDED_MISSING@mx.google.com> Received: from [172.21.0.7] (unknown [172.18.0.240]) by postal.iol.unh.edu (Postfix) with ESMTP id 088206052471; Tue, 4 Feb 2025 02:43:01 -0500 (EST) Subject: |SUCCESS| [GIT MASTER] 7ce7d3341d7e21c2a81f2fea8e451681d7306d77 From: dpdklab@iol.unh.edu To: Test Report Cc: dpdk-test-reports@iol.unh.edu, Xueming Li , Christian Ehrhardt , Kevin Traynor , Luca Boccassi Content-Type: text/plain X-BeenThere: test-report@dpdk.org X-Mailman-Version: 2.1.29 Precedence: list List-Id: automatic DPDK test reports List-Unsubscribe: , List-Archive: List-Post: List-Help: List-Subscribe: , Errors-To: test-report-bounces@dpdk.org _Testing PASS_ Branch: tags/v22.11 7ce7d3341d7e21c2a81f2fea8e451681d7306d77 --> testing pass Upstream job id: Generic-DPDK-Compile-ABI#114659 Test environment and result as below: +-------------------+----------+ | Environment | abi_test | +===================+==========+ | Fedora 40 (Clang) | PASS | +-------------------+----------+ | Fedora 40 | PASS | +-------------------+----------+ | Debian Bullseye | PASS | +-------------------+----------+ | Fedora 41 (Clang) | PASS | +-------------------+----------+ | Debian 12 | PASS | +-------------------+----------+ | CentOS Stream 9 | PASS | +-------------------+----------+ | RHEL8 | PASS | +-------------------+----------+ | openSUSE Leap 15 | PASS | +-------------------+----------+ | RHEL9 | PASS | +-------------------+----------+ | Fedora 41 | PASS | +-------------------+----------+ | Ubuntu 22.04 | PASS | +-------------------+----------+ | Ubuntu 24.04 | PASS | +-------------------+----------+ Fedora 40 (Clang) Kernel: Depends on container host Compiler: clang 18.1.8 (Fedora 18.1.8-1.fc40) Fedora 40 Kernel: Depends on container host Compiler: gcc 14.2.1 20240912 (Red Hat 14.2.1-3) Debian Bullseye Kernel: Depends on container host Compiler: gcc (Debian 10.2.1-6) 10.2.1 20210110 Fedora 41 (Clang) Kernel: Depends on container host Compiler: clang 19.1.5 (Fedora 19.1.5-1.fc41) Debian 12 Kernel: Depends on container host Compiler: gcc (Debian 12.2.0-14) 12.2.0 CentOS Stream 9 Kernel: Depends on container host Compiler: gcc 11.5.0 20240719 (Red Hat 11.5.0-2) RHEL8 Kernel: Depends on container host Compiler: gcc 8.5.0 20210514 (Red Hat 8.5.0-22) openSUSE Leap 15 Kernel: Depends on container host Compiler: gcc (SUSE Linux) 7.5.0 RHEL9 Kernel: Depends on container host Compiler: gcc 11.5.0 20240719 (Red Hat 11.5.0-2) Fedora 41 Kernel: Depends on container host Compiler: gcc 14.2.1 20240912 (Red Hat 14.2.1-3) Ubuntu 22.04 Kernel: Depends on container host Compiler: gcc (Ubuntu 11.4.0-1ubuntu1~22.04) 11.4.0 Ubuntu 24.04 Kernel: Depends on container host Compiler: gcc (Ubuntu 13.3.0-6ubuntu2~24.04) 13.3.0 To view detailed results, visit: https://lab.dpdk.org/results/dashboard/tarballs/32432/ UNH-IOL DPDK Community Lab To manage your email subscriptions, visit: https://lab.dpdk.org/results/dashboard/preferences/subscriptions/