From mboxrd@z Thu Jan 1 00:00:00 1970 Return-Path: Received: from mails.dpdk.org (mails.dpdk.org [217.70.189.124]) by inbox.dpdk.org (Postfix) with ESMTP id C281F4618A for ; Tue, 4 Feb 2025 08:53:21 +0100 (CET) Received: from mails.dpdk.org (localhost [127.0.0.1]) by mails.dpdk.org (Postfix) with ESMTP id 9AD68400D6; Tue, 4 Feb 2025 08:53:21 +0100 (CET) Received: from mail-yw1-f225.google.com (mail-yw1-f225.google.com [209.85.128.225]) by mails.dpdk.org (Postfix) with ESMTP id 09FA04003C for ; Tue, 4 Feb 2025 08:53:20 +0100 (CET) Received: by mail-yw1-f225.google.com with SMTP id 00721157ae682-6f4b266d333so35912267b3.2 for ; Mon, 03 Feb 2025 23:53:19 -0800 (PST) DKIM-Signature: v=1; a=rsa-sha256; c=relaxed/relaxed; d=iol.unh.edu; s=unh-iol; t=1738655599; x=1739260399; darn=dpdk.org; h=cc:to:from:subject:message-id:date:from:to:cc:subject:date :message-id:reply-to; bh=whVQF/bxcpIajeHk+zgYbdNJJMn+dMoO/G/dEJ6Oyew=; b=d62qRT+IN3AIl4N96wFxhN3sP+Qwj2ccuyRgCtZiZqtZYMg9GLAU+oi0kiYtdHr3xQ hz4inf7WzeU52OiP8HfNLYH9JpLwol+Lk2MSDpwgHDprOfoE72a4D64pmGQlN2rHA3Yf BUCI40Bfx1B1KotrwryKtJOLgt5eogIm236qM= X-Google-DKIM-Signature: v=1; a=rsa-sha256; c=relaxed/relaxed; d=1e100.net; s=20230601; t=1738655599; x=1739260399; h=cc:to:from:subject:message-id:date:x-gm-message-state:from:to:cc :subject:date:message-id:reply-to; bh=whVQF/bxcpIajeHk+zgYbdNJJMn+dMoO/G/dEJ6Oyew=; b=FvLpbUbei4MpU7ZcZPOX7Hevd8rdkAXjkaKNpAsgYVY3fwGn6dlrHf5gTls4Nl2bTx Ew8+E8+nv/Vbfs5jQcnbEkreWsD1LVrk+Y4KxnBLT4eNKaXpp6h6qR2jqHZR/lpSoZL9 qeFr1zT/4TXXfPxnw1FMpU0jEZ8GzQQmq3cEnDUa0MC1Y78rSwiGzhHY/AsVTAbLeSCs 9wVwO8m4EjELP4s6P2MOAi3DomBqiguuWs4WIPVpjK0WuiTUY1Kf0cGwTAUeeZ+KaFKh Z7oYVkwlMHO+I+qMm9rI9frRz8c+WAP2A7fitEqlzsUBjYfBBZ7eS122lprYVebjtypT XxJQ== X-Gm-Message-State: AOJu0YxsvVyCn5/d3YDPlKAGfY+JIuNGpahoDn1UhXcjoCxyzxO0wxjD G3kfQ+OctJxE3oF6K/WP32v5hT3ozy6b0V36xrwYvNOeqzFMWGC98aK+PSuJvKNXx/17yeB4Hp1 bqT7XcdSKTAtX/9DQzWAZC4Rez528DQSWoC5p+axjg1TmNnKP X-Gm-Gg: ASbGnct/7bnR5uzNfYFbTl4PraYR5igjr83EhDKd5JkPOqzayteJNBwBqsL8TYJ6Pt4 rwsP3jyCHKKAgsQG6BZT8sc89+Mk0Bh/+jHP4VZYSvKst0hslDRELOYnmgqkMXhwoE6rj/kqCXU uNztmUcA+A8WQ8UdtphQcDdDiUsb2JJH+h6kifbJNTHeB4biuGrQfHuDdgp47VC6p4XHSu22qcm hZMiqj1t/ovxLKnoN48a+VGidYQpdCLtChkWPRGYeQ9tLHyaIoQCsVKSQ81NaM81N2eswRy76zo f39QqNNCaIUrI+sAN23bC0/kl7G3m/xOt1WffXCpYw== X-Google-Smtp-Source: AGHT+IGyPkoGjs96dyFX+kCvaY19mJwz2R83lZkefOEEWmOGZ8GVHHhu5F7wP3+77o4xd51JlQmKr5SuI/Jm X-Received: by 2002:a05:690c:6482:b0:6ef:96f9:2f48 with SMTP id 00721157ae682-6f7a8447dd1mr210089147b3.37.1738655599273; Mon, 03 Feb 2025 23:53:19 -0800 (PST) Received: from postal.iol.unh.edu (postal.iol.unh.edu. [2606:4100:3880:1234::84]) by smtp-relay.gmail.com with ESMTPS id 00721157ae682-6f8c4885469sm5401187b3.47.2025.02.03.23.53.19 (version=TLS1_2 cipher=ECDHE-ECDSA-AES128-GCM-SHA256 bits=128/128); Mon, 03 Feb 2025 23:53:19 -0800 (PST) X-Relaying-Domain: iol.unh.edu Date: Mon, 03 Feb 2025 23:53:19 -0800 (PST) Message-ID: <67a1c76f.050a0220.345354.75a2SMTPIN_ADDED_MISSING@mx.google.com> Received: from [172.21.0.6] (unknown [172.18.0.240]) by postal.iol.unh.edu (Postfix) with ESMTP id DD5FB6052471; Tue, 4 Feb 2025 02:53:18 -0500 (EST) Subject: |SUCCESS| [GIT MASTER] f2eea2f37a82bb73fb01d56350708f7d70e21379 From: dpdklab@iol.unh.edu To: Test Report Cc: dpdk-test-reports@iol.unh.edu, Xueming Li , Christian Ehrhardt , Kevin Traynor , Luca Boccassi Content-Type: text/plain X-BeenThere: test-report@dpdk.org X-Mailman-Version: 2.1.29 Precedence: list List-Id: automatic DPDK test reports List-Unsubscribe: , List-Archive: List-Post: List-Help: List-Subscribe: , Errors-To: test-report-bounces@dpdk.org _Testing PASS_ Branch: tags/v24.11 f2eea2f37a82bb73fb01d56350708f7d70e21379 --> testing pass Upstream job id: Generic-DPDK-Compile-Meson#357455 Test environment and result as below: +---------------------+--------------------+------------------+-------------------+-------------------+----------------------+ | Environment | dpdk_meson_compile | dpdk_compile_ovs | dpdk_compile_spdk | dpdk_msvc_compile | dpdk_mingw64_compile | +=====================+====================+==================+===================+===================+======================+ | Debian Bullseye | PASS | PASS | PASS | SKIPPED | SKIPPED | +---------------------+--------------------+------------------+-------------------+-------------------+----------------------+ | CentOS Stream 9 | PASS | PASS | PASS | SKIPPED | SKIPPED | +---------------------+--------------------+------------------+-------------------+-------------------+----------------------+ | Debian 12 | PASS | PASS | PASS | SKIPPED | SKIPPED | +---------------------+--------------------+------------------+-------------------+-------------------+----------------------+ | Fedora 40 (Clang) | PASS | PASS | PASS | SKIPPED | SKIPPED | +---------------------+--------------------+------------------+-------------------+-------------------+----------------------+ | Fedora 41 (Clang) | PASS | PASS | PASS | SKIPPED | SKIPPED | +---------------------+--------------------+------------------+-------------------+-------------------+----------------------+ | openSUSE Leap 15 | PASS | SKIPPED | SKIPPED | SKIPPED | SKIPPED | +---------------------+--------------------+------------------+-------------------+-------------------+----------------------+ | Fedora 41 | PASS | PASS | PASS | SKIPPED | SKIPPED | +---------------------+--------------------+------------------+-------------------+-------------------+----------------------+ | RHEL8 | PASS | PASS | SKIPPED | SKIPPED | SKIPPED | +---------------------+--------------------+------------------+-------------------+-------------------+----------------------+ | RHEL9 | PASS | PASS | SKIPPED | SKIPPED | SKIPPED | +---------------------+--------------------+------------------+-------------------+-------------------+----------------------+ | Ubuntu 20.04 | PASS | SKIPPED | SKIPPED | SKIPPED | SKIPPED | +---------------------+--------------------+------------------+-------------------+-------------------+----------------------+ | Ubuntu 22.04 | PASS | PASS | PASS | SKIPPED | SKIPPED | +---------------------+--------------------+------------------+-------------------+-------------------+----------------------+ | FreeBSD 13.4 | PASS | SKIPPED | SKIPPED | SKIPPED | SKIPPED | +---------------------+--------------------+------------------+-------------------+-------------------+----------------------+ | Ubuntu 24.04 | PASS | PASS | PASS | SKIPPED | SKIPPED | +---------------------+--------------------+------------------+-------------------+-------------------+----------------------+ | Alpine | PASS | PASS | SKIPPED | SKIPPED | SKIPPED | +---------------------+--------------------+------------------+-------------------+-------------------+----------------------+ | FreeBSD 14.2 | PASS | SKIPPED | SKIPPED | SKIPPED | SKIPPED | +---------------------+--------------------+------------------+-------------------+-------------------+----------------------+ | Fedora 40 | PASS | PASS | PASS | SKIPPED | SKIPPED | +---------------------+--------------------+------------------+-------------------+-------------------+----------------------+ | Windows Server 2022 | SKIPPED | SKIPPED | SKIPPED | PASS | PASS | +---------------------+--------------------+------------------+-------------------+-------------------+----------------------+ Debian Bullseye Kernel: Depends on container host Compiler: gcc (Debian 10.2.1-6) 10.2.1 20210110 CentOS Stream 9 Kernel: Depends on container host Compiler: gcc 11.5.0 20240719 (Red Hat 11.5.0-2) Debian 12 Kernel: Depends on container host Compiler: gcc (Debian 12.2.0-14) 12.2.0 Fedora 40 (Clang) Kernel: Depends on container host Compiler: clang 18.1.8 (Fedora 18.1.8-1.fc40) Fedora 41 (Clang) Kernel: Depends on container host Compiler: clang 19.1.5 (Fedora 19.1.5-1.fc41) openSUSE Leap 15 Kernel: Depends on container host Compiler: gcc (SUSE Linux) 7.5.0 Fedora 41 Kernel: Depends on container host Compiler: gcc 14.2.1 20240912 (Red Hat 14.2.1-3) RHEL8 Kernel: Depends on container host Compiler: gcc 8.5.0 20210514 (Red Hat 8.5.0-22) RHEL9 Kernel: Depends on container host Compiler: gcc 11.5.0 20240719 (Red Hat 11.5.0-2) Ubuntu 20.04 Kernel: Depends on container host Compiler: gcc (Ubuntu 9.4.0-1ubuntu1~20.04.2) 9.4.0 Ubuntu 22.04 Kernel: Depends on container host Compiler: gcc (Ubuntu 11.4.0-1ubuntu1~22.04) 11.4.0 FreeBSD 13.4 Kernel: 13.4-RELEASE-p1 Compiler: clang 18.1.6 Ubuntu 24.04 Kernel: Depends on container host Compiler: gcc (Ubuntu 13.3.0-6ubuntu2~24.04) 13.3.0 Alpine Kernel: Depends on container host Compiler: gcc (Alpine 14.2.0) 14.2.0 FreeBSD 14.2 Kernel: 14.2-RELEASE Compiler: clang 18.1.6 Fedora 40 Kernel: Depends on container host Compiler: gcc 14.2.1 20240912 (Red Hat 14.2.1-3) Windows Server 2022 Kernel: 10.0.20348.2031 Compiler: clang 15.0.7, gcc 14.1.0 (MinGW), and MSVC VS 19.39.33521 To view detailed results, visit: https://lab.dpdk.org/results/dashboard/tarballs/32430/ UNH-IOL DPDK Community Lab To manage your email subscriptions, visit: https://lab.dpdk.org/results/dashboard/preferences/subscriptions/