From mboxrd@z Thu Jan 1 00:00:00 1970 Return-Path: Received: from mails.dpdk.org (mails.dpdk.org [217.70.189.124]) by inbox.dpdk.org (Postfix) with ESMTP id 4219D4618A for ; Tue, 4 Feb 2025 09:49:15 +0100 (CET) Received: from mails.dpdk.org (localhost [127.0.0.1]) by mails.dpdk.org (Postfix) with ESMTP id 23A2740661; Tue, 4 Feb 2025 09:49:15 +0100 (CET) Received: from mail-oa1-f97.google.com (mail-oa1-f97.google.com [209.85.160.97]) by mails.dpdk.org (Postfix) with ESMTP id CFB1240265 for ; Tue, 4 Feb 2025 09:49:13 +0100 (CET) Received: by mail-oa1-f97.google.com with SMTP id 586e51a60fabf-2a7ccb2c618so2959541fac.2 for ; Tue, 04 Feb 2025 00:49:13 -0800 (PST) DKIM-Signature: v=1; a=rsa-sha256; c=relaxed/relaxed; d=iol.unh.edu; s=unh-iol; t=1738658953; x=1739263753; darn=dpdk.org; h=cc:to:from:subject:message-id:date:from:to:cc:subject:date :message-id:reply-to; bh=BIYDeSk1a/Dq5kyygGCpTtz2AwNH6CKmuX96VAuc0lQ=; b=HK52j1XBRxhsr2dDMqQQczRWtFnCH9lQ70BQbYzg3GDJJW/Enrqhq+0c5u74EpdLuJ 0C237iAvdDOiQS2cFS0q1vkcCt930KubOEBk8OlBGbZBE3JPvdfdKOYe+jq2iggW3GsB kA/Tq4vrFcsNhQXjlVNHbzyG0r9/CB878iOb4= X-Google-DKIM-Signature: v=1; a=rsa-sha256; c=relaxed/relaxed; d=1e100.net; s=20230601; t=1738658953; x=1739263753; h=cc:to:from:subject:message-id:date:x-gm-message-state:from:to:cc :subject:date:message-id:reply-to; bh=BIYDeSk1a/Dq5kyygGCpTtz2AwNH6CKmuX96VAuc0lQ=; b=pZSZiDH4cvzVayING1241QHDPI4F7MBvGXuLWr7qzVMdgvw9usVJnI1Vc8G09IJcn0 aqh7auo75IoOvhvloLNyBy7Kp9YqNXgOnYVpLgiitXoSfmq2rNn93aW/Qm1VOEtYgsUY OotgUNoP1fM5nfqPvkE+0HM+11RZPObUvtCi6Ir/Yu/J2dfNnsjshGp+BETaOhmgX/Zg +1BdIvCOgOg5kCiuRs3ZMhR19UpcLxLJEKB1Oqm1aEgQKRDZa0/s1aQrrS9Q5c9Yktdw NBTTmI55TBN+Naor+eUhS2st1EQc4/13N6obFw/rLMs5JGbw3tPXFRYpJz33DefbDShg Ab0A== X-Gm-Message-State: AOJu0YygVj9BNiuOtr4b/U2EssWhd7pygkt/Eipb5q/CAehfzjR7vKKS vmoqoXy0YkuQdg4SjtCEHQr/9MxI8D4C5VlW9piZiVOexpJliR6wZrlzDPokuPRJLIC5YoLk25G sLmgbNJo03WZt60bvXFjKC6y0fw+JleBnHs5O2GSEMZTsJNFk X-Gm-Gg: ASbGncuZAZ6k9ONOjDIrV0889BEbt2M71NyhxIA25lKjBin6hEsDiCJjFGk21hcQuih 6EXF2QMKKmVrb2XDLaBVAjop3PZ/1/a3XTJmCZwAFYeV1mk6UeJX9prwGB76ItjGnUZ8NOLoMd6 xXG85aS58vAuc3dA6WGSrs2i5zirnT+BoEM2N3on6CC60R/43ao0tO/ZHZEN0CjcKaQIth8jf33 VGRUPetT9jUNZTT+bu8W8mp6TuOTr6VabTkEwnpLE8EgwNappUaadw/4I4eMSaiVrJ7uzE5kT57 tGBuJm/LM060LjVD5/xRrqipegltQk5WYV2IU14CPg== X-Google-Smtp-Source: AGHT+IGqDDm9wosOXyKkNJ+IEuebsH6jOfHgjomxv+SDTkMpqfCy+8AX5Z3++P6cIZDaxEq0bn+ZRQO+LsyK X-Received: by 2002:a05:6871:a9cc:b0:29e:5897:e9ed with SMTP id 586e51a60fabf-2b32f304045mr16686738fac.35.1738658952881; Tue, 04 Feb 2025 00:49:12 -0800 (PST) Received: from postal.iol.unh.edu (postal.iol.unh.edu. [2606:4100:3880:1234::84]) by smtp-relay.gmail.com with ESMTPS id 586e51a60fabf-2b356649beesm784315fac.35.2025.02.04.00.49.12 (version=TLS1_2 cipher=ECDHE-ECDSA-AES128-GCM-SHA256 bits=128/128); Tue, 04 Feb 2025 00:49:12 -0800 (PST) X-Relaying-Domain: iol.unh.edu Date: Tue, 04 Feb 2025 00:49:12 -0800 (PST) Message-ID: <67a1d488.050a0220.1b226b.50c5SMTPIN_ADDED_MISSING@mx.google.com> Received: from [172.21.0.5] (unknown [172.18.0.240]) by postal.iol.unh.edu (Postfix) with ESMTP id 4AED26052471; Tue, 4 Feb 2025 03:49:12 -0500 (EST) Subject: |SUCCESS| [GIT MASTER] 7ce7d3341d7e21c2a81f2fea8e451681d7306d77 From: dpdklab@iol.unh.edu To: Test Report Cc: dpdk-test-reports@iol.unh.edu, Xueming Li , Christian Ehrhardt , Kevin Traynor , Luca Boccassi Content-Type: text/plain X-BeenThere: test-report@dpdk.org X-Mailman-Version: 2.1.29 Precedence: list List-Id: automatic DPDK test reports List-Unsubscribe: , List-Archive: List-Post: List-Help: List-Subscribe: , Errors-To: test-report-bounces@dpdk.org _Testing PASS_ Branch: tags/v22.11 7ce7d3341d7e21c2a81f2fea8e451681d7306d77 --> testing pass Upstream job id: Generic-DPDK-Compile-Meson#357490 Test environment and result as below: +---------------------+--------------------+----------------------+ | Environment | dpdk_meson_compile | dpdk_mingw64_compile | +=====================+====================+======================+ | CentOS Stream 9 | PASS | SKIPPED | +---------------------+--------------------+----------------------+ | Debian Bullseye | PASS | SKIPPED | +---------------------+--------------------+----------------------+ | Debian 12 | PASS | SKIPPED | +---------------------+--------------------+----------------------+ | Fedora 40 (Clang) | PASS | SKIPPED | +---------------------+--------------------+----------------------+ | RHEL8 | PASS | SKIPPED | +---------------------+--------------------+----------------------+ | openSUSE Leap 15 | PASS | SKIPPED | +---------------------+--------------------+----------------------+ | Fedora 41 | PASS | SKIPPED | +---------------------+--------------------+----------------------+ | Fedora 40 | PASS | SKIPPED | +---------------------+--------------------+----------------------+ | RHEL9 | PASS | SKIPPED | +---------------------+--------------------+----------------------+ | Fedora 41 (Clang) | PASS | SKIPPED | +---------------------+--------------------+----------------------+ | Ubuntu 20.04 | PASS | SKIPPED | +---------------------+--------------------+----------------------+ | Ubuntu 22.04 | PASS | SKIPPED | +---------------------+--------------------+----------------------+ | Ubuntu 24.04 | PASS | SKIPPED | +---------------------+--------------------+----------------------+ | FreeBSD 13.4 | PASS | SKIPPED | +---------------------+--------------------+----------------------+ | FreeBSD 14.2 | PASS | SKIPPED | +---------------------+--------------------+----------------------+ | Windows Server 2022 | SKIPPED | PASS | +---------------------+--------------------+----------------------+ CentOS Stream 9 Kernel: Depends on container host Compiler: gcc 11.5.0 20240719 (Red Hat 11.5.0-2) Debian Bullseye Kernel: Depends on container host Compiler: gcc (Debian 10.2.1-6) 10.2.1 20210110 Debian 12 Kernel: Depends on container host Compiler: gcc (Debian 12.2.0-14) 12.2.0 Fedora 40 (Clang) Kernel: Depends on container host Compiler: clang 18.1.8 (Fedora 18.1.8-1.fc40) RHEL8 Kernel: Depends on container host Compiler: gcc 8.5.0 20210514 (Red Hat 8.5.0-22) openSUSE Leap 15 Kernel: Depends on container host Compiler: gcc (SUSE Linux) 7.5.0 Fedora 41 Kernel: Depends on container host Compiler: gcc 14.2.1 20240912 (Red Hat 14.2.1-3) Fedora 40 Kernel: Depends on container host Compiler: gcc 14.2.1 20240912 (Red Hat 14.2.1-3) RHEL9 Kernel: Depends on container host Compiler: gcc 11.5.0 20240719 (Red Hat 11.5.0-2) Fedora 41 (Clang) Kernel: Depends on container host Compiler: clang 19.1.5 (Fedora 19.1.5-1.fc41) Ubuntu 20.04 Kernel: Depends on container host Compiler: gcc (Ubuntu 9.4.0-1ubuntu1~20.04.2) 9.4.0 Ubuntu 22.04 Kernel: Depends on container host Compiler: gcc (Ubuntu 11.4.0-1ubuntu1~22.04) 11.4.0 Ubuntu 24.04 Kernel: Depends on container host Compiler: gcc (Ubuntu 13.3.0-6ubuntu2~24.04) 13.3.0 FreeBSD 13.4 Kernel: 13.4-RELEASE-p1 Compiler: clang 18.1.6 FreeBSD 14.2 Kernel: 14.2-RELEASE Compiler: clang 18.1.6 Windows Server 2022 Kernel: 10.0.20348.2031 Compiler: clang 15.0.7, gcc 14.1.0 (MinGW), and MSVC VS 19.39.33521 To view detailed results, visit: https://lab.dpdk.org/results/dashboard/tarballs/32432/ UNH-IOL DPDK Community Lab To manage your email subscriptions, visit: https://lab.dpdk.org/results/dashboard/preferences/subscriptions/