From mboxrd@z Thu Jan 1 00:00:00 1970 Return-Path: Received: from mails.dpdk.org (mails.dpdk.org [217.70.189.124]) by inbox.dpdk.org (Postfix) with ESMTP id 955714618A for ; Tue, 4 Feb 2025 09:59:51 +0100 (CET) Received: from mails.dpdk.org (localhost [127.0.0.1]) by mails.dpdk.org (Postfix) with ESMTP id 5AC5940661; Tue, 4 Feb 2025 09:59:51 +0100 (CET) Received: from mail-pj1-f99.google.com (mail-pj1-f99.google.com [209.85.216.99]) by mails.dpdk.org (Postfix) with ESMTP id B127D40265 for ; Tue, 4 Feb 2025 09:59:49 +0100 (CET) Received: by mail-pj1-f99.google.com with SMTP id 98e67ed59e1d1-2f78a4ca5deso6873497a91.0 for ; Tue, 04 Feb 2025 00:59:49 -0800 (PST) DKIM-Signature: v=1; a=rsa-sha256; c=relaxed/relaxed; d=iol.unh.edu; s=unh-iol; t=1738659589; x=1739264389; darn=dpdk.org; h=cc:to:from:subject:message-id:date:from:to:cc:subject:date :message-id:reply-to; bh=JW7FtKPJrDLXesYY8Le1E+uDa+/0RjgEEb2uPrDX+88=; b=EHpl4ja4V8v8tcurBuMErzfbncjHL/Y6JMjvHpP260jhuFi3D4BKd61MPvu+uTzQ4x T758nJlRiLKSBnkg9Br7E2V/X3PsX73d/trfePUTJasiLMCaD8KKd+KRjDKy7nLQn0/p i2R3OhDbyztl439S6yFISE0LzyrSaAThUCDa8= X-Google-DKIM-Signature: v=1; a=rsa-sha256; c=relaxed/relaxed; d=1e100.net; s=20230601; t=1738659589; x=1739264389; h=cc:to:from:subject:message-id:date:x-gm-message-state:from:to:cc :subject:date:message-id:reply-to; bh=JW7FtKPJrDLXesYY8Le1E+uDa+/0RjgEEb2uPrDX+88=; b=HlXXndAPdE6uaFJ9sjyeQWLP5TSh2rgGxtRX7SOu2FV4wNNL5YhJdFMeLxN1vxfTK4 7O+TeCvUtXdHmrHHous/PMA+/D5RAMXXLTCPHaoN2wwvyQSAvBSK1XODNs2u5GWlsguf PYFqnJGs7I8JkbRCl0kZAfai8boICdViSFEvcJgIfF8wgyMY3mzJXHZsqbWT/+0WY3tO pcOZ5dgIzBocAqLCDXenzqbKFAhFQ2DjJiOiuLtLRicu3ZrGZD5Hr4d+Tp05RydXcIMk NCKkNcOohOozV+sJXvUNGUQpvMAdgpinmDh0WjO7bMkihSPLappMjuhKeOFvucqcCJJY +zVg== X-Gm-Message-State: AOJu0YzlF+BKfuPzcSpFbcqKF1IeHL1P9ghtfxKFhCYlidT63KvV8Oat vvkxoS1NKIfGBRUfYtMJVyBxHzrAwWxi5oP1CfX3UCKlpuhbrW0l3NuROUhmKjYJ4sK0qUQos0k GyVgB/kF7nDdVEd+vyplGKVN4zj9iwnGYb2EaOc/Fs6y6BZfa X-Gm-Gg: ASbGncsIIjaQOtx+cpFOMdHyYwW22I0pfRUULkBAjjAmZLP+vkyhoM5ZzVEfMVFOEnR ytwHp1EltG6y3Y/rLMji1cUYrsvNydGvLhU22RQ3WKYqbQwiPFUeSYHegyhLqibz+Gzlj4h4ohN y3HYXJU7IMRJL6JJgatZnw0cxYvTZydIWaMQozfevucLTE2k+Wfr7iNSg1rILk9FVhlfVEHD24S 0GYxAbPNrQeVHTalzDJvxmaUQuwimV+4K5i5IrGI84MKIaw53jNhaaIuj3HyBiAxf35NzZ5T2qh qpoBmn6Rx1+P/wI77UV2wqnCVYSyJZ6Xt2u4L/mrdQ== X-Google-Smtp-Source: AGHT+IEu9UwU5Sv0QPJ8zJ0yvCWFLZEuc2nhoYz3UnxS/XlkT7mgJZ2I1H3tCgOPHCvx904Di7gfDtqpTvmJ X-Received: by 2002:a17:90b:544f:b0:2f6:d266:f461 with SMTP id 98e67ed59e1d1-2f83ac8a0acmr36352039a91.30.1738659588698; Tue, 04 Feb 2025 00:59:48 -0800 (PST) Received: from postal.iol.unh.edu (postal.iol.unh.edu. [2606:4100:3880:1234::84]) by smtp-relay.gmail.com with ESMTPS id d9443c01a7336-21de321a7e3sm4966825ad.13.2025.02.04.00.59.48 (version=TLS1_2 cipher=ECDHE-ECDSA-AES128-GCM-SHA256 bits=128/128); Tue, 04 Feb 2025 00:59:48 -0800 (PST) X-Relaying-Domain: iol.unh.edu Date: Tue, 04 Feb 2025 00:59:48 -0800 (PST) Message-ID: <67a1d704.170a0220.11777b.5999SMTPIN_ADDED_MISSING@mx.google.com> Received: from [172.21.0.5] (unknown [172.18.0.240]) by postal.iol.unh.edu (Postfix) with ESMTP id 7937F6052471; Tue, 4 Feb 2025 03:59:47 -0500 (EST) Subject: |SUCCESS| [GIT MASTER] f2eea2f37a82bb73fb01d56350708f7d70e21379 From: dpdklab@iol.unh.edu To: Test Report Cc: dpdk-test-reports@iol.unh.edu, Xueming Li , Christian Ehrhardt , Kevin Traynor , Luca Boccassi Content-Type: text/plain X-BeenThere: test-report@dpdk.org X-Mailman-Version: 2.1.29 Precedence: list List-Id: automatic DPDK test reports List-Unsubscribe: , List-Archive: List-Post: List-Help: List-Subscribe: , Errors-To: test-report-bounces@dpdk.org _Testing PASS_ Branch: tags/v24.11 f2eea2f37a82bb73fb01d56350708f7d70e21379 --> testing pass Upstream job id: Generic-DPDK-Compile-Meson#357472 Test environment and result as below: +------------------------------------+--------------------+ | Environment | dpdk_meson_compile | +====================================+====================+ | RHEL9 (ARM) | PASS | +------------------------------------+--------------------+ | Ubuntu 20.04 ARM GCC Cross Compile | PASS | +------------------------------------+--------------------+ | Fedora 41 (ARM Clang) | PASS | +------------------------------------+--------------------+ | Ubuntu 20.04 ARM SVE | PASS | +------------------------------------+--------------------+ | Ubuntu 20.04 (ARM) | PASS | +------------------------------------+--------------------+ | Fedora 40 (ARM Clang) | PASS | +------------------------------------+--------------------+ | Fedora 40 (ARM) | PASS | +------------------------------------+--------------------+ | Debian 12 with MUSDK | PASS | +------------------------------------+--------------------+ | Ubuntu 24.04 (ARM) | PASS | +------------------------------------+--------------------+ | CentOS Stream 9 (ARM) | PASS | +------------------------------------+--------------------+ | Ubuntu 22.04 (ARM) | PASS | +------------------------------------+--------------------+ | Debian 12 (arm) | PASS | +------------------------------------+--------------------+ | Debian 11 (Buster) (ARM) | PASS | +------------------------------------+--------------------+ | Fedora 41 (ARM) | PASS | +------------------------------------+--------------------+ RHEL9 (ARM) Kernel: Depends on container host Compiler: gcc 11.5.0 20240719 (Red Hat 11.5.0-2) Ubuntu 20.04 ARM GCC Cross Compile Kernel: Depends on container host Compiler: aarch64-linux-gnu-gcc (Ubuntu 9.4.0-1ubuntu1~20.04.2) 9.4.0 Fedora 41 (ARM Clang) Kernel: Depends on container host Compiler: clang 19.1.5 (Fedora 19.1.5-1.fc41) Ubuntu 20.04 ARM SVE Kernel: Depends on container host Compiler: gcc (Ubuntu 10.5.0-1ubuntu1~20.04) 10.5.0 Ubuntu 20.04 (ARM) Kernel: Depends on container host Compiler: gcc (Ubuntu 9.4.0-1ubuntu1~20.04.2) 9.4.0 Fedora 40 (ARM Clang) Kernel: Depends on container host Compiler: clang 18.1.8 (Fedora 18.1.8-1.fc40) Fedora 40 (ARM) Kernel: Depends on container host Compiler: gcc 14.2.1 20240912 (Red Hat 14.2.1-3) Debian 12 with MUSDK Kernel: Depends on container host Compiler: gcc (Debian 12.2.0-14) 12.2.0 Ubuntu 24.04 (ARM) Kernel: Depends on container host Compiler: gcc (Ubuntu 13.3.0-6ubuntu2~24.04) 13.3.0 CentOS Stream 9 (ARM) Kernel: Depends on container host Compiler: gcc 11.5.0 20240719 (Red Hat 11.5.0-2) Ubuntu 22.04 (ARM) Kernel: Depends on container host Compiler: gcc (Ubuntu 11.4.0-1ubuntu1~22.04) 11.4.0 Debian 12 (arm) Kernel: Depends on container host Compiler: gcc (Debian 12.2.0-14) 12.2.0 Debian 11 (Buster) (ARM) Kernel: Depends on container host Compiler: gcc (Debian 10.2.1-6) 10.2.1 20210110 Fedora 41 (ARM) Kernel: Depends on container host Compiler: gcc 14.2.1 20240912 (Red Hat 14.2.1-3) To view detailed results, visit: https://lab.dpdk.org/results/dashboard/tarballs/32430/ UNH-IOL DPDK Community Lab To manage your email subscriptions, visit: https://lab.dpdk.org/results/dashboard/preferences/subscriptions/