From mboxrd@z Thu Jan 1 00:00:00 1970 Return-Path: Received: from mails.dpdk.org (mails.dpdk.org [217.70.189.124]) by inbox.dpdk.org (Postfix) with ESMTP id CAFC54618C for ; Tue, 4 Feb 2025 10:01:56 +0100 (CET) Received: from mails.dpdk.org (localhost [127.0.0.1]) by mails.dpdk.org (Postfix) with ESMTP id ACFFE40661; Tue, 4 Feb 2025 10:01:56 +0100 (CET) Received: from mail-qt1-f228.google.com (mail-qt1-f228.google.com [209.85.160.228]) by mails.dpdk.org (Postfix) with ESMTP id B687540265 for ; Tue, 4 Feb 2025 10:01:55 +0100 (CET) Received: by mail-qt1-f228.google.com with SMTP id d75a77b69052e-467a3f1e667so34954461cf.0 for ; Tue, 04 Feb 2025 01:01:55 -0800 (PST) DKIM-Signature: v=1; a=rsa-sha256; c=relaxed/relaxed; d=iol.unh.edu; s=unh-iol; t=1738659715; x=1739264515; darn=dpdk.org; h=cc:to:from:subject:message-id:date:from:to:cc:subject:date :message-id:reply-to; bh=SCHuyD5jr6feWaki1/Fh+WpKHmy4+Luu0aCTpXwB8qg=; b=GJ4wPewbvmqJ/LLsYmzA7nQuv6pp5JeAWYUUKi7qhfmvR2lUR9K0MKgri5Z1/A8SVE SBNUtuJ/sjRBzTlHojxjZIAEC8Jr+lr9qtpt9i9Jus0ZXNNQJk+199TKfz5W75o7FwTt xB5HXVJSioxb1d+GG2yD4WphO/sEHvP9ymCo8= X-Google-DKIM-Signature: v=1; a=rsa-sha256; c=relaxed/relaxed; d=1e100.net; s=20230601; t=1738659715; x=1739264515; h=cc:to:from:subject:message-id:date:x-gm-message-state:from:to:cc :subject:date:message-id:reply-to; bh=SCHuyD5jr6feWaki1/Fh+WpKHmy4+Luu0aCTpXwB8qg=; b=e/bkt/8SQNZsTlqhdQcMntM7DAA/vpWUux0ZxnHqzNXSDY3zjYnzyankXzcne31Lpw jvoC3070iJ23YVDC/i/cKBowNkI9aCfI5LC24fHH5L+QyX2j4QgeM/E5QtgzUev4Vk79 4uFuxThrVwTcV4316qmTQiKksOT1zXUorgetUJnexqk86OTmhWnz0e8I8c0ejYMks+pJ 0014rxg+voIhBoU7aGOl6laE757tijotnPIA+1U+BikSXEBoUNZj9+nitSulrOAUZEj4 r5/7dFagW3Uo+Jtg2+Q3yVluprHZTGYg60/jgwrwVLSn3jGuaWC+2j+4mgU6vkuqAaK6 guBw== X-Gm-Message-State: AOJu0YxinvN2sVs+arEZX4YfRV1869HVysrmvDZwpFHbPGm4HZS3oMtw mVWKpHywqDmWIwig4nPARWZyko8B7sQW2Kd6eFoDfSxdwbVq3k67aP5QkhqxhSqrtCqL/1YH4zh 8775AFqWPnud+1vCMI5o4l/Ey8nvCly3rk6Nl9qx0fKYQqfn5 X-Gm-Gg: ASbGnctR/OBIsiDAQWUk6lb0r86cgJ6j2SLSeleepDffn7yzVJTbpsC8wJi9FPVX/zr Q/fFtN2KR7F3zZn+7HiiULMYWqWkZydKQJyKhdpaNpuo+/+/pYopzXdWADZlIQoP5YvXtC3HFKP JwG0B8nsx8tXteDP2nWqsB76rMWmk6IQDqWuXhXIDc3MT2v1sAdjyMpG5/wdJVVD+8fgrNc0Mo3 I+41kWr5aVz3HmU138n2LYEaRRWNzzff/AosN49NydcX21J+FrDIvubQZkCKdgqDFHK7Za+eU5X /TDhw+aJsDB1HjVsWrbtHEJJLjR1jAvwwB00IxVV3A== X-Google-Smtp-Source: AGHT+IEvj8u30IeFXD2hdoTvPhHM2qNXaQGxRniqJw9wLeS+JqSkTEk4tqyxG0UcJ7yRIQP/a3AEaVzMRlQi X-Received: by 2002:ac8:5f88:0:b0:467:4f0a:1b5d with SMTP id d75a77b69052e-46fd0b68880mr399427401cf.42.1738659714968; Tue, 04 Feb 2025 01:01:54 -0800 (PST) Received: from postal.iol.unh.edu (postal.iol.unh.edu. [2606:4100:3880:1234::84]) by smtp-relay.gmail.com with ESMTPS id d75a77b69052e-46fdf0a746asm2713421cf.1.2025.02.04.01.01.54 (version=TLS1_2 cipher=ECDHE-ECDSA-AES128-GCM-SHA256 bits=128/128); Tue, 04 Feb 2025 01:01:54 -0800 (PST) X-Relaying-Domain: iol.unh.edu Date: Tue, 04 Feb 2025 01:01:54 -0800 (PST) Message-ID: <67a1d782.c80a0220.33ea85.d1d8SMTPIN_ADDED_MISSING@mx.google.com> Received: from [172.21.0.5] (unknown [172.18.0.240]) by postal.iol.unh.edu (Postfix) with ESMTP id 2A33D6052471; Tue, 4 Feb 2025 04:01:54 -0500 (EST) Subject: |SUCCESS| [GIT MASTER] 7ce7d3341d7e21c2a81f2fea8e451681d7306d77 From: dpdklab@iol.unh.edu To: Test Report Cc: dpdk-test-reports@iol.unh.edu, Xueming Li , Christian Ehrhardt , Kevin Traynor , Luca Boccassi Content-Type: text/plain X-BeenThere: test-report@dpdk.org X-Mailman-Version: 2.1.29 Precedence: list List-Id: automatic DPDK test reports List-Unsubscribe: , List-Archive: List-Post: List-Help: List-Subscribe: , Errors-To: test-report-bounces@dpdk.org _Testing PASS_ Branch: tags/v22.11 7ce7d3341d7e21c2a81f2fea8e451681d7306d77 --> testing pass Upstream job id: ACVP-FIPS-testing#8772 Test environment and result as below: +--------------------+----------------------+----------------------+ | Environment | compressdev_zlib_pmd | dpdk_fips_validation | +====================+======================+======================+ | Ubuntu 22.04 (ARM) | PASS | SKIPPED | +--------------------+----------------------+----------------------+ | Ubuntu 22.04 | PASS | SKIPPED | +--------------------+----------------------+----------------------+ | Ubuntu 20.04 | SKIPPED | PASS | +--------------------+----------------------+----------------------+ Ubuntu 22.04 (ARM) Kernel: 5.15.0-97-generic Compiler: gcc gcc (Ubuntu 11.4.0-1ubuntu1~22.04) 11.4.0 Ubuntu 22.04 Kernel: 5.15.0-100-generic Compiler: gcc gcc (Ubuntu 11.4.0-1ubuntu1~22.04) 11.4.0 Ubuntu 20.04 Kernel: Depends on container host Compiler: gcc (Ubuntu 9.4.0-1ubuntu1~20.04.2) 9.4.0 To view detailed results, visit: https://lab.dpdk.org/results/dashboard/tarballs/32432/ UNH-IOL DPDK Community Lab To manage your email subscriptions, visit: https://lab.dpdk.org/results/dashboard/preferences/subscriptions/