From mboxrd@z Thu Jan 1 00:00:00 1970 Return-Path: Received: from mails.dpdk.org (mails.dpdk.org [217.70.189.124]) by inbox.dpdk.org (Postfix) with ESMTP id 4EE924618C for ; Tue, 4 Feb 2025 10:06:52 +0100 (CET) Received: from mails.dpdk.org (localhost [127.0.0.1]) by mails.dpdk.org (Postfix) with ESMTP id 253A140661; Tue, 4 Feb 2025 10:06:52 +0100 (CET) Received: from mail-vk1-f228.google.com (mail-vk1-f228.google.com [209.85.221.228]) by mails.dpdk.org (Postfix) with ESMTP id B667E40265 for ; Tue, 4 Feb 2025 10:06:50 +0100 (CET) Received: by mail-vk1-f228.google.com with SMTP id 71dfb90a1353d-51873e55d27so3195281e0c.1 for ; Tue, 04 Feb 2025 01:06:50 -0800 (PST) DKIM-Signature: v=1; a=rsa-sha256; c=relaxed/relaxed; d=iol.unh.edu; s=unh-iol; t=1738660010; x=1739264810; darn=dpdk.org; h=cc:to:from:subject:message-id:date:from:to:cc:subject:date :message-id:reply-to; bh=W+YKf7JCTARoFL7VkHdOgVREOsyttx54EcFaDx9lAtQ=; b=Lt7qmhduWlO/L8bQaFLFSqnSVH7znwAtHgqXtqt3Rsr74T+TTNPHXwkr52RbWD3oZe /PKarufbTSl9gealmaMidsHcdC7fp2kuPZYYjC1zLVQMb8UuSfFTtqvD/I5RdaGmo/Bt LFN3gJfsa21703qbQRsKVZXw5urTWyx0V3s9I= X-Google-DKIM-Signature: v=1; a=rsa-sha256; c=relaxed/relaxed; d=1e100.net; s=20230601; t=1738660010; x=1739264810; h=cc:to:from:subject:message-id:date:x-gm-message-state:from:to:cc :subject:date:message-id:reply-to; bh=W+YKf7JCTARoFL7VkHdOgVREOsyttx54EcFaDx9lAtQ=; b=OfHXKjcYV2mWfXvOVdlzaZOpMck8SKZJWy7ePanAGzSaXNiepNgrbDy2O9tetQhL/Y FEIp1pQgx4i03BZ76ShOpu7lVVLpPr0KnQiCFfPyZ858vCjdhydT4JkoX4wYaQGGfAnD sWEwAQv2OBpRsNXVLMmEUFAsIMUUxc4aIKJa7PKK3VYbzWau6n/yQw+6Qscy3Q7iMauO MJrxuOVoYxJChRpQQ4/8fqj94qgjnH0Wr1iDilbYJaMb5xZRGyqKFolPN+eKJStwNO4w jeBwT3G0GB/TwBQHq9ElUvtYv1+Q+6l41LVDn/LVbQ193+gSZUBZmOUtlNdqlUdHQ3bA 638g== X-Gm-Message-State: AOJu0YwD5wUDWJCTfkAoQdOaMNNpEJQ3ReoCdPaQEv7GpfYJk5BTYacT KIbGaKvza56IuapAOT3LWRqAqYMqUI2dihBpNmAuB5VyeRT/iifOD6IPUOg0fdygzg9ea/cYwTg l/D49FJFsi+/2xB9AA+U/wF4NfCl92SNd X-Gm-Gg: ASbGncs76bvXrK/RH8pTLhhRGwXymXd3zh59W1eR4ZXshG5E1ajDmYS2QzSkf6IlYHr VGL6eBCAylr2bbdfl/bsQwFyyja1C7iMNEeMGUe9PQZ/BDy9FMuAf0YsnhZsqdzwywzSWZOg4sc 7oiFPjPwMqsXqOdSeT8KU3XU3EahMoAiYTiqIzmAbRgKsKCQiVXgBxhRrA2qtsIqaST1L4Bc45k sJMoneyijPV9k6HbUWGK5Bu6WpTFNhzkjCCzlp9BwV5JkBx5/RYoPizfN6m7CFwtUZik0PL1d1o LoF/IgqOGS1Pk6CgBzPxF8oCNEaDQQ== X-Google-Smtp-Source: AGHT+IGgxZ2xB7i3y2e68PrTUqpO1o+sQyIrvwiceXzRbpMzZlKC6KriJNc94qvSke8FdW7a3k2Gp5POeXcG X-Received: by 2002:a05:6122:8d3:b0:516:1ab3:700e with SMTP id 71dfb90a1353d-51ef96e7e6fmr1885233e0c.3.1738660009994; Tue, 04 Feb 2025 01:06:49 -0800 (PST) Received: from postal.iol.unh.edu (postal.iol.unh.edu. [132.177.123.84]) by smtp-relay.gmail.com with ESMTPS id 71dfb90a1353d-51eb1dfb6b2sm464403e0c.12.2025.02.04.01.06.49 (version=TLS1_2 cipher=ECDHE-ECDSA-AES128-GCM-SHA256 bits=128/128); Tue, 04 Feb 2025 01:06:49 -0800 (PST) X-Relaying-Domain: iol.unh.edu Date: Tue, 04 Feb 2025 01:06:49 -0800 (PST) Message-ID: <67a1d8a9.050a0220.757f3.588eSMTPIN_ADDED_MISSING@mx.google.com> Received: from [172.21.0.5] (unknown [172.18.0.240]) by postal.iol.unh.edu (Postfix) with ESMTP id 946156052471; Tue, 4 Feb 2025 04:06:49 -0500 (EST) Subject: |SUCCESS| [GIT MASTER] c66daa12e76d7b4912cfb7109a761856a7a873ab From: dpdklab@iol.unh.edu To: Test Report Cc: dpdk-test-reports@iol.unh.edu, Xueming Li , Christian Ehrhardt , Kevin Traynor , Luca Boccassi Content-Type: text/plain X-BeenThere: test-report@dpdk.org X-Mailman-Version: 2.1.29 Precedence: list List-Id: automatic DPDK test reports List-Unsubscribe: , List-Archive: List-Post: List-Help: List-Subscribe: , Errors-To: test-report-bounces@dpdk.org _Testing PASS_ Branch: tags/v23.11 c66daa12e76d7b4912cfb7109a761856a7a873ab --> testing pass Upstream job id: Generic-Unit-Test-DPDK#311379 Test environment and result as below: +---------------------+----------------+ | Environment | dpdk_unit_test | +=====================+================+ | CentOS Stream 9 | PASS | +---------------------+----------------+ | Debian Bullseye | PASS | +---------------------+----------------+ | Debian 12 | PASS | +---------------------+----------------+ | Fedora 40 | PASS | +---------------------+----------------+ | Fedora 40 (Clang) | PASS | +---------------------+----------------+ | Fedora 41 | PASS | +---------------------+----------------+ | Windows Server 2022 | PASS | +---------------------+----------------+ | Fedora 41 (Clang) | PASS | +---------------------+----------------+ | RHEL8 | PASS | +---------------------+----------------+ | RHEL9 | PASS | +---------------------+----------------+ | Ubuntu 22.04 | PASS | +---------------------+----------------+ | Ubuntu 24.04 | PASS | +---------------------+----------------+ | Ubuntu 20.04 | PASS | +---------------------+----------------+ CentOS Stream 9 Kernel: Depends on container host Compiler: gcc 11.5.0 20240719 (Red Hat 11.5.0-2) Debian Bullseye Kernel: Depends on container host Compiler: gcc (Debian 10.2.1-6) 10.2.1 20210110 Debian 12 Kernel: Depends on container host Compiler: gcc (Debian 12.2.0-14) 12.2.0 Fedora 40 Kernel: Depends on container host Compiler: gcc 14.2.1 20240912 (Red Hat 14.2.1-3) Fedora 40 (Clang) Kernel: Depends on container host Compiler: clang 18.1.8 (Fedora 18.1.8-1.fc40) Fedora 41 Kernel: Depends on container host Compiler: gcc 14.2.1 20240912 (Red Hat 14.2.1-3) Windows Server 2022 Kernel: 10.0.20348.2031 Compiler: clang 15.0.7, gcc 14.1.0 (MinGW), and MSVC VS 19.39.33521 Fedora 41 (Clang) Kernel: Depends on container host Compiler: clang 19.1.5 (Fedora 19.1.5-1.fc41) RHEL8 Kernel: Depends on container host Compiler: gcc 8.5.0 20210514 (Red Hat 8.5.0-22) RHEL9 Kernel: Depends on container host Compiler: gcc 11.5.0 20240719 (Red Hat 11.5.0-2) Ubuntu 22.04 Kernel: Depends on container host Compiler: gcc (Ubuntu 11.4.0-1ubuntu1~22.04) 11.4.0 Ubuntu 24.04 Kernel: Depends on container host Compiler: gcc (Ubuntu 13.3.0-6ubuntu2~24.04) 13.3.0 Ubuntu 20.04 Kernel: Depends on container host Compiler: gcc (Ubuntu 9.4.0-1ubuntu1~20.04.2) 9.4.0 To view detailed results, visit: https://lab.dpdk.org/results/dashboard/tarballs/32431/ UNH-IOL DPDK Community Lab To manage your email subscriptions, visit: https://lab.dpdk.org/results/dashboard/preferences/subscriptions/