From mboxrd@z Thu Jan 1 00:00:00 1970 Return-Path: Received: from mails.dpdk.org (mails.dpdk.org [217.70.189.124]) by inbox.dpdk.org (Postfix) with ESMTP id D3B504618C for ; Tue, 4 Feb 2025 10:30:12 +0100 (CET) Received: from mails.dpdk.org (localhost [127.0.0.1]) by mails.dpdk.org (Postfix) with ESMTP id CC8F840DCE; Tue, 4 Feb 2025 10:30:12 +0100 (CET) Received: from mail-yw1-f227.google.com (mail-yw1-f227.google.com [209.85.128.227]) by mails.dpdk.org (Postfix) with ESMTP id D401140265 for ; Tue, 4 Feb 2025 10:30:10 +0100 (CET) Received: by mail-yw1-f227.google.com with SMTP id 00721157ae682-6f679788fd1so31260377b3.2 for ; Tue, 04 Feb 2025 01:30:10 -0800 (PST) DKIM-Signature: v=1; a=rsa-sha256; c=relaxed/relaxed; d=iol.unh.edu; s=unh-iol; t=1738661410; x=1739266210; darn=dpdk.org; h=cc:to:from:subject:message-id:date:from:to:cc:subject:date :message-id:reply-to; bh=btc+ynPx/J5p6lZGAj++JQlevg5WypM+A65A19NlC38=; b=WASZodePkQngpHO0rPxJCP5QkFVzPIsy5ntTusrnZWAO7NovEzTYI727Ln/uOp+3xe BIKVoL+A677eso5mRy3vZb1F4WdIwDDHoaKexMhB+4gFvo6JpWI9dHmfcaltwo6GivsY sheviMkAJvR84aBkkEYIyEQXakerbMEX1PyrA= X-Google-DKIM-Signature: v=1; a=rsa-sha256; c=relaxed/relaxed; d=1e100.net; s=20230601; t=1738661410; x=1739266210; h=cc:to:from:subject:message-id:date:x-gm-message-state:from:to:cc :subject:date:message-id:reply-to; bh=btc+ynPx/J5p6lZGAj++JQlevg5WypM+A65A19NlC38=; b=ssJ6QoaJixKNSIhO6BQMyKR5UvratmvRtTQjZX2G7kOGQY+sPAcOfz9neYG0QQIklL WiWlCiZCM9d+aNuo2xwyrNS6C/gbSupluWg15ZFPrfsMOoKUi8ptpVnVvtmzU+6Ojk+R V0tDlnYwqC2Yn2jAfn/L3Evl3SS2n4YRrWUfRZXC1N6YTgrxO0s6x/7bHqFfy9Nn2mdd 7rgIUmeQ5507Gljwd8p2dm09qclW1AXYFdQRa75HJP7IrOijRqGIBZ+fdiqDmVMqHWr+ PSQ1iQqMDXYgQbhaDLM47e4LH3OqjXiAltycRVFEMntFyHg9snwSNO9DaJllH57oMH1u 1smA== X-Gm-Message-State: AOJu0YxRX+9jzE8Hi9DNb61Bnz+ALdVxwCV977DunAX3qc2IbCs/UE9H Qh5v64H+mLsYeFEbY8DPv4PDU29AxvB2jRxSifohuOMZzter7YzW/6pj9bqpZxza0uhwv5y5ECl i2VRoiW3Eez/eF9lMKm9htpPsgi52gOlKs2soCJVfT6fET4Hq X-Gm-Gg: ASbGncsomAR+Z4hXy5ZueGbyh/eS5ADCHq5BKk5BZ3Knjmps3rO3SESLCmtlwqTxV05 Awq4brp0STtiA1PdARMIg0FMKztzXc7K4MHwd+y7rEaujJ5gFOCUyEd/aFPDacD53N1mq7p/QSB 5vRj1FACFPVUALmP5CKVGK7+89x/sVIkXXxG35u5I+58QK5a/wd3vtbSG5O4/YsSbdZ+IOltOdS UkI78Bp7+VkLMP9zhoqBd+uFcLmD7YSSdh8BnIknpee/3nN6JupYrOO9trFYyGRqrzUR5Pm+9ho SXWWpas1lnTc2uSZeRjQ+u55shmVjX1y7/aMbkb/7Q== X-Google-Smtp-Source: AGHT+IFBO6No6mMkG8Hy5AmIJSa4bVZKXsd/+VcTtrx/EQUEr4sxJ5JlWboF6r6KMO8Yeytn0IXZe82va+ie X-Received: by 2002:a05:690c:9983:b0:6ef:7f34:fe08 with SMTP id 00721157ae682-6f7a836d88dmr206609387b3.18.1738661410193; Tue, 04 Feb 2025 01:30:10 -0800 (PST) Received: from postal.iol.unh.edu (postal.iol.unh.edu. [2606:4100:3880:1234::84]) by smtp-relay.gmail.com with ESMTPS id 00721157ae682-6f8c4b8d526sm5936537b3.60.2025.02.04.01.30.10 (version=TLS1_2 cipher=ECDHE-ECDSA-AES128-GCM-SHA256 bits=128/128); Tue, 04 Feb 2025 01:30:10 -0800 (PST) X-Relaying-Domain: iol.unh.edu Date: Tue, 04 Feb 2025 01:30:10 -0800 (PST) Message-ID: <67a1de22.810a0220.3d214a.a406SMTPIN_ADDED_MISSING@mx.google.com> Received: from [172.17.0.5] (unknown [172.18.0.217]) by postal.iol.unh.edu (Postfix) with ESMTP id 8891B6052471; Tue, 4 Feb 2025 04:30:09 -0500 (EST) Subject: |SUCCESS| [GIT MASTER] 7ce7d3341d7e21c2a81f2fea8e451681d7306d77 From: dpdklab@iol.unh.edu To: Test Report Cc: dpdk-test-reports@iol.unh.edu, Xueming Li , Christian Ehrhardt , Kevin Traynor , Luca Boccassi Content-Type: text/plain X-BeenThere: test-report@dpdk.org X-Mailman-Version: 2.1.29 Precedence: list List-Id: automatic DPDK test reports List-Unsubscribe: , List-Archive: List-Post: List-Help: List-Subscribe: , Errors-To: test-report-bounces@dpdk.org _Testing PASS_ Branch: tags/v22.11 7ce7d3341d7e21c2a81f2fea8e451681d7306d77 --> testing pass Upstream job id: Generic-DPDK-Compile-Meson#357493 Test environment and result as below: +------------------------------------+--------------------+ | Environment | dpdk_meson_compile | +====================================+====================+ | Fedora 40 (ARM) | PASS | +------------------------------------+--------------------+ | RHEL9 (ARM) | PASS | +------------------------------------+--------------------+ | Debian 12 with MUSDK | PASS | +------------------------------------+--------------------+ | Ubuntu 20.04 ARM SVE | PASS | +------------------------------------+--------------------+ | Ubuntu 20.04 ARM GCC Cross Compile | PASS | +------------------------------------+--------------------+ | Fedora 41 (ARM Clang) | PASS | +------------------------------------+--------------------+ | Fedora 40 (ARM Clang) | PASS | +------------------------------------+--------------------+ | Ubuntu 20.04 (ARM) | PASS | +------------------------------------+--------------------+ | Fedora 41 (ARM) | PASS | +------------------------------------+--------------------+ | Ubuntu 24.04 (ARM) | PASS | +------------------------------------+--------------------+ | CentOS Stream 9 (ARM) | PASS | +------------------------------------+--------------------+ | Ubuntu 22.04 (ARM) | PASS | +------------------------------------+--------------------+ | Debian 11 (Buster) (ARM) | PASS | +------------------------------------+--------------------+ | Debian 12 (arm) | PASS | +------------------------------------+--------------------+ Fedora 40 (ARM) Kernel: Depends on container host Compiler: gcc 14.2.1 20240912 (Red Hat 14.2.1-3) RHEL9 (ARM) Kernel: Depends on container host Compiler: gcc 11.5.0 20240719 (Red Hat 11.5.0-2) Debian 12 with MUSDK Kernel: Depends on container host Compiler: gcc (Debian 12.2.0-14) 12.2.0 Ubuntu 20.04 ARM SVE Kernel: Depends on container host Compiler: gcc (Ubuntu 10.5.0-1ubuntu1~20.04) 10.5.0 Ubuntu 20.04 ARM GCC Cross Compile Kernel: Depends on container host Compiler: aarch64-linux-gnu-gcc (Ubuntu 9.4.0-1ubuntu1~20.04.2) 9.4.0 Fedora 41 (ARM Clang) Kernel: Depends on container host Compiler: clang 19.1.5 (Fedora 19.1.5-1.fc41) Fedora 40 (ARM Clang) Kernel: Depends on container host Compiler: clang 18.1.8 (Fedora 18.1.8-1.fc40) Ubuntu 20.04 (ARM) Kernel: Depends on container host Compiler: gcc (Ubuntu 9.4.0-1ubuntu1~20.04.2) 9.4.0 Fedora 41 (ARM) Kernel: Depends on container host Compiler: gcc 14.2.1 20240912 (Red Hat 14.2.1-3) Ubuntu 24.04 (ARM) Kernel: Depends on container host Compiler: gcc (Ubuntu 13.3.0-6ubuntu2~24.04) 13.3.0 CentOS Stream 9 (ARM) Kernel: Depends on container host Compiler: gcc 11.5.0 20240719 (Red Hat 11.5.0-2) Ubuntu 22.04 (ARM) Kernel: Depends on container host Compiler: gcc (Ubuntu 11.4.0-1ubuntu1~22.04) 11.4.0 Debian 11 (Buster) (ARM) Kernel: Depends on container host Compiler: gcc (Debian 10.2.1-6) 10.2.1 20210110 Debian 12 (arm) Kernel: Depends on container host Compiler: gcc (Debian 12.2.0-14) 12.2.0 To view detailed results, visit: https://lab.dpdk.org/results/dashboard/tarballs/32432/ UNH-IOL DPDK Community Lab To manage your email subscriptions, visit: https://lab.dpdk.org/results/dashboard/preferences/subscriptions/