From mboxrd@z Thu Jan 1 00:00:00 1970 Return-Path: Received: from mails.dpdk.org (mails.dpdk.org [217.70.189.124]) by inbox.dpdk.org (Postfix) with ESMTP id 0D7AE4618C for ; Tue, 4 Feb 2025 10:31:09 +0100 (CET) Received: from mails.dpdk.org (localhost [127.0.0.1]) by mails.dpdk.org (Postfix) with ESMTP id 0189440DCE; Tue, 4 Feb 2025 10:31:09 +0100 (CET) Received: from mail-il1-f225.google.com (mail-il1-f225.google.com [209.85.166.225]) by mails.dpdk.org (Postfix) with ESMTP id 7C2B140265 for ; Tue, 4 Feb 2025 10:31:07 +0100 (CET) Received: by mail-il1-f225.google.com with SMTP id e9e14a558f8ab-3ce7c4115e8so20407675ab.1 for ; Tue, 04 Feb 2025 01:31:07 -0800 (PST) DKIM-Signature: v=1; a=rsa-sha256; c=relaxed/relaxed; d=iol.unh.edu; s=unh-iol; t=1738661467; x=1739266267; darn=dpdk.org; h=cc:to:from:subject:message-id:date:from:to:cc:subject:date :message-id:reply-to; bh=xDhSQperNg0DklfL0xGHPwrkG3ep2Fr3rP5JlbTFNyo=; b=JSfQIVVjEkZEW+2IF7KZJtx28Y5QTNeC4P7DXvLbW57Hz1SiA+/GOcHgx+f+jwveLf 4WStRVrSQq2pfO7v2xub/6hTbW4UB8OZ+4XEKihL+cPIi37PWwJKyDciXGEySBRBkaoP JEWl1njPoWRsSGc5SVqTdwoVMqRvOUaJde8pA= X-Google-DKIM-Signature: v=1; a=rsa-sha256; c=relaxed/relaxed; d=1e100.net; s=20230601; t=1738661467; x=1739266267; h=cc:to:from:subject:message-id:date:x-gm-message-state:from:to:cc :subject:date:message-id:reply-to; bh=xDhSQperNg0DklfL0xGHPwrkG3ep2Fr3rP5JlbTFNyo=; b=oPRawwIeKNY+Lp+vLaFFbupuGqxqtlKjNxaFkQM0gOwt5gVSL8yDVYySp6DMWPfXV6 l+lAdS2sypTs0Q4iPk6e5W1bUqloG/ONqEKjdyhTvrHO6qT4MdoQk4dYkGkDPkMbknB3 hjWzsC5I2JJjvqmANv24esIeNwIavcoT9EgdgdV7xc5nPcpDz/4q4ehOzeylGsqFiz5h JErhYb/xLXUtgkkDHheSNl6NBUv3xGjv8HGj3Od+yRybPtCgdP3XgW4Bv8koVcQMrF/K Z9DxvifzmcGBOaF/F/9m7mJY7SvnRxppAoKcSx7bQsW6DGzbUqeaVC7gtVadCKqB8hrC nr7w== X-Gm-Message-State: AOJu0YwAQy8/sZavT7vWK9+79Rn13dnlWd+iZ2qKqbZli1O3tW35k8fe gmHEDcluKkJ3hqXjCIkqoyGSDRK7goE7dQM9Q8nv6lFmuAalyBVCjv4XGigoYDRMi5ZwVPW7ohx KQPaKKlx4wf3FLFes9IVy88mZLv+4zvjc3VjJ2QVH X-Gm-Gg: ASbGncvahkb8tQtmVZbIM15FQug+CWSGOl8Qo/m75322CsDUPRqG8RnUrq+MzINYSaD envN+HEOUANAIJPyOIYWokNB6aGf2szIczCgmvHno3DdHTPBY923XddFQl6AnCWqJ/0AmDyDnBx BscxsjGrZ+zeK4JxcFbarIubwxf21DBQLxfMQsbRksoMX+9+uIUN5Itw6hsdSB11rpp0KLdbY3D y4p/hnsbcbRkWuY14hCVmo0b/43TvWgK1ZixtqvF9TyMSWSAdrG800Btsrfw3IDLqyaPf/8E4GR xXOtvJYJCLguqaTokUqFZhVB35YFOQ== X-Google-Smtp-Source: AGHT+IHTuXHhSaGM8j8DvkeK0EreVvIxNH1wzyJ1W9vN2valYT9skCu1uMdDoiN55xjOblo/aPoafemnnaY7 X-Received: by 2002:a05:6e02:1386:b0:3d0:11a4:1f87 with SMTP id e9e14a558f8ab-3d03f4efdeamr20947185ab.7.1738661466799; Tue, 04 Feb 2025 01:31:06 -0800 (PST) Received: from postal.iol.unh.edu (postal.iol.unh.edu. [132.177.123.84]) by smtp-relay.gmail.com with ESMTPS id e9e14a558f8ab-3d00a5ec1e0sm8064185ab.43.2025.02.04.01.31.06 (version=TLS1_2 cipher=ECDHE-ECDSA-AES128-GCM-SHA256 bits=128/128); Tue, 04 Feb 2025 01:31:06 -0800 (PST) X-Relaying-Domain: iol.unh.edu Date: Tue, 04 Feb 2025 01:31:06 -0800 (PST) Message-ID: <67a1de5a.920a0220.1096be.51b9SMTPIN_ADDED_MISSING@mx.google.com> Received: from [172.17.0.5] (unknown [172.18.0.217]) by postal.iol.unh.edu (Postfix) with ESMTP id 143F86052471; Tue, 4 Feb 2025 04:31:06 -0500 (EST) Subject: |SUCCESS| [GIT MASTER] 61db62498cb01da9d7d5e50586f7f260954eecb2 From: dpdklab@iol.unh.edu To: Test Report Cc: dpdk-test-reports@iol.unh.edu, Stephen Hemminger Content-Type: text/plain X-BeenThere: test-report@dpdk.org X-Mailman-Version: 2.1.29 Precedence: list List-Id: automatic DPDK test reports List-Unsubscribe: , List-Archive: List-Post: List-Help: List-Subscribe: , Errors-To: test-report-bounces@dpdk.org _Testing PASS_ Branch: dpdk-next-net 61db62498cb01da9d7d5e50586f7f260954eecb2 --> testing pass Upstream job id: Generic-Unit-Test-DPDK#311394 Test environment and result as below: +-----------------------------+----------------+--------------+---------------------------+------------------------------+ | Environment | dpdk_unit_test | lpm_autotest | cryptodev_sw_zuc_autotest | cryptodev_sw_snow3g_autotest | +=============================+================+==============+===========================+==============================+ | 32-bit Ubuntu 22.04.4 (ARM) | PASS | SKIPPED | SKIPPED | SKIPPED | +-----------------------------+----------------+--------------+---------------------------+------------------------------+ | Fedora 41 (ARM Clang) | PASS | SKIPPED | SKIPPED | SKIPPED | +-----------------------------+----------------+--------------+---------------------------+------------------------------+ | Fedora 40 (ARM) | PASS | SKIPPED | SKIPPED | SKIPPED | +-----------------------------+----------------+--------------+---------------------------+------------------------------+ | Fedora 41 (ARM) | PASS | SKIPPED | SKIPPED | SKIPPED | +-----------------------------+----------------+--------------+---------------------------+------------------------------+ | CentOS Stream 9 (ARM) | PASS | SKIPPED | SKIPPED | SKIPPED | +-----------------------------+----------------+--------------+---------------------------+------------------------------+ | Debian 12 (arm) | PASS | SKIPPED | PASS | PASS | +-----------------------------+----------------+--------------+---------------------------+------------------------------+ | RHEL9 (ARM) | PASS | SKIPPED | SKIPPED | SKIPPED | +-----------------------------+----------------+--------------+---------------------------+------------------------------+ | Debian 11 (Buster) (ARM) | PASS | SKIPPED | SKIPPED | SKIPPED | +-----------------------------+----------------+--------------+---------------------------+------------------------------+ | Fedora 40 (ARM Clang) | PASS | SKIPPED | SKIPPED | SKIPPED | +-----------------------------+----------------+--------------+---------------------------+------------------------------+ | Ubuntu 20.04 (ARM) | PASS | SKIPPED | SKIPPED | SKIPPED | +-----------------------------+----------------+--------------+---------------------------+------------------------------+ | Ubuntu 24.04 (ARM) | PASS | SKIPPED | SKIPPED | SKIPPED | +-----------------------------+----------------+--------------+---------------------------+------------------------------+ | Ubuntu 22.04 (ARM) | PASS | SKIPPED | SKIPPED | SKIPPED | +-----------------------------+----------------+--------------+---------------------------+------------------------------+ | Ubuntu 20.04 ARM SVE | SKIPPED | PASS | SKIPPED | SKIPPED | +-----------------------------+----------------+--------------+---------------------------+------------------------------+ 32-bit Ubuntu 22.04.4 (ARM) Kernel: 5.15.83+ aarch64 Compiler: gcc (Ubuntu 11.4.0-1ubuntu1~22.04) 11.4.0 Fedora 41 (ARM Clang) Kernel: Depends on container host Compiler: clang 19.1.5 (Fedora 19.1.5-1.fc41) Fedora 40 (ARM) Kernel: Depends on container host Compiler: gcc 14.2.1 20240912 (Red Hat 14.2.1-3) Fedora 41 (ARM) Kernel: Depends on container host Compiler: gcc 14.2.1 20240912 (Red Hat 14.2.1-3) CentOS Stream 9 (ARM) Kernel: Depends on container host Compiler: gcc 11.5.0 20240719 (Red Hat 11.5.0-2) Debian 12 (arm) Kernel: Depends on container host Compiler: gcc (Debian 12.2.0-14) 12.2.0 RHEL9 (ARM) Kernel: Depends on container host Compiler: gcc 11.5.0 20240719 (Red Hat 11.5.0-2) Debian 11 (Buster) (ARM) Kernel: Depends on container host Compiler: gcc (Debian 10.2.1-6) 10.2.1 20210110 Fedora 40 (ARM Clang) Kernel: Depends on container host Compiler: clang 18.1.8 (Fedora 18.1.8-1.fc40) Ubuntu 20.04 (ARM) Kernel: Depends on container host Compiler: gcc (Ubuntu 9.4.0-1ubuntu1~20.04.2) 9.4.0 Ubuntu 24.04 (ARM) Kernel: Depends on container host Compiler: gcc (Ubuntu 13.3.0-6ubuntu2~24.04) 13.3.0 Ubuntu 22.04 (ARM) Kernel: Depends on container host Compiler: gcc (Ubuntu 11.4.0-1ubuntu1~22.04) 11.4.0 Ubuntu 20.04 ARM SVE Kernel: Depends on container host Compiler: gcc (Ubuntu 10.5.0-1ubuntu1~20.04) 10.5.0 To view detailed results, visit: https://lab.dpdk.org/results/dashboard/tarballs/32433/ UNH-IOL DPDK Community Lab To manage your email subscriptions, visit: https://lab.dpdk.org/results/dashboard/preferences/subscriptions/