From mboxrd@z Thu Jan 1 00:00:00 1970 Return-Path: Received: from mails.dpdk.org (mails.dpdk.org [217.70.189.124]) by inbox.dpdk.org (Postfix) with ESMTP id EC3814618C for ; Tue, 4 Feb 2025 10:38:58 +0100 (CET) Received: from mails.dpdk.org (localhost [127.0.0.1]) by mails.dpdk.org (Postfix) with ESMTP id CF20140661; Tue, 4 Feb 2025 10:38:58 +0100 (CET) Received: from mail-il1-f227.google.com (mail-il1-f227.google.com [209.85.166.227]) by mails.dpdk.org (Postfix) with ESMTP id E3A4640265 for ; Tue, 4 Feb 2025 10:38:57 +0100 (CET) Received: by mail-il1-f227.google.com with SMTP id e9e14a558f8ab-3cfc79a8a95so13312275ab.2 for ; Tue, 04 Feb 2025 01:38:57 -0800 (PST) DKIM-Signature: v=1; a=rsa-sha256; c=relaxed/relaxed; d=iol.unh.edu; s=unh-iol; t=1738661937; x=1739266737; darn=dpdk.org; h=cc:to:from:subject:message-id:date:from:to:cc:subject:date :message-id:reply-to; bh=0cmjJ51pk3o0G7IHmxvlCdOqfrsFgwL/93t91qAKkDw=; b=EaYG3w+uSuCToEzaBYEhXPrnamG/88dfSIjOY/ZrrWdvSLpLmir8zgw5gtpyJX5f47 KzrX/XQkyY8avlo3LvMLBUydTlPgWvm/g353dTICrhzlKRhaQiButSOcreRAFPsi6wWI R/fczYIl8ZN8J7wDZE7Kn9nNlKMwQLzzGELnU= X-Google-DKIM-Signature: v=1; a=rsa-sha256; c=relaxed/relaxed; d=1e100.net; s=20230601; t=1738661937; x=1739266737; h=cc:to:from:subject:message-id:date:x-gm-message-state:from:to:cc :subject:date:message-id:reply-to; bh=0cmjJ51pk3o0G7IHmxvlCdOqfrsFgwL/93t91qAKkDw=; b=H9dm1fWXRj4R/wNHKVOZLguOpX/2gwAdr0U816/RPtbMFg9teWqaFBVFBcSI8u/NLC 169WSZaUaGpO8N/zmhquZHjFcBL1VTdVyixzjUCHboJFYFyJ6u136HCYaQtnC3muD/W2 SJx3ZlDcgiXX7kIAmf69wuMGEO7+EXISax32UYZ0s0vYnqfN3+y+tQBnNhnYUWnNOdHO 4jgeeOIyIDli+gnKl6CKIP2SjqNGmxD8WP1LC9aLh8Qm4mRiR6Y/XYcULoGx1SV8CACo 58OQDPWO17Cw+KWrzPsXa4U/ah0YLBe4U6SoLdAuv9XTAaeDy9QwjPcHRMbIsH9GY80I AJ1Q== X-Gm-Message-State: AOJu0YwURlNnAJzX6w5K0/P3Z/p3OCTHNzwqGWdHlwnwxzgmg1vsTH4I C4YU0Jyttb9Es788ekZlgCdcEMTt8Ean8m8VJ8Vp1G5CD9fp0B8YXKGjO7zhxj6pjzVxntQuqAa UlhSLRyWLXNqIJt1p2UInFxKfZbNgVs3T X-Gm-Gg: ASbGncvUyCscpNbUhpCniGrUEXCKuRnrtGXGdntqxPoRnMUro8PzZITHh1eh9AxOuAS hctuhSSyM0Yin3XSM+vPo0nuhi0h2kySrUO3UaY8ihvFSLGz7IhRHP5RYhb+7fMd6LQum3p5Awn GOWHJLB1gi4e5LKTWvkuud4yyGCPrubUzHaD7NbwQTkgV4DoV4ZDQR8kkeAnw23dWr+AZLnaEIl vmmfwqdbYdEXiGapZWe1/Gs7xGqfpY+0mGcj6ng8wQt1ce8WvfzRHIIMg4UMzQlSfIyEYQXv9gu FfsPZ2bKY9Daq7hmzkXFbB87LtZLTg== X-Google-Smtp-Source: AGHT+IENYK1XZV66WqzhEj/8Ywt9SyTuOfMjkwrX3donONM7Wap1oR5hy7zJ75FCh9IH8Tkw6inY8AkcS1SZ X-Received: by 2002:a05:6e02:1445:b0:3d0:21aa:a752 with SMTP id e9e14a558f8ab-3d021aaa80bmr116467575ab.2.1738661937234; Tue, 04 Feb 2025 01:38:57 -0800 (PST) Received: from postal.iol.unh.edu (postal.iol.unh.edu. [132.177.123.84]) by smtp-relay.gmail.com with ESMTPS id e9e14a558f8ab-3d00a5ec10csm7560205ab.55.2025.02.04.01.38.57 (version=TLS1_2 cipher=ECDHE-ECDSA-AES128-GCM-SHA256 bits=128/128); Tue, 04 Feb 2025 01:38:57 -0800 (PST) X-Relaying-Domain: iol.unh.edu Date: Tue, 04 Feb 2025 01:38:57 -0800 (PST) Message-ID: <67a1e031.050a0220.220d72.2601SMTPIN_ADDED_MISSING@mx.google.com> Received: from [172.17.0.5] (unknown [172.18.0.217]) by postal.iol.unh.edu (Postfix) with ESMTP id A8A566052471; Tue, 4 Feb 2025 04:38:56 -0500 (EST) Subject: |SUCCESS| [GIT MASTER] c66daa12e76d7b4912cfb7109a761856a7a873ab From: dpdklab@iol.unh.edu To: Test Report Cc: dpdk-test-reports@iol.unh.edu, Xueming Li , Christian Ehrhardt , Kevin Traynor , Luca Boccassi Content-Type: text/plain X-BeenThere: test-report@dpdk.org X-Mailman-Version: 2.1.29 Precedence: list List-Id: automatic DPDK test reports List-Unsubscribe: , List-Archive: List-Post: List-Help: List-Subscribe: , Errors-To: test-report-bounces@dpdk.org _Testing PASS_ Branch: tags/v23.11 c66daa12e76d7b4912cfb7109a761856a7a873ab --> testing pass Upstream job id: Generic-DPDK-Compile-Meson#357510 Test environment and result as below: +---------------------+--------------------+------------------+-------------------+-------------------+----------------------+ | Environment | dpdk_meson_compile | dpdk_compile_ovs | dpdk_compile_spdk | dpdk_msvc_compile | dpdk_mingw64_compile | +=====================+====================+==================+===================+===================+======================+ | Debian 12 | PASS | PASS | PASS | SKIPPED | SKIPPED | +---------------------+--------------------+------------------+-------------------+-------------------+----------------------+ | Fedora 40 (Clang) | PASS | PASS | PASS | SKIPPED | SKIPPED | +---------------------+--------------------+------------------+-------------------+-------------------+----------------------+ | CentOS Stream 9 | PASS | PASS | PASS | SKIPPED | SKIPPED | +---------------------+--------------------+------------------+-------------------+-------------------+----------------------+ | RHEL9 | PASS | PASS | SKIPPED | SKIPPED | SKIPPED | +---------------------+--------------------+------------------+-------------------+-------------------+----------------------+ | Ubuntu 22.04 | PASS | PASS | PASS | SKIPPED | SKIPPED | +---------------------+--------------------+------------------+-------------------+-------------------+----------------------+ | Fedora 41 | PASS | PASS | PASS | SKIPPED | SKIPPED | +---------------------+--------------------+------------------+-------------------+-------------------+----------------------+ | openSUSE Leap 15 | PASS | SKIPPED | SKIPPED | SKIPPED | SKIPPED | +---------------------+--------------------+------------------+-------------------+-------------------+----------------------+ | Fedora 41 (Clang) | PASS | PASS | PASS | SKIPPED | SKIPPED | +---------------------+--------------------+------------------+-------------------+-------------------+----------------------+ | Ubuntu 20.04 | PASS | SKIPPED | SKIPPED | SKIPPED | SKIPPED | +---------------------+--------------------+------------------+-------------------+-------------------+----------------------+ | Fedora 40 | PASS | PASS | PASS | SKIPPED | SKIPPED | +---------------------+--------------------+------------------+-------------------+-------------------+----------------------+ | Ubuntu 24.04 | PASS | PASS | PASS | SKIPPED | SKIPPED | +---------------------+--------------------+------------------+-------------------+-------------------+----------------------+ | RHEL8 | PASS | PASS | SKIPPED | SKIPPED | SKIPPED | +---------------------+--------------------+------------------+-------------------+-------------------+----------------------+ | Alpine | PASS | PASS | SKIPPED | SKIPPED | SKIPPED | +---------------------+--------------------+------------------+-------------------+-------------------+----------------------+ | FreeBSD 13.4 | PASS | SKIPPED | SKIPPED | SKIPPED | SKIPPED | +---------------------+--------------------+------------------+-------------------+-------------------+----------------------+ | FreeBSD 14.2 | PASS | SKIPPED | SKIPPED | SKIPPED | SKIPPED | +---------------------+--------------------+------------------+-------------------+-------------------+----------------------+ | Debian Bullseye | PASS | PASS | PASS | SKIPPED | SKIPPED | +---------------------+--------------------+------------------+-------------------+-------------------+----------------------+ | Windows Server 2022 | SKIPPED | SKIPPED | SKIPPED | PASS | PASS | +---------------------+--------------------+------------------+-------------------+-------------------+----------------------+ Debian 12 Kernel: Depends on container host Compiler: gcc (Debian 12.2.0-14) 12.2.0 Fedora 40 (Clang) Kernel: Depends on container host Compiler: clang 18.1.8 (Fedora 18.1.8-1.fc40) CentOS Stream 9 Kernel: Depends on container host Compiler: gcc 11.5.0 20240719 (Red Hat 11.5.0-2) RHEL9 Kernel: Depends on container host Compiler: gcc 11.5.0 20240719 (Red Hat 11.5.0-2) Ubuntu 22.04 Kernel: Depends on container host Compiler: gcc (Ubuntu 11.4.0-1ubuntu1~22.04) 11.4.0 Fedora 41 Kernel: Depends on container host Compiler: gcc 14.2.1 20240912 (Red Hat 14.2.1-3) openSUSE Leap 15 Kernel: Depends on container host Compiler: gcc (SUSE Linux) 7.5.0 Fedora 41 (Clang) Kernel: Depends on container host Compiler: clang 19.1.5 (Fedora 19.1.5-1.fc41) Ubuntu 20.04 Kernel: Depends on container host Compiler: gcc (Ubuntu 9.4.0-1ubuntu1~20.04.2) 9.4.0 Fedora 40 Kernel: Depends on container host Compiler: gcc 14.2.1 20240912 (Red Hat 14.2.1-3) Ubuntu 24.04 Kernel: Depends on container host Compiler: gcc (Ubuntu 13.3.0-6ubuntu2~24.04) 13.3.0 RHEL8 Kernel: Depends on container host Compiler: gcc 8.5.0 20210514 (Red Hat 8.5.0-22) Alpine Kernel: Depends on container host Compiler: gcc (Alpine 14.2.0) 14.2.0 FreeBSD 13.4 Kernel: 13.4-RELEASE-p1 Compiler: clang 18.1.6 FreeBSD 14.2 Kernel: 14.2-RELEASE Compiler: clang 18.1.6 Debian Bullseye Kernel: Depends on container host Compiler: gcc (Debian 10.2.1-6) 10.2.1 20210110 Windows Server 2022 Kernel: 10.0.20348.2031 Compiler: clang 15.0.7, gcc 14.1.0 (MinGW), and MSVC VS 19.39.33521 To view detailed results, visit: https://lab.dpdk.org/results/dashboard/tarballs/32431/ UNH-IOL DPDK Community Lab To manage your email subscriptions, visit: https://lab.dpdk.org/results/dashboard/preferences/subscriptions/