From mboxrd@z Thu Jan 1 00:00:00 1970 Return-Path: Received: from mails.dpdk.org (mails.dpdk.org [217.70.189.124]) by inbox.dpdk.org (Postfix) with ESMTP id 0199F4618C for ; Tue, 4 Feb 2025 10:39:20 +0100 (CET) Received: from mails.dpdk.org (localhost [127.0.0.1]) by mails.dpdk.org (Postfix) with ESMTP id EC4E540661; Tue, 4 Feb 2025 10:39:19 +0100 (CET) Received: from mail-yw1-f225.google.com (mail-yw1-f225.google.com [209.85.128.225]) by mails.dpdk.org (Postfix) with ESMTP id B91D140265 for ; Tue, 4 Feb 2025 10:39:18 +0100 (CET) Received: by mail-yw1-f225.google.com with SMTP id 00721157ae682-6efc58fae20so36348937b3.0 for ; Tue, 04 Feb 2025 01:39:18 -0800 (PST) DKIM-Signature: v=1; a=rsa-sha256; c=relaxed/relaxed; d=iol.unh.edu; s=unh-iol; t=1738661958; x=1739266758; darn=dpdk.org; h=cc:to:from:subject:message-id:date:from:to:cc:subject:date :message-id:reply-to; bh=0RR5Tv6C7+EmTeKjcrcQHDKn9Ultfh6/KtlsfCbRXi8=; b=P6IxvIl8kOAbbyV0kJYc82agP8RJowcW1fR1HV6tDFouNu345iZMq0+f2lEARs2UgI uJvy6Wm1dkaPjecZsrB+VpAue9LK2B/0oPeXFMiJnya89pq7hPSiBWQGX/OLQwukA2+w HzonloMRVSoBosgIcxiZBB4+6jrvzwwkarOqk= X-Google-DKIM-Signature: v=1; a=rsa-sha256; c=relaxed/relaxed; d=1e100.net; s=20230601; t=1738661958; x=1739266758; h=cc:to:from:subject:message-id:date:x-gm-message-state:from:to:cc :subject:date:message-id:reply-to; bh=0RR5Tv6C7+EmTeKjcrcQHDKn9Ultfh6/KtlsfCbRXi8=; b=pogx3/vJgIiLx6dR7+cJgIhli2PXEYMN1/HxEkIi9i8Xbd/rDL+ncBnRws+H4rqekq uNxhv9z98rHg25p/6XTrDxvuElq6n27cRgyycukRSdFEFPT1PNpERdXYyfjShD3pAbpb fh2veNtbYapShnvglTDOVIUkNj657Azxp1DIk4jue8qxBJxzcvyjeKoPPzVIStgWqozR VWe/vj9I5w67xiD4lDWVEKMQxOsVodQTpn/vskSLun4ThFmJO30mGXGow8gqn5rURwV0 Tta+pGl4+UtmRqCqXzd5JwOzuI7r6X3PJE7Eyo/n3tVqIgmDVHVsWUWTjqzvNDqcPNUF rpRQ== X-Gm-Message-State: AOJu0Yyx358VGzx49sTRByY6bnydY0jL1OBo9sBgnk+KgW9lOM/PeDZx E4PJnRKGqTSf4zdf5GCUbzHzaSkMl3BOz50scpM3ZJgpQWzbwqhE1eL5tyI6PxwQR27vx0Ugb7W dMhW9pG6kRZQYSr8OxQtLytJq6k9hcLu/iLy9r4Bwkrj/ZbF0 X-Gm-Gg: ASbGncsPpJawKywlO5sxT8Ghnt7Rb4+7W+Bf37cBFfZ59FH4ycD/ZzW8UnlwQ556hyc HIyFFfX0IoUsMWyGsUkqT/f1jr7WJkPJXd2D5HU5NlGShXi2ddqUM3ubMhhEiEGvlqLSgpMWtEp 7UnvHHdfYXhUr8EbcB9lIrHL4HLUOMlyDumbNTV5C1R6JAdUNIWKNcIrAmI3OtcVbb40h/DI1w9 hu//Qz4Gcz4EfqrE8LKLZiG286rStf6PqZrE9VTBjiCvVL6QigFr8xgVh+0ORlL2P/R7CKor+3e oDjpAmu/x1BtshAA8Gl0DmKvtvNInPkagyxGvzZjSQ== X-Google-Smtp-Source: AGHT+IHN5yVc4p7Z8QZREr/IFXzA7GQKJiE3KYuzwQA+MuM2cbSwzdnDDFkKwEz8QWW1wtRFHb3Mha1CLSW4 X-Received: by 2002:a05:690c:9a87:b0:6ec:b10a:22a4 with SMTP id 00721157ae682-6f7a83f2a36mr188955887b3.25.1738661958035; Tue, 04 Feb 2025 01:39:18 -0800 (PST) Received: from postal.iol.unh.edu (postal.iol.unh.edu. [2606:4100:3880:1234::84]) by smtp-relay.gmail.com with ESMTPS id 00721157ae682-6f8c47c9caesm9311257b3.32.2025.02.04.01.39.17 (version=TLS1_2 cipher=ECDHE-ECDSA-AES128-GCM-SHA256 bits=128/128); Tue, 04 Feb 2025 01:39:18 -0800 (PST) X-Relaying-Domain: iol.unh.edu Date: Tue, 04 Feb 2025 01:39:18 -0800 (PST) Message-ID: <67a1e046.810a0220.1962ca.e9bdSMTPIN_ADDED_MISSING@mx.google.com> Received: from [172.17.0.5] (unknown [172.18.0.217]) by postal.iol.unh.edu (Postfix) with ESMTP id AB8DC6052471; Tue, 4 Feb 2025 04:39:17 -0500 (EST) Subject: |SUCCESS| [GIT MASTER] c66daa12e76d7b4912cfb7109a761856a7a873ab From: dpdklab@iol.unh.edu To: Test Report Cc: dpdk-test-reports@iol.unh.edu, Xueming Li , Christian Ehrhardt , Kevin Traynor , Luca Boccassi Content-Type: text/plain X-BeenThere: test-report@dpdk.org X-Mailman-Version: 2.1.29 Precedence: list List-Id: automatic DPDK test reports List-Unsubscribe: , List-Archive: List-Post: List-Help: List-Subscribe: , Errors-To: test-report-bounces@dpdk.org _Testing PASS_ Branch: tags/v23.11 c66daa12e76d7b4912cfb7109a761856a7a873ab --> testing pass Upstream job id: Generic-DPDK-Compile-Meson#357519 Test environment and result as below: +---------------------+--------------------+------------------+-------------------+-------------------+----------------------+ | Environment | dpdk_meson_compile | dpdk_compile_ovs | dpdk_compile_spdk | dpdk_msvc_compile | dpdk_mingw64_compile | +=====================+====================+==================+===================+===================+======================+ | Debian 12 | PASS | PASS | PASS | SKIPPED | SKIPPED | +---------------------+--------------------+------------------+-------------------+-------------------+----------------------+ | Fedora 40 (Clang) | PASS | PASS | PASS | SKIPPED | SKIPPED | +---------------------+--------------------+------------------+-------------------+-------------------+----------------------+ | CentOS Stream 9 | PASS | PASS | PASS | SKIPPED | SKIPPED | +---------------------+--------------------+------------------+-------------------+-------------------+----------------------+ | RHEL9 | PASS | PASS | SKIPPED | SKIPPED | SKIPPED | +---------------------+--------------------+------------------+-------------------+-------------------+----------------------+ | Ubuntu 22.04 | PASS | PASS | PASS | SKIPPED | SKIPPED | +---------------------+--------------------+------------------+-------------------+-------------------+----------------------+ | Fedora 41 | PASS | PASS | PASS | SKIPPED | SKIPPED | +---------------------+--------------------+------------------+-------------------+-------------------+----------------------+ | openSUSE Leap 15 | PASS | SKIPPED | SKIPPED | SKIPPED | SKIPPED | +---------------------+--------------------+------------------+-------------------+-------------------+----------------------+ | Fedora 41 (Clang) | PASS | PASS | PASS | SKIPPED | SKIPPED | +---------------------+--------------------+------------------+-------------------+-------------------+----------------------+ | Ubuntu 20.04 | PASS | SKIPPED | SKIPPED | SKIPPED | SKIPPED | +---------------------+--------------------+------------------+-------------------+-------------------+----------------------+ | Fedora 40 | PASS | PASS | PASS | SKIPPED | SKIPPED | +---------------------+--------------------+------------------+-------------------+-------------------+----------------------+ | Ubuntu 24.04 | PASS | PASS | PASS | SKIPPED | SKIPPED | +---------------------+--------------------+------------------+-------------------+-------------------+----------------------+ | RHEL8 | PASS | PASS | SKIPPED | SKIPPED | SKIPPED | +---------------------+--------------------+------------------+-------------------+-------------------+----------------------+ | Alpine | PASS | PASS | SKIPPED | SKIPPED | SKIPPED | +---------------------+--------------------+------------------+-------------------+-------------------+----------------------+ | FreeBSD 13.4 | PASS | SKIPPED | SKIPPED | SKIPPED | SKIPPED | +---------------------+--------------------+------------------+-------------------+-------------------+----------------------+ | FreeBSD 14.2 | PASS | SKIPPED | SKIPPED | SKIPPED | SKIPPED | +---------------------+--------------------+------------------+-------------------+-------------------+----------------------+ | Debian Bullseye | PASS | PASS | PASS | SKIPPED | SKIPPED | +---------------------+--------------------+------------------+-------------------+-------------------+----------------------+ | Windows Server 2022 | SKIPPED | SKIPPED | SKIPPED | PASS | PASS | +---------------------+--------------------+------------------+-------------------+-------------------+----------------------+ Debian 12 Kernel: Depends on container host Compiler: gcc (Debian 12.2.0-14) 12.2.0 Fedora 40 (Clang) Kernel: Depends on container host Compiler: clang 18.1.8 (Fedora 18.1.8-1.fc40) CentOS Stream 9 Kernel: Depends on container host Compiler: gcc 11.5.0 20240719 (Red Hat 11.5.0-2) RHEL9 Kernel: Depends on container host Compiler: gcc 11.5.0 20240719 (Red Hat 11.5.0-2) Ubuntu 22.04 Kernel: Depends on container host Compiler: gcc (Ubuntu 11.4.0-1ubuntu1~22.04) 11.4.0 Fedora 41 Kernel: Depends on container host Compiler: gcc 14.2.1 20240912 (Red Hat 14.2.1-3) openSUSE Leap 15 Kernel: Depends on container host Compiler: gcc (SUSE Linux) 7.5.0 Fedora 41 (Clang) Kernel: Depends on container host Compiler: clang 19.1.5 (Fedora 19.1.5-1.fc41) Ubuntu 20.04 Kernel: Depends on container host Compiler: gcc (Ubuntu 9.4.0-1ubuntu1~20.04.2) 9.4.0 Fedora 40 Kernel: Depends on container host Compiler: gcc 14.2.1 20240912 (Red Hat 14.2.1-3) Ubuntu 24.04 Kernel: Depends on container host Compiler: gcc (Ubuntu 13.3.0-6ubuntu2~24.04) 13.3.0 RHEL8 Kernel: Depends on container host Compiler: gcc 8.5.0 20210514 (Red Hat 8.5.0-22) Alpine Kernel: Depends on container host Compiler: gcc (Alpine 14.2.0) 14.2.0 FreeBSD 13.4 Kernel: 13.4-RELEASE-p1 Compiler: clang 18.1.6 FreeBSD 14.2 Kernel: 14.2-RELEASE Compiler: clang 18.1.6 Debian Bullseye Kernel: Depends on container host Compiler: gcc (Debian 10.2.1-6) 10.2.1 20210110 Windows Server 2022 Kernel: 10.0.20348.2031 Compiler: clang 15.0.7, gcc 14.1.0 (MinGW), and MSVC VS 19.39.33521 To view detailed results, visit: https://lab.dpdk.org/results/dashboard/tarballs/32431/ UNH-IOL DPDK Community Lab To manage your email subscriptions, visit: https://lab.dpdk.org/results/dashboard/preferences/subscriptions/