From mboxrd@z Thu Jan 1 00:00:00 1970 Return-Path: Received: from mails.dpdk.org (mails.dpdk.org [217.70.189.124]) by inbox.dpdk.org (Postfix) with ESMTP id 2FCA14618C for ; Tue, 4 Feb 2025 10:51:54 +0100 (CET) Received: from mails.dpdk.org (localhost [127.0.0.1]) by mails.dpdk.org (Postfix) with ESMTP id 0A6FE40661; Tue, 4 Feb 2025 10:51:54 +0100 (CET) Received: from mail-pl1-f226.google.com (mail-pl1-f226.google.com [209.85.214.226]) by mails.dpdk.org (Postfix) with ESMTP id BD41640265 for ; Tue, 4 Feb 2025 10:51:52 +0100 (CET) Received: by mail-pl1-f226.google.com with SMTP id d9443c01a7336-21ddb406f32so5684005ad.2 for ; Tue, 04 Feb 2025 01:51:52 -0800 (PST) DKIM-Signature: v=1; a=rsa-sha256; c=relaxed/relaxed; d=iol.unh.edu; s=unh-iol; t=1738662712; x=1739267512; darn=dpdk.org; h=cc:to:from:subject:message-id:date:from:to:cc:subject:date :message-id:reply-to; bh=tLwbMYLUib2JKoRVv/VDHqGrDCRHmHlKo2Oy2bc4XB0=; b=EEjxVI5fIObF9oaFwZAH6ldo2K61ozhuzqGHbwEtN69JS2CKCEi+UFIsygZmrmQMFF 1380pan0xR+xkocKDqUCC8pGhbYnnjhXiWK6dZEdpQW1DYZqnH0Vk+AAQXh37eGVcCxD kXV5lfmAApITHZlVmbeeRpDgrmsnZKkSIjb00= X-Google-DKIM-Signature: v=1; a=rsa-sha256; c=relaxed/relaxed; d=1e100.net; s=20230601; t=1738662712; x=1739267512; h=cc:to:from:subject:message-id:date:x-gm-message-state:from:to:cc :subject:date:message-id:reply-to; bh=tLwbMYLUib2JKoRVv/VDHqGrDCRHmHlKo2Oy2bc4XB0=; b=iRLY+adxaFg/3guBxCE2QNAYBgrsI7aDFLAzQyWNeEB8s5VmGaxqH7jys9i1LbSGjs nBMJy5ojeVT9ErJRzuBBV64XEingCQhS8ewrgIFMWvCWhVTy/bKtDhhp3UkaKRZxPeWQ 3bGyzXq/i5YAEihJGShs4/3TxTvvHbF5IkSj1LlCTI6wjGZ/d2vTAAOdR74ytXiHiMrz 6PgHr8hdi43OYDCNdW48WbGVW5zJCJuWwRf3uQdADPvAmZhoAIftlIR6+GJkRNG6u/ui mJc8zye8rwXpyqC9KD+zf/5zQQWTGb+tSA/2Sp2q3EMmDpBg08LTNIjhKazM4ysWrQMa 4c0g== X-Gm-Message-State: AOJu0Yzjub4xYnhmyzAzIQ2N0XB8A+8zNzu82DrR72zDwuLzmPWfzSIv Ry/jtljWv/05oHM6LNym1RD5cNvnjFPbVbUrBzLIopVxpsLhIg+SnNORwAUCHS5/ZaYjHdzHCA/ jKquqZwi2Fl+0CfBaFej1dKNE3gN/g0Y1/8yMV2wY X-Gm-Gg: ASbGncsDwWpmCvh5t+1XIGRhn69Y8wuILbr21LBQptxwG/SMuaJFvQaRQaXsbass1Hv LwwQ9HH9d00O4/BQZ7/7qpk9gqZU8m0HPFl2YaUQ6y4MRH720rla/qeqZkOVRp1uCXItPxixcwQ hsnojMuBmvojh2RF1eI4398yVqZ5g7FvxR61fQNT6+Gve0PYSbw96JKK5smbsXZ68/UljMmwU8J iiy+Lqvn/PivH3KI4bj6LqVRXRGYLeIBS4KPsLYyNuafqtAROUZWYPWQDJ72dkQ+RroEPEkd9AF 8guyPUzi+vtxtSHclJVOWkoNSatlYg== X-Google-Smtp-Source: AGHT+IE293F76CiNIMMsCh7tx/+aT5ZKX1DtKZdPmUn0XDLV/Mcaw+osbzgD2T6Yv0wWmh03ALnNrahDJ+RY X-Received: by 2002:a17:903:11c3:b0:215:5625:885b with SMTP id d9443c01a7336-21dd7e3be5bmr405527545ad.52.1738662711756; Tue, 04 Feb 2025 01:51:51 -0800 (PST) Received: from postal.iol.unh.edu (postal.iol.unh.edu. [132.177.123.84]) by smtp-relay.gmail.com with ESMTPS id 98e67ed59e1d1-2f83bfda6d0sm812772a91.13.2025.02.04.01.51.51 (version=TLS1_2 cipher=ECDHE-ECDSA-AES128-GCM-SHA256 bits=128/128); Tue, 04 Feb 2025 01:51:51 -0800 (PST) X-Relaying-Domain: iol.unh.edu Date: Tue, 04 Feb 2025 01:51:51 -0800 (PST) Message-ID: <67a1e337.170a0220.166b6.9d62SMTPIN_ADDED_MISSING@mx.google.com> Received: from [172.17.0.5] (unknown [172.18.0.217]) by postal.iol.unh.edu (Postfix) with ESMTP id 3CBC16052471; Tue, 4 Feb 2025 04:51:50 -0500 (EST) Subject: |SUCCESS| [GIT MASTER] 61db62498cb01da9d7d5e50586f7f260954eecb2 From: dpdklab@iol.unh.edu To: Test Report Cc: dpdk-test-reports@iol.unh.edu, Stephen Hemminger Content-Type: text/plain X-BeenThere: test-report@dpdk.org X-Mailman-Version: 2.1.29 Precedence: list List-Id: automatic DPDK test reports List-Unsubscribe: , List-Archive: List-Post: List-Help: List-Subscribe: , Errors-To: test-report-bounces@dpdk.org _Testing PASS_ Branch: dpdk-next-net 61db62498cb01da9d7d5e50586f7f260954eecb2 --> testing pass Upstream job id: ACVP-FIPS-testing#8773 Test environment and result as below: +--------------------+----------------------+----------------------+ | Environment | compressdev_zlib_pmd | dpdk_fips_validation | +====================+======================+======================+ | Ubuntu 22.04 (ARM) | PASS | SKIPPED | +--------------------+----------------------+----------------------+ | Ubuntu 22.04 | PASS | SKIPPED | +--------------------+----------------------+----------------------+ | Ubuntu 20.04 | SKIPPED | PASS | +--------------------+----------------------+----------------------+ Ubuntu 22.04 (ARM) Kernel: 5.15.0-97-generic Compiler: gcc gcc (Ubuntu 11.4.0-1ubuntu1~22.04) 11.4.0 Ubuntu 22.04 Kernel: 5.15.0-100-generic Compiler: gcc gcc (Ubuntu 11.4.0-1ubuntu1~22.04) 11.4.0 Ubuntu 20.04 Kernel: Depends on container host Compiler: gcc (Ubuntu 9.4.0-1ubuntu1~20.04.2) 9.4.0 To view detailed results, visit: https://lab.dpdk.org/results/dashboard/tarballs/32433/ UNH-IOL DPDK Community Lab To manage your email subscriptions, visit: https://lab.dpdk.org/results/dashboard/preferences/subscriptions/