From mboxrd@z Thu Jan 1 00:00:00 1970 Return-Path: Received: from mails.dpdk.org (mails.dpdk.org [217.70.189.124]) by inbox.dpdk.org (Postfix) with ESMTP id B01A74618C for ; Tue, 4 Feb 2025 11:09:15 +0100 (CET) Received: from mails.dpdk.org (localhost [127.0.0.1]) by mails.dpdk.org (Postfix) with ESMTP id 8A0F340661; Tue, 4 Feb 2025 11:09:15 +0100 (CET) Received: from mail-ot1-f99.google.com (mail-ot1-f99.google.com [209.85.210.99]) by mails.dpdk.org (Postfix) with ESMTP id 181F540265 for ; Tue, 4 Feb 2025 11:09:14 +0100 (CET) Received: by mail-ot1-f99.google.com with SMTP id 46e09a7af769-71e565708beso2936113a34.1 for ; Tue, 04 Feb 2025 02:09:14 -0800 (PST) DKIM-Signature: v=1; a=rsa-sha256; c=relaxed/relaxed; d=iol.unh.edu; s=unh-iol; t=1738663753; x=1739268553; darn=dpdk.org; h=cc:to:from:subject:message-id:date:from:to:cc:subject:date :message-id:reply-to; bh=p0tXu3cexfXc5dSBoTwKkQbkeITYnCXqaQTt/aLjqp0=; b=Y1QDrNGRZsqmc05mr8Y2n6P4JaghGakRETfWh/SbCB+yOUXCwpbd2wNnKpDkJobxWY LHc0lv3vul0/E8I0TuNc//MaINo5gKkENoUQHmVr96O+Mb7v9VKbeZsY7mKVwPSIqfwu A16GLZc1R5leZ098/QImZI5NiYLODHtKMWivQ= X-Google-DKIM-Signature: v=1; a=rsa-sha256; c=relaxed/relaxed; d=1e100.net; s=20230601; t=1738663753; x=1739268553; h=cc:to:from:subject:message-id:date:x-gm-message-state:from:to:cc :subject:date:message-id:reply-to; bh=p0tXu3cexfXc5dSBoTwKkQbkeITYnCXqaQTt/aLjqp0=; b=tBGFBil7o9Q6u+8gCq8icvI8oxVzTaTpgyNZLpqpz/sj1o+ZPNSfCOYm8vTXMtJdbc MmMBx6M9Seb6nF6Gt6ZdlCIDk2zVjzNliseuHlUwTWlb0e1q4XML/fLif4c+Z8MpFLPK e3qjx4O4vJcvhnHhb18YC5yLxWcJT0qTWbekm7QOHlPK7L4GMPksOu7Tm73GOCYbDvyY qMMQRQIeihpxzEV01FhWhYDxz9RcKb11ZNoMM08BsF9eFta0GFRefJUir3jVK2xWQ1sQ b1rgfucRRH5AI8ru0R8TK5byt/i10Oe9T0cJz9GrtAYGqn9VQAxaQQfgHoQQfCtPSA/j xARA== X-Gm-Message-State: AOJu0Yx7DF7tnySqhPEuxVwqqNBC9hYNW90Lwx1UDi1rjKl+dsVUrfoN olPsF11TQCctjqoyfxieBYAzNj7l5+4bdeAJ9SmOS4DlKJqIO4e/c0/JoRBk+9N3nxFfcZHBj8i 84v7zwdYpULu+IlgommxG6pafWX+XAOjxNnVyX18t X-Gm-Gg: ASbGncuQ0MgxFpSVnOBfMWWGJwW4aHmZE5g2lod2NXvlD9YmQUDNfTFsMv/sQmB73Nt /AlVVucV77a6/YnyDH7PWn7NLlxtec/Qqb7d1CqKtbsXllefLva06zSYIk/5xRA3x+Gneet6ifZ IJ+QoznRUoGVcuKd8dMSdfHt2kGG3hcHk+1kABh1HeQekQkqgCE6lXSmKXF5a7yqY/ayX1Yi07u dEAyNbZ2MZ5zOrrMmnZ8VdFZ0QDRVRCFOkzOj0EfcNCDYltcJhOKTLDMo7kuzzCg/V+pDZ6YFA/ PjcyCoZmnHH38GHUGdW/xliJTf6YEA== X-Google-Smtp-Source: AGHT+IH5E99Xz/hGqM27BiuJjhO04zFVyjx6/TJpTjFmoHJ9l7jfn3eyJV4xVYKu2th0TBL1AU05GWkTbxvr X-Received: by 2002:a05:6830:2a0f:b0:71d:4a91:9204 with SMTP id 46e09a7af769-726568f197amr18131524a34.26.1738663753164; Tue, 04 Feb 2025 02:09:13 -0800 (PST) Received: from postal.iol.unh.edu (postal.iol.unh.edu. [132.177.123.84]) by smtp-relay.gmail.com with ESMTPS id 586e51a60fabf-2b356196129sm802102fac.10.2025.02.04.02.09.13 (version=TLS1_2 cipher=ECDHE-ECDSA-AES128-GCM-SHA256 bits=128/128); Tue, 04 Feb 2025 02:09:13 -0800 (PST) X-Relaying-Domain: iol.unh.edu Date: Tue, 04 Feb 2025 02:09:13 -0800 (PST) Message-ID: <67a1e749.050a0220.24fa3c.55b7SMTPIN_ADDED_MISSING@mx.google.com> Received: from [172.17.0.4] (unknown [172.18.0.217]) by postal.iol.unh.edu (Postfix) with ESMTP id 656336052471; Tue, 4 Feb 2025 05:09:12 -0500 (EST) Subject: |SUCCESS| [GIT MASTER] 61db62498cb01da9d7d5e50586f7f260954eecb2 From: dpdklab@iol.unh.edu To: Test Report Cc: dpdk-test-reports@iol.unh.edu, Stephen Hemminger Content-Type: text/plain X-BeenThere: test-report@dpdk.org X-Mailman-Version: 2.1.29 Precedence: list List-Id: automatic DPDK test reports List-Unsubscribe: , List-Archive: List-Post: List-Help: List-Subscribe: , Errors-To: test-report-bounces@dpdk.org _Testing PASS_ Branch: dpdk-next-net 61db62498cb01da9d7d5e50586f7f260954eecb2 --> testing pass Upstream job id: Generic-DPDK-Compile-Meson#357545 Test environment and result as below: +---------------------+--------------------+------------------+-------------------+-------------------+----------------------+ | Environment | dpdk_meson_compile | dpdk_compile_ovs | dpdk_compile_spdk | dpdk_msvc_compile | dpdk_mingw64_compile | +=====================+====================+==================+===================+===================+======================+ | CentOS Stream 9 | PASS | PASS | PASS | SKIPPED | SKIPPED | +---------------------+--------------------+------------------+-------------------+-------------------+----------------------+ | Debian Bullseye | PASS | PASS | PASS | SKIPPED | SKIPPED | +---------------------+--------------------+------------------+-------------------+-------------------+----------------------+ | Debian 12 | PASS | PASS | PASS | SKIPPED | SKIPPED | +---------------------+--------------------+------------------+-------------------+-------------------+----------------------+ | Fedora 40 (Clang) | PASS | PASS | PASS | SKIPPED | SKIPPED | +---------------------+--------------------+------------------+-------------------+-------------------+----------------------+ | Fedora 40 | PASS | PASS | PASS | SKIPPED | SKIPPED | +---------------------+--------------------+------------------+-------------------+-------------------+----------------------+ | Fedora 41 (Clang) | PASS | PASS | PASS | SKIPPED | SKIPPED | +---------------------+--------------------+------------------+-------------------+-------------------+----------------------+ | Fedora 41 | PASS | PASS | PASS | SKIPPED | SKIPPED | +---------------------+--------------------+------------------+-------------------+-------------------+----------------------+ | openSUSE Leap 15 | PASS | SKIPPED | SKIPPED | SKIPPED | SKIPPED | +---------------------+--------------------+------------------+-------------------+-------------------+----------------------+ | RHEL8 | PASS | PASS | SKIPPED | SKIPPED | SKIPPED | +---------------------+--------------------+------------------+-------------------+-------------------+----------------------+ | RHEL9 | PASS | PASS | SKIPPED | SKIPPED | SKIPPED | +---------------------+--------------------+------------------+-------------------+-------------------+----------------------+ | Ubuntu 20.04 | PASS | SKIPPED | SKIPPED | SKIPPED | SKIPPED | +---------------------+--------------------+------------------+-------------------+-------------------+----------------------+ | Ubuntu 24.04 | PASS | PASS | PASS | SKIPPED | SKIPPED | +---------------------+--------------------+------------------+-------------------+-------------------+----------------------+ | Alpine | PASS | PASS | SKIPPED | SKIPPED | SKIPPED | +---------------------+--------------------+------------------+-------------------+-------------------+----------------------+ | FreeBSD 13.4 | PASS | SKIPPED | SKIPPED | SKIPPED | SKIPPED | +---------------------+--------------------+------------------+-------------------+-------------------+----------------------+ | FreeBSD 14.2 | PASS | SKIPPED | SKIPPED | SKIPPED | SKIPPED | +---------------------+--------------------+------------------+-------------------+-------------------+----------------------+ | Ubuntu 22.04 | PASS | PASS | PASS | SKIPPED | SKIPPED | +---------------------+--------------------+------------------+-------------------+-------------------+----------------------+ | Windows Server 2022 | SKIPPED | SKIPPED | SKIPPED | PASS | PASS | +---------------------+--------------------+------------------+-------------------+-------------------+----------------------+ CentOS Stream 9 Kernel: Depends on container host Compiler: gcc 11.5.0 20240719 (Red Hat 11.5.0-2) Debian Bullseye Kernel: Depends on container host Compiler: gcc (Debian 10.2.1-6) 10.2.1 20210110 Debian 12 Kernel: Depends on container host Compiler: gcc (Debian 12.2.0-14) 12.2.0 Fedora 40 (Clang) Kernel: Depends on container host Compiler: clang 18.1.8 (Fedora 18.1.8-1.fc40) Fedora 40 Kernel: Depends on container host Compiler: gcc 14.2.1 20240912 (Red Hat 14.2.1-3) Fedora 41 (Clang) Kernel: Depends on container host Compiler: clang 19.1.5 (Fedora 19.1.5-1.fc41) Fedora 41 Kernel: Depends on container host Compiler: gcc 14.2.1 20240912 (Red Hat 14.2.1-3) openSUSE Leap 15 Kernel: Depends on container host Compiler: gcc (SUSE Linux) 7.5.0 RHEL8 Kernel: Depends on container host Compiler: gcc 8.5.0 20210514 (Red Hat 8.5.0-22) RHEL9 Kernel: Depends on container host Compiler: gcc 11.5.0 20240719 (Red Hat 11.5.0-2) Ubuntu 20.04 Kernel: Depends on container host Compiler: gcc (Ubuntu 9.4.0-1ubuntu1~20.04.2) 9.4.0 Ubuntu 24.04 Kernel: Depends on container host Compiler: gcc (Ubuntu 13.3.0-6ubuntu2~24.04) 13.3.0 Alpine Kernel: Depends on container host Compiler: gcc (Alpine 14.2.0) 14.2.0 FreeBSD 13.4 Kernel: 13.4-RELEASE-p1 Compiler: clang 18.1.6 FreeBSD 14.2 Kernel: 14.2-RELEASE Compiler: clang 18.1.6 Ubuntu 22.04 Kernel: Depends on container host Compiler: gcc (Ubuntu 11.4.0-1ubuntu1~22.04) 11.4.0 Windows Server 2022 Kernel: 10.0.20348.2031 Compiler: clang 15.0.7, gcc 14.1.0 (MinGW), and MSVC VS 19.39.33521 To view detailed results, visit: https://lab.dpdk.org/results/dashboard/tarballs/32433/ UNH-IOL DPDK Community Lab To manage your email subscriptions, visit: https://lab.dpdk.org/results/dashboard/preferences/subscriptions/